{"text_format":"1","workbook":"xlsx","n_sheets":24,"sheets":["学校情報入力","設定情報","青森県高等学校住所一覧","昨年度登録データ","男子部員名簿","女子部員名簿","男子登録用紙","女子登録用紙","男子登録票（協会用）","女子登録票（協会用）","春季地区予選男子エントリー用紙","春季地区予選女子エントリー用紙","県春季男子エントリー用紙","県春季女子エントリー用紙","総体男子団体エントリー用紙","総体女子団体エントリー用紙","総体男子個人戦エントリー用紙","総体女子個人戦エントリー用紙","新人戦地区予選男子エントリー用紙","新人戦地区予選女子エントリー用紙","新人戦男子エントリー用紙","新人戦女子エントリー用紙","室内男子エントリー用紙","室内女子エントリー用紙"],"not_rendered":{"charts":0,"images":0,"macros":1,"external_links":0,"defined_names":20,"comments":0,"pivot_tables":0},"unopened":[],"bounds":{"document_bytes":16777216,"sheet_cells":100000,"rows_first":2000,"rows_last":500,"rows_between":2000,"halvings":0,"cell_chars":16384,"cell_head_chars":4096},"cells_cut":0,"cells_raw":0,"read":"whole","date_system":"1900"}

{"sheet":"学校情報入力","index":0,"n_rows":28,"n_cols":7,"rows_kept":28,"cut":false,"hidden":false,"merged":[[0,1,0,2],[2,1,2,2],[3,1,3,2],[4,1,4,2],[6,1,6,2],[5,1,5,2],[1,1,1,2]]}
["学校名"]
["男女別"]
["郵便番号",{"$f":"VLOOKUP(B$1,青森県高等学校住所一覧!$A$2:$E$79,2,0)","v":{"$error":"#N/A"}}]
["所在地",{"$f":"VLOOKUP(B$1,青森県高等学校住所一覧!$A$2:$E$79,3,0)","v":{"$error":"#N/A"}}]
["TEL",{"$f":"VLOOKUP(B$1,青森県高等学校住所一覧!$A$2:$E$79,4,0)","v":{"$error":"#N/A"}}]
["FAX",{"$f":"VLOOKUP(B$1,青森県高等学校住所一覧!$A$2:$E$79,5,0)","v":{"$error":"#N/A"}}]
["略名",{"$f":"VLOOKUP(B$1,青森県高等学校住所一覧!$A$2:$F$79,6,0)","v":{"$error":"#N/A"}},null,"　　　　　この機能は現在使えなくなっています。"]
[null,null,null,"　　　　　（個人情報保護のため）"]
[]
["男子顧問","氏名","郵便番号","現住所","メールアドレス（主連絡用）","メールアドレス（補助）","携帯電話"]
[1]
[2]
[3]
[]
["女子顧問","氏名","郵便番号","現住所","メールアドレス（主連絡用）","メールアドレス（補助）","携帯電話"]
[1]
[2]
[3]
[]
["引率責任者","男　子","女　子"]
[1]
[2]
[3]
[]
["監督名","男　子","女　子"]
[1]
[2]
[3]

{"sheet":"設定情報","index":1,"n_rows":8,"n_cols":2,"rows_kept":8,"cut":false,"hidden":true,"merged":[]}
["年度起算日","2022-04-01"]
["県春季申込期限","2022-05-05"]
["総体申込期限","2022-05-24"]
["新人戦申込期限","2022-09-06"]
["室内申込期限","2022-12-13"]
[]
["高体連委員長メール","nakabori-satoshi@m02.asn.ed.jp"]
["青森県テニス協会メール","aomoriken-tennis@round-usa-5166.hiho.jp"]

{"sheet":"青森県高等学校住所一覧","index":2,"n_rows":79,"n_cols":7,"rows_kept":79,"cut":false,"hidden":true,"merged":[]}
["学校名","郵便番号","住所","電話番号","FAX番号","略名","所属_ID"]
["青森県立青森高等学校","030-0945","青森市桜川八丁目1の2","017-742-2411","017-742-6074","青　森","AM3905"]
["青森県立青森西高等学校","038-0042","青森市新城平岡266の20","017-788-0372","017-788-4411","青森西","AM3907"]
["青森県立青森東高等学校","030-0921","青森市原別三丁目1の1","017-736-2440","017-736-3091","青森東","AM3906"]
["青森県立青森東高等学校平内校舎","039-3321","東津軽郡平内町小湊新道46の26","017-755-2333","017-755-4040","平内校舎"]
["青森県立青森北高等学校","038-0058","青森市羽白富田80の7","017-788-2893","017-787-2024","青森北","AM3909"]
["青森県立青森北高等学校今別校舎","030-1502","東津軽郡今別町今別西田258","0174-35-2024","0174-35-2752","今別校舎"]
["青森県立青森南高等学校","030-0856","青森市西大野二丁目12の40","017-739-3421","017-739-8373","青森南","AM3908"]
["青森県立青森中央高等学校","030-0847","青森市東大野一丁目22の1","017-739-5135","017-729-3488","青中央","AM3910"]
["青森県立浪岡高等学校","038-1311","青森市浪岡浪岡稲村101の2","0172-62-4051","0172-62-1556","浪　岡","AM3965"]
["青森県立青森工業高等学校","039-3507","青森市馬屋尻清水流204の１","017-737-3600","017-737-3601","青森工","AM3911"]
["青森県立青森商業高等学校","030-0951","青森市戸山安原7の1","017-765-6030","017-765-6031","青森商","AM3912"]
["青森県立五所川原高等学校","037-0066","五所川原市中平井町3の3","0173-35-3073","0173-34-6710","五所原","AM3897"]
["青森県立金木高等学校","037-0202","五所川原市金木町芦野200の403","0173-53-2079","0173-53-2421","金　木"]
["青森県立木造高等学校","038-3193","つがる市木造日向73の2","0173-42-2066","0173-42-5189","木　造","AM3898"]
["青森県立木造高等学校深浦校舎","038-2321","西津軽郡深浦町広戸家野上95の157","0173-74-2921","0173-74-2922","深浦校舎"]
["青森県立鰺ヶ沢高等学校","038-2761","西津軽郡鰺ヶ沢町舞戸町小夜72","0173-72-2106","0173-72-2510","鰺ヶ沢"]
["青森県立板柳高等学校","038-3642","北津軽郡板柳町太田西上林46","0172-73-2166","0172-73-2279","板　柳"]
["青森県立鶴田高等学校","038-3503","北津軽郡鶴田町鶴田小泉369の1","0173-22-3251","0173-22-6196","鶴　田","AM3918"]
["青森県立中里高等学校","037-0303","北津軽郡中泊町高根小金石567","0173-58-3149","0173-58-3250","中　里"]
["青森県立五所川原農林高等学校","037-0093","五所川原市一野坪朝日田12の37","0173-37-2121","0173-37-2123","五所農"]
["青森県立五所川原工科高等学校","037-0035","五所川原市湊船越192","0173-35-3444","0173-35-3445","五所工","AM4010"]
["青森県立弘前高等学校","036-8558","弘前市新寺町1の1","0172-32-0251","0172-32-3227","弘　前","AM3900"]
["青森県立弘前中央高等学校","036-8550","弘前市蔵主町7の1","0172-35-5000","0172-32-1659","弘中央","AM3903"]
["青森県立弘前南高等学校","036-8247","弘前市大開四丁目1の1","0172-88-2231","0172-88-2232","弘前南","AM3904"]
["青森県立黒石高等学校","036-0388","黒石市西ヶ丘65","0172-52-4321","0172-52-2915","黒　石"]
["青森県立尾上総合高等学校","036-0211","平川市高木松元7の6","0172-57-3500","0172-57-5527","尾上総"]
["青森県立柏木農業高等学校","036-0112","平川市荒田上駒田130","0172-44-3015","0172-44-2242","柏木農"]
["青森県立弘前工業高等学校","036-8585","弘前市馬屋町6の2","0172-32-6241","0172-32-6242","弘前工","AM3901"]
["青森県立弘前実業高等学校","036-8155","弘前市中野三丁目6の10","0172-32-7151","0172-37-2935","弘前実"]
["青森県立弘前実業高等学校藤崎校舎","038-3802","南津軽郡藤崎町藤崎下袋7の10","0172-75-3332","0172-75-3334","藤崎校舎"]
["青森県立黒石商業高等学校","036-0321","黒石市あけぼの町97の2","0172-52-3215","0172-53-6287","黒石商"]
["青森県立三本木高等学校","034-0085","十和田市西五番町7の1","0176-23-4181","0176-25-3868","三本木","AM3917"]
["青森県立十和田西高等学校","034-0302","十和田市沢田下洗53の3","0176-73-2929","0176-73-2323","十和西","AM3896"]
["青森県立三沢高等学校","033-0037","三沢市松園町一丁目1","0176-53-2168","0176-53-2169","三　沢","AM3895"]
["青森県立野辺地高等学校","039-3157","上北郡野辺地町松ノ木106の1","0175-64-2266","0175-64-8011","野辺地","AM3962"]
["青森県立七戸高等学校","039-2516","上北郡七戸町舘野47の31","0176-62-4111","0176-62-4112","七　戸"]
["青森県立百石高等学校","039-2223","上北郡おいらせ町苗平谷地46","0178-52-2088","0178-52-8315","百　石"]
["青森県立六戸高等学校","039-2371","上北郡六戸町犬落瀬坪毛沢25の163","0176-55-3451","0176-55-3890","六　戸"]
["青森県立六ヶ所高等学校","039-3215","上北郡六ヶ所村倉内笹崎305","0175-74-2304","0175-74-2377","六ヶ所"]
["青森県立三本木農業恵拓高等学校","034-8578","十和田市相坂高清水78の92","0176-23-5341","0176-23-2141","三　農"]
["青森県立十和田工業高等学校","034-0001","十和田市三本木下平215の1","0176-23-6178","0176-23-6771","十和工","AM3964"]
["青森県立三沢商業高等学校","033-0053","三沢市春日台二丁目154","0176-53-2880","0176-53-7825","三沢商"]
["青森県立田名部高等学校","035-0054","むつ市海老川町6の18","0175-22-1184","0175-23-7233","田名部","AM3959"]
["青森県立大湊高等学校","035-0096","むつ市大湊大近川44の84","0175-24-1244","0175-24-2680","大　湊","AM3960"]
["青森県立大湊高等学校川内校舎","039-5201","むつ市川内町家ノ上48","0175-42-2214","0175-42-2950","川内校舎"]
["青森県立大間高等学校","039-4601","下北郡大間町大間大間平20の43","0175-37-2109","0175-37-2116","大　間","AM3961"]
["青森県立むつ工業高等学校","035-0082","むつ市文京町22の7","0175-24-2164","0175-29-2893","むつ工","AM3899"]
["青森県立八戸高等学校","031-0021","八戸市長者四丁目4の1","0178-44-0916","0178-47-9361","八　戸","AM3890"]
["青森県立八戸東高等学校","031-0001","八戸市類家一丁目4の47","0178-43-0262","0178-43-4870","八戸東","AM3891"]
["青森県立八戸北高等学校","031-0833","八戸市大久保町道8の3","0178-33-0810","0178-33-2439","八戸北","AM3892"]
["青森県立八戸西高等学校","039-1101","八戸市尻内町中根市14","0178-27-5365","0178-27-5366","八戸西","AM3916"]
["青森県立五戸高等学校","039-1569","三戸郡五戸町根岸6","0178-62-2828","0178-62-2473","五　戸"]
["青森県立三戸高等学校","039-0141","三戸郡三戸町川守田白坂ノ上3の1","0179-22-2148","0179-22-2149","三　戸"]
["青森県立田子高等学校","039-0202","三戸郡田子町相米蝦夷舘1の1","0179-32-2134","0179-32-4117","田　子"]
["青森県立名久井農業高等学校","039-0502","三戸郡南部町下名久井下諏訪平1","0178-76-2215","0178-76-2234","名　農"]
["青森県立八戸水産高等学校","031-0822","八戸市白銀町人形沢6の1","0178-33-0023","0178-33-7559","八戸水"]
["青森県立八戸工業高等学校","031-0801","八戸市江陽一丁目2の27","0178-22-7348","0178-43-2653","八戸工","AM3954"]
["青森県立八戸商業高等学校","031-0012","八戸市十日市塚ノ下3の1","0178-96-5001","0178-96-6200","八戸商"]
["青森県立北斗高等学校","030-0813","青森市松原二丁目1の24","017-734-4464","017-774-1047","北　斗"]
["青森県立八戸中央高等学校","031-0803","八戸市諏訪一丁目2の17","0178-22-2751","0178-43-1588","八中央"]
["青森県立金木高等学校市浦分校","037-0404","五所川原市磯松赤川3の42","0173-62-3162","0173-62-3162","市浦分校"]
["東奥学園高等学校","030-0821","青森市勝田二丁目11の1","017-775-2121","017-775-2137","東奥学","AM3914"]
["青森山田高等学校","030-8520","青森市青葉三丁目13の40","017-739-2001","017-739-1950","青山田","AM3913"]
["青森明の星高等学校","030-0961","青森市浪打二丁目6の32","017-741-0121","017-741-0149","明の星","AM3915"]
["松風塾高等学校","039-3351","東津軽郡平内町外童子滝ノ沢37","017-756-2817","017-756-2738","松風塾"]
["五所川原第一高等学校","037-0044","五所川原市元町42","0173-34-2347","0173-35-7829","五所一","AM4011"]
["五所川原商業高等学校","037-0004","五所川原市唐笠柳藤巻80","0173-35-5151","0173-34-5151","五所商"]
["東奥義塾高等学校","036-8124","弘前市石川長者森61の1","0172-92-4111","0172-92-4116","東　義","AM3958"]
["弘前学院聖愛高等学校","036-8144","弘前市原ヶ平山元112の21","0172-87-1411","0172-87-1413","聖　愛","AM3902"]
["柴田女子高等学校","036-8154","弘前市豊原一丁目2の1","0172-32-0135","0172-32-9456","柴田女"]
["弘前東高等学校","036-8103","弘前市川先四丁目4の1","0172-27-6487","0172-28-0624","弘前東","AM3919"]
["八戸学院野辺地西高等学校","039-3156","上北郡野辺地町枇杷野51の6","0175-64-4166","0175-64-6220","野辺西"]
["千葉学園高等学校","031-0001","八戸市類家一丁目1の11","0178-43-4321","0178-43-8898","千　葉","AM3893"]
["八戸聖ウルスラ学院高等学校","039-1104","八戸市田面木上野平53の2","0178-27-2245","0178-27-2172","ウルスラ"]
["八戸学院光星高等学校","031-8507","八戸市湊高台六丁目14の5","0178-33-4151","0178-35-2859","光　星"]
["向陵高等学校","031-0011","八戸市田向間の田30","0178-44-3866","0178-43-9077","向　陵"]
["八戸工業大学第一高等学校","031-0822","八戸市白銀町右岩淵通7の10","0178-33-5121","0178-34-3942","工大一"]
["八戸工業大学第二高等学校","031-8505","八戸市妙大開67","0178-25-4311","0178-25-0568","工大二","AM3894"]

{"sheet":"昨年度登録データ","index":3,"n_rows":1,"n_cols":18,"rows_kept":1,"cut":false,"hidden":true,"merged":[]}
["Memberid","Clubnumber","MembershipType","Prefecture","Prefecturememberid","Birthdate","Gender","Lastname","Firstname","Lastname_kana","Firstname_kana","Lastname_alphabet","Firstname_alphabet","Country","IPIN","Email","School","Grade"]

{"sheet":"男子部員名簿","index":4,"n_rows":101,"n_cols":14,"rows_kept":101,"cut":false,"hidden":false,"merged":[]}
["No","県ＩＤ","学年","組","姓","名","フリガナ（姓）","フリガナ（名）","生年月日(西暦)","年齢","保護者名・印","現住所","TEL",{"$f":"COUNTIF($N$2:$N$97,TRUE)","v":0}]
[1,null,null,null,null,null,null,null,null,{"$f":"IF($I2=\"\",\"\",DATEDIF(I2,設定情報!$B$1,\"Y\"))","v":""},null,null,null,{"$f":"AND(C2<>\"\",E2<>\"\",F2<>\"\",G2<>\"\",H2<>\"\",I2<>\"\")","v":false}]
[2,null,null,null,null,null,null,null,null,{"$f":"IF($I3=\"\",\"\",DATEDIF(I3,設定情報!$B$1,\"Y\"))","v":""},null,null,null,{"$f":"AND(C3<>\"\",E3<>\"\",F3<>\"\",G3<>\"\",H3<>\"\",I3<>\"\")","v":false}]
[3,null,null,null,null,null,null,null,null,{"$f":"IF($I4=\"\",\"\",DATEDIF(I4,設定情報!$B$1,\"Y\"))","v":""},null,null,null,false]
[4,null,null,null,null,null,null,null,null,{"$f":"IF($I5=\"\",\"\",DATEDIF(I5,設定情報!$B$1,\"Y\"))","v":""},null,null,null,false]
[5,null,null,null,null,null,null,null,null,{"$f":"IF($I6=\"\",\"\",DATEDIF(I6,設定情報!$B$1,\"Y\"))","v":""},null,null,null,false]
[6,null,null,null,null,null,null,null,null,{"$f":"IF($I7=\"\",\"\",DATEDIF(I7,設定情報!$B$1,\"Y\"))","v":""},null,null,null,false]
[7,null,null,null,null,null,null,null,null,{"$f":"IF($I8=\"\",\"\",DATEDIF(I8,設定情報!$B$1,\"Y\"))","v":""},null,null,null,false]
[8,null,null,null,null,null,null,null,null,{"$f":"IF($I9=\"\",\"\",DATEDIF(I9,設定情報!$B$1,\"Y\"))","v":""},null,null,null,{"$f":"AND(C9<>\"\",E9<>\"\",F9<>\"\",G9<>\"\",H10<>\"\",I9<>\"\")","v":false}]
[9,null,null,null,null,null,null,null,null,{"$f":"IF($I10=\"\",\"\",DATEDIF(I10,設定情報!$B$1,\"Y\"))","v":""},null,null,null,{"$f":"AND(C10<>\"\",E10<>\"\",F10<>\"\",G10<>\"\",#REF!<>\"\",I10<>\"\")","v":{"$error":"#REF!"}}]
[10,null,null,null,null,null,null,null,null,{"$f":"IF($I11=\"\",\"\",DATEDIF(I11,設定情報!$B$1,\"Y\"))","v":""},null,null,null,false]
[11,null,null,null,null,null,null,null,null,{"$f":"IF($I12=\"\",\"\",DATEDIF(I12,設定情報!$B$1,\"Y\"))","v":""},null,null,null,false]
[12,null,null,null,null,null,null,null,null,{"$f":"IF($I13=\"\",\"\",DATEDIF(I13,設定情報!$B$1,\"Y\"))","v":""},null,null,null,false]
[13,null,null,null,null,null,null,null,null,{"$f":"IF($I14=\"\",\"\",DATEDIF(I14,設定情報!$B$1,\"Y\"))","v":""},null,null,null,false]
[14,null,null,null,null,null,null,null,null,{"$f":"IF($I15=\"\",\"\",DATEDIF(I15,設定情報!$B$1,\"Y\"))","v":""},null,null,null,false]
[15,null,null,null,null,null,null,null,null,{"$f":"IF($I16=\"\",\"\",DATEDIF(I16,設定情報!$B$1,\"Y\"))","v":""},null,null,null,false]
[16,null,null,null,null,null,null,null,null,{"$f":"IF($I17=\"\",\"\",DATEDIF(I17,設定情報!$B$1,\"Y\"))","v":""},null,null,null,false]
[17,null,null,null,null,null,null,null,null,{"$f":"IF($I18=\"\",\"\",DATEDIF(I18,設定情報!$B$1,\"Y\"))","v":""},null,null,null,false]
[18,null,null,null,null,null,null,null,null,{"$f":"IF($I19=\"\",\"\",DATEDIF(I19,設定情報!$B$1,\"Y\"))","v":""},null,null,null,false]
[19,null,null,null,null,null,null,null,null,{"$f":"IF($I20=\"\",\"\",DATEDIF(I20,設定情報!$B$1,\"Y\"))","v":""},null,null,null,false]
[20,null,null,null,null,null,null,null,null,{"$f":"IF($I21=\"\",\"\",DATEDIF(I21,設定情報!$B$1,\"Y\"))","v":""},null,null,null,false]
[21,null,null,null,null,null,null,null,null,{"$f":"IF($I22=\"\",\"\",DATEDIF(I22,設定情報!$B$1,\"Y\"))","v":""},null,null,null,false]
[22,null,null,null,null,null,null,null,null,{"$f":"IF($I23=\"\",\"\",DATEDIF(I23,設定情報!$B$1,\"Y\"))","v":""},null,null,null,false]
[23,null,null,null,null,null,null,null,null,{"$f":"IF($I24=\"\",\"\",DATEDIF(I24,設定情報!$B$1,\"Y\"))","v":""},null,null,null,false]
[24,null,null,null,null,null,null,null,null,{"$f":"IF($I25=\"\",\"\",DATEDIF(I25,設定情報!$B$1,\"Y\"))","v":""},null,null,null,false]
[25,null,null,null,null,null,null,null,null,{"$f":"IF($I26=\"\",\"\",DATEDIF(I26,設定情報!$B$1,\"Y\"))","v":""},null,null,null,false]
[26,null,null,null,null,null,null,null,null,{"$f":"IF($I27=\"\",\"\",DATEDIF(I27,設定情報!$B$1,\"Y\"))","v":""},null,null,null,false]
[27,null,null,null,null,null,null,null,null,{"$f":"IF($I28=\"\",\"\",DATEDIF(I28,設定情報!$B$1,\"Y\"))","v":""},null,null,null,false]
[28,null,null,null,null,null,null,null,null,{"$f":"IF($I29=\"\",\"\",DATEDIF(I29,設定情報!$B$1,\"Y\"))","v":""},null,null,null,false]
[29,null,null,null,null,null,null,null,null,{"$f":"IF($I30=\"\",\"\",DATEDIF(I30,設定情報!$B$1,\"Y\"))","v":""},null,null,null,false]
[30,null,null,null,null,null,null,null,null,{"$f":"IF($I31=\"\",\"\",DATEDIF(I31,設定情報!$B$1,\"Y\"))","v":""},null,null,null,false]
[31,null,null,null,null,null,null,null,null,{"$f":"IF($I32=\"\",\"\",DATEDIF(I32,設定情報!$B$1,\"Y\"))","v":""},null,null,null,false]
[32,null,null,null,null,null,null,null,null,{"$f":"IF($I33=\"\",\"\",DATEDIF(I33,設定情報!$B$1,\"Y\"))","v":""},null,null,null,false]
[33,null,null,null,null,null,null,null,null,{"$f":"IF($I34=\"\",\"\",DATEDIF(I34,設定情報!$B$1,\"Y\"))","v":""},null,null,null,false]
[34,null,null,null,null,null,null,null,null,{"$f":"IF($I35=\"\",\"\",DATEDIF(I35,設定情報!$B$1,\"Y\"))","v":""},null,null,null,false]
[35,null,null,null,null,null,null,null,null,{"$f":"IF($I36=\"\",\"\",DATEDIF(I36,設定情報!$B$1,\"Y\"))","v":""},null,null,null,false]
[36,null,null,null,null,null,null,null,null,{"$f":"IF($I37=\"\",\"\",DATEDIF(I37,設定情報!$B$1,\"Y\"))","v":""},null,null,null,false]
[37,null,null,null,null,null,null,null,null,{"$f":"IF($I38=\"\",\"\",DATEDIF(I38,設定情報!$B$1,\"Y\"))","v":""},null,null,null,false]
[38,null,null,null,null,null,null,null,null,{"$f":"IF($I39=\"\",\"\",DATEDIF(I39,設定情報!$B$1,\"Y\"))","v":""},null,null,null,false]
[39,null,null,null,null,null,null,null,null,{"$f":"IF($I40=\"\",\"\",DATEDIF(I40,設定情報!$B$1,\"Y\"))","v":""},null,null,null,false]
[40,null,null,null,null,null,null,null,null,{"$f":"IF($I41=\"\",\"\",DATEDIF(I41,設定情報!$B$1,\"Y\"))","v":""},null,null,null,false]
[41,null,null,null,null,null,null,null,null,{"$f":"IF($I42=\"\",\"\",DATEDIF(I42,設定情報!$B$1,\"Y\"))","v":""},null,null,null,false]
[42,null,null,null,null,null,null,null,null,{"$f":"IF($I43=\"\",\"\",DATEDIF(I43,設定情報!$B$1,\"Y\"))","v":""},null,null,null,false]
[43,null,null,null,null,null,null,null,null,{"$f":"IF($I44=\"\",\"\",DATEDIF(I44,設定情報!$B$1,\"Y\"))","v":""},null,null,null,false]
[44,null,null,null,null,null,null,null,null,{"$f":"IF($I45=\"\",\"\",DATEDIF(I45,設定情報!$B$1,\"Y\"))","v":""},null,null,null,false]
[45,null,null,null,null,null,null,null,null,{"$f":"IF($I46=\"\",\"\",DATEDIF(I46,設定情報!$B$1,\"Y\"))","v":""},null,null,null,false]
[46,null,null,null,null,null,null,null,null,{"$f":"IF($I47=\"\",\"\",DATEDIF(I47,設定情報!$B$1,\"Y\"))","v":""},null,null,null,false]
[47,null,null,null,null,null,null,null,null,{"$f":"IF($I48=\"\",\"\",DATEDIF(I48,設定情報!$B$1,\"Y\"))","v":""},null,null,null,false]
[48,null,null,null,null,null,null,null,null,{"$f":"IF($I49=\"\",\"\",DATEDIF(I49,設定情報!$B$1,\"Y\"))","v":""},null,null,null,false]
[49,null,null,null,null,null,null,null,null,{"$f":"IF($I50=\"\",\"\",DATEDIF(I50,設定情報!$B$1,\"Y\"))","v":""},null,null,null,false]
[50,null,null,null,null,null,null,null,null,{"$f":"IF($I51=\"\",\"\",DATEDIF(I51,設定情報!$B$1,\"Y\"))","v":""},null,null,null,false]
[51,null,null,null,null,null,null,null,null,{"$f":"IF($I52=\"\",\"\",DATEDIF(I52,設定情報!$B$1,\"Y\"))","v":""},null,null,null,false]
[52,null,null,null,null,null,null,null,null,{"$f":"IF($I53=\"\",\"\",DATEDIF(I53,設定情報!$B$1,\"Y\"))","v":""},null,null,null,false]
[53,null,null,null,null,null,null,null,null,{"$f":"IF($I54=\"\",\"\",DATEDIF(I54,設定情報!$B$1,\"Y\"))","v":""},null,null,null,false]
[54,null,null,null,null,null,null,null,null,{"$f":"IF($I55=\"\",\"\",DATEDIF(I55,設定情報!$B$1,\"Y\"))","v":""},null,null,null,false]
[55,null,null,null,null,null,null,null,null,{"$f":"IF($I56=\"\",\"\",DATEDIF(I56,設定情報!$B$1,\"Y\"))","v":""},null,null,null,false]
[56,null,null,null,null,null,null,null,null,{"$f":"IF($I57=\"\",\"\",DATEDIF(I57,設定情報!$B$1,\"Y\"))","v":""},null,null,null,false]
[57,null,null,null,null,null,null,null,null,{"$f":"IF($I58=\"\",\"\",DATEDIF(I58,設定情報!$B$1,\"Y\"))","v":""},null,null,null,false]
[58,null,null,null,null,null,null,null,null,{"$f":"IF($I59=\"\",\"\",DATEDIF(I59,設定情報!$B$1,\"Y\"))","v":""},null,null,null,false]
[59,null,null,null,null,null,null,null,null,{"$f":"IF($I60=\"\",\"\",DATEDIF(I60,設定情報!$B$1,\"Y\"))","v":""},null,null,null,false]
[60,null,null,null,null,null,null,null,null,{"$f":"IF($I61=\"\",\"\",DATEDIF(I61,設定情報!$B$1,\"Y\"))","v":""},null,null,null,false]
[61,null,null,null,null,null,null,null,null,{"$f":"IF($I62=\"\",\"\",DATEDIF(I62,設定情報!$B$1,\"Y\"))","v":""},null,null,null,false]
[62,null,null,null,null,null,null,null,null,{"$f":"IF($I63=\"\",\"\",DATEDIF(I63,設定情報!$B$1,\"Y\"))","v":""},null,null,null,false]
[63,null,null,null,null,null,null,null,null,{"$f":"IF($I64=\"\",\"\",DATEDIF(I64,設定情報!$B$1,\"Y\"))","v":""},null,null,null,false]
[64,null,null,null,null,null,null,null,null,{"$f":"IF($I65=\"\",\"\",DATEDIF(I65,設定情報!$B$1,\"Y\"))","v":""},null,null,null,false]
[65,null,null,null,null,null,null,null,null,{"$f":"IF($I66=\"\",\"\",DATEDIF(I66,設定情報!$B$1,\"Y\"))","v":""},null,null,null,false]
[66,null,null,null,null,null,null,null,null,{"$f":"IF($I67=\"\",\"\",DATEDIF(I67,設定情報!$B$1,\"Y\"))","v":""},null,null,null,{"$f":"AND(C67<>\"\",E67<>\"\",F67<>\"\",G67<>\"\",H67<>\"\",I67<>\"\")","v":false}]
[67,null,null,null,null,null,null,null,null,{"$f":"IF($I68=\"\",\"\",DATEDIF(I68,設定情報!$B$1,\"Y\"))","v":""},null,null,null,false]
[68,null,null,null,null,null,null,null,null,{"$f":"IF($I69=\"\",\"\",DATEDIF(I69,設定情報!$B$1,\"Y\"))","v":""},null,null,null,false]
[69,null,null,null,null,null,null,null,null,{"$f":"IF($I70=\"\",\"\",DATEDIF(I70,設定情報!$B$1,\"Y\"))","v":""},null,null,null,false]
[70,null,null,null,null,null,null,null,null,{"$f":"IF($I71=\"\",\"\",DATEDIF(I71,設定情報!$B$1,\"Y\"))","v":""},null,null,null,false]
[71,null,null,null,null,null,null,null,null,{"$f":"IF($I72=\"\",\"\",DATEDIF(I72,設定情報!$B$1,\"Y\"))","v":""},null,null,null,false]
[72,null,null,null,null,null,null,null,null,{"$f":"IF($I73=\"\",\"\",DATEDIF(I73,設定情報!$B$1,\"Y\"))","v":""},null,null,null,false]
[73,null,null,null,null,null,null,null,null,{"$f":"IF($I74=\"\",\"\",DATEDIF(I74,設定情報!$B$1,\"Y\"))","v":""},null,null,null,false]
[74,null,null,null,null,null,null,null,null,{"$f":"IF($I75=\"\",\"\",DATEDIF(I75,設定情報!$B$1,\"Y\"))","v":""},null,null,null,false]
[75,null,null,null,null,null,null,null,null,{"$f":"IF($I76=\"\",\"\",DATEDIF(I76,設定情報!$B$1,\"Y\"))","v":""},null,null,null,false]
[76,null,null,null,null,null,null,null,null,{"$f":"IF($I77=\"\",\"\",DATEDIF(I77,設定情報!$B$1,\"Y\"))","v":""},null,null,null,false]
[77,null,null,null,null,null,null,null,null,{"$f":"IF($I78=\"\",\"\",DATEDIF(I78,設定情報!$B$1,\"Y\"))","v":""},null,null,null,false]
[78,null,null,null,null,null,null,null,null,{"$f":"IF($I79=\"\",\"\",DATEDIF(I79,設定情報!$B$1,\"Y\"))","v":""},null,null,null,false]
[79,null,null,null,null,null,null,null,null,{"$f":"IF($I80=\"\",\"\",DATEDIF(I80,設定情報!$B$1,\"Y\"))","v":""},null,null,null,false]
[80,null,null,null,null,null,null,null,null,{"$f":"IF($I81=\"\",\"\",DATEDIF(I81,設定情報!$B$1,\"Y\"))","v":""},null,null,null,false]
[81,null,null,null,null,null,null,null,null,{"$f":"IF($I82=\"\",\"\",DATEDIF(I82,設定情報!$B$1,\"Y\"))","v":""},null,null,null,false]
[82,null,null,null,null,null,null,null,null,{"$f":"IF($I83=\"\",\"\",DATEDIF(I83,設定情報!$B$1,\"Y\"))","v":""},null,null,null,false]
[83,null,null,null,null,null,null,null,null,{"$f":"IF($I84=\"\",\"\",DATEDIF(I84,設定情報!$B$1,\"Y\"))","v":""},null,null,null,false]
[84,null,null,null,null,null,null,null,null,{"$f":"IF($I85=\"\",\"\",DATEDIF(I85,設定情報!$B$1,\"Y\"))","v":""},null,null,null,false]
[85,null,null,null,null,null,null,null,null,{"$f":"IF($I86=\"\",\"\",DATEDIF(I86,設定情報!$B$1,\"Y\"))","v":""},null,null,null,false]
[86,null,null,null,null,null,null,null,null,{"$f":"IF($I87=\"\",\"\",DATEDIF(I87,設定情報!$B$1,\"Y\"))","v":""},null,null,null,false]
[87,null,null,null,null,null,null,null,null,{"$f":"IF($I88=\"\",\"\",DATEDIF(I88,設定情報!$B$1,\"Y\"))","v":""},null,null,null,false]
[88,null,null,null,null,null,null,null,null,{"$f":"IF($I89=\"\",\"\",DATEDIF(I89,設定情報!$B$1,\"Y\"))","v":""},null,null,null,false]
[89,null,null,null,null,null,null,null,null,{"$f":"IF($I90=\"\",\"\",DATEDIF(I90,設定情報!$B$1,\"Y\"))","v":""},null,null,null,false]
[90,null,null,null,null,null,null,null,null,{"$f":"IF($I91=\"\",\"\",DATEDIF(I91,設定情報!$B$1,\"Y\"))","v":""},null,null,null,false]
[91,null,null,null,null,null,null,null,null,{"$f":"IF($I92=\"\",\"\",DATEDIF(I92,設定情報!$B$1,\"Y\"))","v":""},null,null,null,false]
[92,null,null,null,null,null,null,null,null,{"$f":"IF($I93=\"\",\"\",DATEDIF(I93,設定情報!$B$1,\"Y\"))","v":""},null,null,null,false]
[93,null,null,null,null,null,null,null,null,{"$f":"IF($I94=\"\",\"\",DATEDIF(I94,設定情報!$B$1,\"Y\"))","v":""},null,null,null,false]
[94,null,null,null,null,null,null,null,null,{"$f":"IF($I95=\"\",\"\",DATEDIF(I95,設定情報!$B$1,\"Y\"))","v":""},null,null,null,false]
[95,null,null,null,null,null,null,null,null,{"$f":"IF($I96=\"\",\"\",DATEDIF(I96,設定情報!$B$1,\"Y\"))","v":""},null,null,null,false]
[96,null,null,null,null,null,null,null,null,{"$f":"IF($I97=\"\",\"\",DATEDIF(I97,設定情報!$B$1,\"Y\"))","v":""},null,null,null,false]
[97,null,null,null,null,null,null,null,null,{"$f":"IF($I98=\"\",\"\",DATEDIF(I98,設定情報!$B$1,\"Y\"))","v":""}]
[98,null,null,null,null,null,null,null,null,{"$f":"IF($I99=\"\",\"\",DATEDIF(I99,設定情報!$B$1,\"Y\"))","v":""}]
[99,null,null,null,null,null,null,null,null,{"$f":"IF($I100=\"\",\"\",DATEDIF(I100,設定情報!$B$1,\"Y\"))","v":""}]
[100,null,null,null,null,null,null,null,null,{"$f":"IF($I101=\"\",\"\",DATEDIF(I101,設定情報!$B$1,\"Y\"))","v":""}]

{"sheet":"女子部員名簿","index":5,"n_rows":101,"n_cols":14,"rows_kept":101,"cut":false,"hidden":false,"merged":[]}
["No","県ＩＤ","学年","組","姓","名","フリガナ（姓)","フリガナ（名)","生年月日(西暦)","年齢","保護者名・印","現住所","TEL",{"$f":"COUNTIF($N$2:$N$97,TRUE)","v":0}]
[1,null,null,null,null,null,null,null,null,{"$f":"IF($I2=\"\",\"\",DATEDIF(I2,設定情報!$B$1,\"Y\"))","v":""},null,null,null,{"$f":"AND(C2<>\"\",E2<>\"\",F2<>\"\",G2<>\"\",H2<>\"\",I2<>\"\")","v":false}]
[2,null,null,null,null,null,null,null,null,{"$f":"IF($I3=\"\",\"\",DATEDIF(I3,設定情報!$B$1,\"Y\"))","v":""},null,null,null,{"$f":"AND(C3<>\"\",E3<>\"\",F3<>\"\",G3<>\"\",H3<>\"\",I3<>\"\")","v":false}]
[3,null,null,null,null,null,null,null,null,{"$f":"IF($I4=\"\",\"\",DATEDIF(I4,設定情報!$B$1,\"Y\"))","v":""},null,null,null,false]
[4,null,null,null,null,null,null,null,null,{"$f":"IF($I5=\"\",\"\",DATEDIF(I5,設定情報!$B$1,\"Y\"))","v":""},null,null,null,false]
[5,null,null,null,null,null,null,null,null,{"$f":"IF($I6=\"\",\"\",DATEDIF(I6,設定情報!$B$1,\"Y\"))","v":""},null,null,null,false]
[6,null,null,null,null,null,null,null,null,{"$f":"IF($I7=\"\",\"\",DATEDIF(I7,設定情報!$B$1,\"Y\"))","v":""},null,null,null,false]
[7,null,null,null,null,null,null,null,null,{"$f":"IF($I8=\"\",\"\",DATEDIF(I8,設定情報!$B$1,\"Y\"))","v":""},null,null,null,false]
[8,null,null,null,null,null,null,null,null,{"$f":"IF($I9=\"\",\"\",DATEDIF(I9,設定情報!$B$1,\"Y\"))","v":""},null,null,null,false]
[9,null,null,null,null,null,null,null,null,{"$f":"IF($I10=\"\",\"\",DATEDIF(I10,設定情報!$B$1,\"Y\"))","v":""},null,null,null,false]
[10,null,null,null,null,null,null,null,null,{"$f":"IF($I11=\"\",\"\",DATEDIF(I11,設定情報!$B$1,\"Y\"))","v":""},null,null,null,false]
[11,null,null,null,null,null,null,null,null,{"$f":"IF($I12=\"\",\"\",DATEDIF(I12,設定情報!$B$1,\"Y\"))","v":""},null,null,null,false]
[12,null,null,null,null,null,null,null,null,{"$f":"IF($I13=\"\",\"\",DATEDIF(I13,設定情報!$B$1,\"Y\"))","v":""},null,null,null,false]
[13,null,null,null,null,null,null,null,null,{"$f":"IF($I14=\"\",\"\",DATEDIF(I14,設定情報!$B$1,\"Y\"))","v":""},null,null,null,false]
[14,null,null,null,null,null,null,null,null,{"$f":"IF($I15=\"\",\"\",DATEDIF(I15,設定情報!$B$1,\"Y\"))","v":""},null,null,null,false]
[15,null,null,null,null,null,null,null,null,{"$f":"IF($I16=\"\",\"\",DATEDIF(I16,設定情報!$B$1,\"Y\"))","v":""},null,null,null,false]
[16,null,null,null,null,null,null,null,null,{"$f":"IF($I17=\"\",\"\",DATEDIF(I17,設定情報!$B$1,\"Y\"))","v":""},null,null,null,false]
[17,null,null,null,null,null,null,null,null,{"$f":"IF($I18=\"\",\"\",DATEDIF(I18,設定情報!$B$1,\"Y\"))","v":""},null,null,null,false]
[18,null,null,null,null,null,null,null,null,{"$f":"IF($I19=\"\",\"\",DATEDIF(I19,設定情報!$B$1,\"Y\"))","v":""},null,null,null,false]
[19,null,null,null,null,null,null,null,null,{"$f":"IF($I20=\"\",\"\",DATEDIF(I20,設定情報!$B$1,\"Y\"))","v":""},null,null,null,false]
[20,null,null,null,null,null,null,null,null,{"$f":"IF($I21=\"\",\"\",DATEDIF(I21,設定情報!$B$1,\"Y\"))","v":""},null,null,null,false]
[21,null,null,null,null,null,null,null,null,{"$f":"IF($I22=\"\",\"\",DATEDIF(I22,設定情報!$B$1,\"Y\"))","v":""},null,null,null,false]
[22,null,null,null,null,null,null,null,null,{"$f":"IF($I23=\"\",\"\",DATEDIF(I23,設定情報!$B$1,\"Y\"))","v":""},null,null,null,false]
[23,null,null,null,null,null,null,null,null,{"$f":"IF($I24=\"\",\"\",DATEDIF(I24,設定情報!$B$1,\"Y\"))","v":""},null,null,null,false]
[24,null,null,null,null,null,null,null,null,{"$f":"IF($I25=\"\",\"\",DATEDIF(I25,設定情報!$B$1,\"Y\"))","v":""},null,null,null,false]
[25,null,null,null,null,null,null,null,null,{"$f":"IF($I26=\"\",\"\",DATEDIF(I26,設定情報!$B$1,\"Y\"))","v":""},null,null,null,false]
[26,null,null,null,null,null,null,null,null,{"$f":"IF($I27=\"\",\"\",DATEDIF(I27,設定情報!$B$1,\"Y\"))","v":""},null,null,null,false]
[27,null,null,null,null,null,null,null,null,{"$f":"IF($I28=\"\",\"\",DATEDIF(I28,設定情報!$B$1,\"Y\"))","v":""},null,null,null,false]
[28,null,null,null,null,null,null,null,null,{"$f":"IF($I29=\"\",\"\",DATEDIF(I29,設定情報!$B$1,\"Y\"))","v":""},null,null,null,false]
[29,null,null,null,null,null,null,null,null,{"$f":"IF($I30=\"\",\"\",DATEDIF(I30,設定情報!$B$1,\"Y\"))","v":""},null,null,null,false]
[30,null,null,null,null,null,null,null,null,{"$f":"IF($I31=\"\",\"\",DATEDIF(I31,設定情報!$B$1,\"Y\"))","v":""},null,null,null,false]
[31,null,null,null,null,null,null,null,null,{"$f":"IF($I32=\"\",\"\",DATEDIF(I32,設定情報!$B$1,\"Y\"))","v":""},null,null,null,false]
[32,null,null,null,null,null,null,null,null,{"$f":"IF($I33=\"\",\"\",DATEDIF(I33,設定情報!$B$1,\"Y\"))","v":""},null,null,null,false]
[33,null,null,null,null,null,null,null,null,{"$f":"IF($I34=\"\",\"\",DATEDIF(I34,設定情報!$B$1,\"Y\"))","v":""},null,null,null,false]
[34,null,null,null,null,null,null,null,null,{"$f":"IF($I35=\"\",\"\",DATEDIF(I35,設定情報!$B$1,\"Y\"))","v":""},null,null,null,false]
[35,null,null,null,null,null,null,null,null,{"$f":"IF($I36=\"\",\"\",DATEDIF(I36,設定情報!$B$1,\"Y\"))","v":""},null,null,null,false]
[36,null,null,null,null,null,null,null,null,{"$f":"IF($I37=\"\",\"\",DATEDIF(I37,設定情報!$B$1,\"Y\"))","v":""},null,null,null,false]
[37,null,null,null,null,null,null,null,null,{"$f":"IF($I38=\"\",\"\",DATEDIF(I38,設定情報!$B$1,\"Y\"))","v":""},null,null,null,false]
[38,null,null,null,null,null,null,null,null,{"$f":"IF($I39=\"\",\"\",DATEDIF(I39,設定情報!$B$1,\"Y\"))","v":""},null,null,null,false]
[39,null,null,null,null,null,null,null,null,{"$f":"IF($I40=\"\",\"\",DATEDIF(I40,設定情報!$B$1,\"Y\"))","v":""},null,null,null,false]
[40,null,null,null,null,null,null,null,null,{"$f":"IF($I41=\"\",\"\",DATEDIF(I41,設定情報!$B$1,\"Y\"))","v":""},null,null,null,false]
[41,null,null,null,null,null,null,null,null,{"$f":"IF($I42=\"\",\"\",DATEDIF(I42,設定情報!$B$1,\"Y\"))","v":""},null,null,null,false]
[42,null,null,null,null,null,null,null,null,{"$f":"IF($I43=\"\",\"\",DATEDIF(I43,設定情報!$B$1,\"Y\"))","v":""},null,null,null,false]
[43,null,null,null,null,null,null,null,null,{"$f":"IF($I44=\"\",\"\",DATEDIF(I44,設定情報!$B$1,\"Y\"))","v":""},null,null,null,false]
[44,null,null,null,null,null,null,null,null,{"$f":"IF($I45=\"\",\"\",DATEDIF(I45,設定情報!$B$1,\"Y\"))","v":""},null,null,null,false]
[45,null,null,null,null,null,null,null,null,{"$f":"IF($I46=\"\",\"\",DATEDIF(I46,設定情報!$B$1,\"Y\"))","v":""},null,null,null,false]
[46,null,null,null,null,null,null,null,null,{"$f":"IF($I47=\"\",\"\",DATEDIF(I47,設定情報!$B$1,\"Y\"))","v":""},null,null,null,false]
[47,null,null,null,null,null,null,null,null,{"$f":"IF($I48=\"\",\"\",DATEDIF(I48,設定情報!$B$1,\"Y\"))","v":""},null,null,null,false]
[48,null,null,null,null,null,null,null,null,{"$f":"IF($I49=\"\",\"\",DATEDIF(I49,設定情報!$B$1,\"Y\"))","v":""},null,null,null,false]
[49,null,null,null,null,null,null,null,null,{"$f":"IF($I50=\"\",\"\",DATEDIF(I50,設定情報!$B$1,\"Y\"))","v":""},null,null,null,false]
[50,null,null,null,null,null,null,null,null,{"$f":"IF($I51=\"\",\"\",DATEDIF(I51,設定情報!$B$1,\"Y\"))","v":""},null,null,null,false]
[51,null,null,null,null,null,null,null,null,{"$f":"IF($I52=\"\",\"\",DATEDIF(I52,設定情報!$B$1,\"Y\"))","v":""},null,null,null,false]
[52,null,null,null,null,null,null,null,null,{"$f":"IF($I53=\"\",\"\",DATEDIF(I53,設定情報!$B$1,\"Y\"))","v":""},null,null,null,false]
[53,null,null,null,null,null,null,null,null,{"$f":"IF($I54=\"\",\"\",DATEDIF(I54,設定情報!$B$1,\"Y\"))","v":""},null,null,null,false]
[54,null,null,null,null,null,null,null,null,{"$f":"IF($I55=\"\",\"\",DATEDIF(I55,設定情報!$B$1,\"Y\"))","v":""},null,null,null,false]
[55,null,null,null,null,null,null,null,null,{"$f":"IF($I56=\"\",\"\",DATEDIF(I56,設定情報!$B$1,\"Y\"))","v":""},null,null,null,false]
[56,null,null,null,null,null,null,null,null,{"$f":"IF($I57=\"\",\"\",DATEDIF(I57,設定情報!$B$1,\"Y\"))","v":""},null,null,null,false]
[57,null,null,null,null,null,null,null,null,{"$f":"IF($I58=\"\",\"\",DATEDIF(I58,設定情報!$B$1,\"Y\"))","v":""},null,null,null,false]
[58,null,null,null,null,null,null,null,null,{"$f":"IF($I59=\"\",\"\",DATEDIF(I59,設定情報!$B$1,\"Y\"))","v":""},null,null,null,false]
[59,null,null,null,null,null,null,null,null,{"$f":"IF($I60=\"\",\"\",DATEDIF(I60,設定情報!$B$1,\"Y\"))","v":""},null,null,null,false]
[60,null,null,null,null,null,null,null,null,{"$f":"IF($I61=\"\",\"\",DATEDIF(I61,設定情報!$B$1,\"Y\"))","v":""},null,null,null,false]
[61,null,null,null,null,null,null,null,null,{"$f":"IF($I62=\"\",\"\",DATEDIF(I62,設定情報!$B$1,\"Y\"))","v":""},null,null,null,false]
[62,null,null,null,null,null,null,null,null,{"$f":"IF($I63=\"\",\"\",DATEDIF(I63,設定情報!$B$1,\"Y\"))","v":""},null,null,null,false]
[63,null,null,null,null,null,null,null,null,{"$f":"IF($I64=\"\",\"\",DATEDIF(I64,設定情報!$B$1,\"Y\"))","v":""},null,null,null,false]
[64,null,null,null,null,null,null,null,null,{"$f":"IF($I65=\"\",\"\",DATEDIF(I65,設定情報!$B$1,\"Y\"))","v":""},null,null,null,false]
[65,null,null,null,null,null,null,null,null,{"$f":"IF($I66=\"\",\"\",DATEDIF(I66,設定情報!$B$1,\"Y\"))","v":""},null,null,null,false]
[66,null,null,null,null,null,null,null,null,{"$f":"IF($I67=\"\",\"\",DATEDIF(I67,設定情報!$B$1,\"Y\"))","v":""},null,null,null,{"$f":"AND(C67<>\"\",E67<>\"\",F67<>\"\",G67<>\"\",H67<>\"\",I67<>\"\")","v":false}]
[67,null,null,null,null,null,null,null,null,{"$f":"IF($I68=\"\",\"\",DATEDIF(I68,設定情報!$B$1,\"Y\"))","v":""},null,null,null,false]
[68,null,null,null,null,null,null,null,null,{"$f":"IF($I69=\"\",\"\",DATEDIF(I69,設定情報!$B$1,\"Y\"))","v":""},null,null,null,false]
[69,null,null,null,null,null,null,null,null,{"$f":"IF($I70=\"\",\"\",DATEDIF(I70,設定情報!$B$1,\"Y\"))","v":""},null,null,null,false]
[70,null,null,null,null,null,null,null,null,{"$f":"IF($I71=\"\",\"\",DATEDIF(I71,設定情報!$B$1,\"Y\"))","v":""},null,null,null,false]
[71,null,null,null,null,null,null,null,null,{"$f":"IF($I72=\"\",\"\",DATEDIF(I72,設定情報!$B$1,\"Y\"))","v":""},null,null,null,false]
[72,null,null,null,null,null,null,null,null,{"$f":"IF($I73=\"\",\"\",DATEDIF(I73,設定情報!$B$1,\"Y\"))","v":""},null,null,null,false]
[73,null,null,null,null,null,null,null,null,{"$f":"IF($I74=\"\",\"\",DATEDIF(I74,設定情報!$B$1,\"Y\"))","v":""},null,null,null,false]
[74,null,null,null,null,null,null,null,null,{"$f":"IF($I75=\"\",\"\",DATEDIF(I75,設定情報!$B$1,\"Y\"))","v":""},null,null,null,false]
[75,null,null,null,null,null,null,null,null,{"$f":"IF($I76=\"\",\"\",DATEDIF(I76,設定情報!$B$1,\"Y\"))","v":""},null,null,null,false]
[76,null,null,null,null,null,null,null,null,{"$f":"IF($I77=\"\",\"\",DATEDIF(I77,設定情報!$B$1,\"Y\"))","v":""},null,null,null,false]
[77,null,null,null,null,null,null,null,null,{"$f":"IF($I78=\"\",\"\",DATEDIF(I78,設定情報!$B$1,\"Y\"))","v":""},null,null,null,false]
[78,null,null,null,null,null,null,null,null,{"$f":"IF($I79=\"\",\"\",DATEDIF(I79,設定情報!$B$1,\"Y\"))","v":""},null,null,null,false]
[79,null,null,null,null,null,null,null,null,{"$f":"IF($I80=\"\",\"\",DATEDIF(I80,設定情報!$B$1,\"Y\"))","v":""},null,null,null,false]
[80,null,null,null,null,null,null,null,null,{"$f":"IF($I81=\"\",\"\",DATEDIF(I81,設定情報!$B$1,\"Y\"))","v":""},null,null,null,false]
[81,null,null,null,null,null,null,null,null,{"$f":"IF($I82=\"\",\"\",DATEDIF(I82,設定情報!$B$1,\"Y\"))","v":""},null,null,null,false]
[82,null,null,null,null,null,null,null,null,{"$f":"IF($I83=\"\",\"\",DATEDIF(I83,設定情報!$B$1,\"Y\"))","v":""},null,null,null,false]
[83,null,null,null,null,null,null,null,null,{"$f":"IF($I84=\"\",\"\",DATEDIF(I84,設定情報!$B$1,\"Y\"))","v":""},null,null,null,false]
[84,null,null,null,null,null,null,null,null,{"$f":"IF($I85=\"\",\"\",DATEDIF(I85,設定情報!$B$1,\"Y\"))","v":""},null,null,null,false]
[85,null,null,null,null,null,null,null,null,{"$f":"IF($I86=\"\",\"\",DATEDIF(I86,設定情報!$B$1,\"Y\"))","v":""},null,null,null,false]
[86,null,null,null,null,null,null,null,null,{"$f":"IF($I87=\"\",\"\",DATEDIF(I87,設定情報!$B$1,\"Y\"))","v":""},null,null,null,false]
[87,null,null,null,null,null,null,null,null,{"$f":"IF($I88=\"\",\"\",DATEDIF(I88,設定情報!$B$1,\"Y\"))","v":""},null,null,null,false]
[88,null,null,null,null,null,null,null,null,{"$f":"IF($I89=\"\",\"\",DATEDIF(I89,設定情報!$B$1,\"Y\"))","v":""},null,null,null,false]
[89,null,null,null,null,null,null,null,null,{"$f":"IF($I90=\"\",\"\",DATEDIF(I90,設定情報!$B$1,\"Y\"))","v":""},null,null,null,false]
[90,null,null,null,null,null,null,null,null,{"$f":"IF($I91=\"\",\"\",DATEDIF(I91,設定情報!$B$1,\"Y\"))","v":""},null,null,null,false]
[91,null,null,null,null,null,null,null,null,{"$f":"IF($I92=\"\",\"\",DATEDIF(I92,設定情報!$B$1,\"Y\"))","v":""},null,null,null,false]
[92,null,null,null,null,null,null,null,null,{"$f":"IF($I93=\"\",\"\",DATEDIF(I93,設定情報!$B$1,\"Y\"))","v":""},null,null,null,false]
[93,null,null,null,null,null,null,null,null,{"$f":"IF($I94=\"\",\"\",DATEDIF(I94,設定情報!$B$1,\"Y\"))","v":""},null,null,null,false]
[94,null,null,null,null,null,null,null,null,{"$f":"IF($I95=\"\",\"\",DATEDIF(I95,設定情報!$B$1,\"Y\"))","v":""},null,null,null,false]
[95,null,null,null,null,null,null,null,null,{"$f":"IF($I96=\"\",\"\",DATEDIF(I96,設定情報!$B$1,\"Y\"))","v":""},null,null,null,false]
[96,null,null,null,null,null,null,null,null,{"$f":"IF($I97=\"\",\"\",DATEDIF(I97,設定情報!$B$1,\"Y\"))","v":""},null,null,null,false]
[97,null,null,null,null,null,null,null,null,{"$f":"IF($I98=\"\",\"\",DATEDIF(I98,設定情報!$B$1,\"Y\"))","v":""}]
[98,null,null,null,null,null,null,null,null,{"$f":"IF($I99=\"\",\"\",DATEDIF(I99,設定情報!$B$1,\"Y\"))","v":""},null,null,null,{"$f":"AND(C99<>\"\",E99<>\"\",F99<>\"\",G99<>\"\",H99<>\"\",I99<>\"\")","v":false}]
[99,null,null,null,null,null,null,null,null,{"$f":"IF($I100=\"\",\"\",DATEDIF(I100,設定情報!$B$1,\"Y\"))","v":""}]
[100,null,null,null,null,null,null,null,null,{"$f":"IF($I101=\"\",\"\",DATEDIF(I101,設定情報!$B$1,\"Y\"))","v":""},null,null,null,{"$f":"AND(C101<>\"\",E101<>\"\",F101<>\"\",G101<>\"\",H101<>\"\",I101<>\"\")","v":false}]

{"sheet":"男子登録用紙","index":6,"n_rows":54,"n_cols":11,"rows_kept":54,"cut":false,"hidden":true,"merged":[[12,9,13,10],[13,7,13,8],[11,7,11,8],[2,9,2,10],[8,9,9,10],[12,7,12,8],[7,7,7,8],[10,0,11,2],[10,3,11,3],[10,4,11,6],[10,9,11,10],[7,9,7,10],[9,7,9,8],[8,7,8,8],[10,7,10,8],[50,1,50,10],[23,1,23,2],[24,1,24,2],[25,1,25,2],[26,1,26,2],[27,1,27,2],[28,1,28,2],[29,1,29,2],[30,1,30,2],[31,1,31,2],[32,1,32,2],[33,1,33,2],[49,1,49,10],[41,1,41,2],[47,1,47,2],[42,1,42,2],[22,1,22,2],[0,3,0,4],[39,1,39,2],[8,4,9,6],[8,0,9,2],[8,3,9,3],[12,4,13,6],[17,1,17,3],[21,1,21,2],[4,2,4,5],[6,4,6,10],[4,0,4,1],[7,4,7,6],[4,6,4,7],[6,0,6,1],[7,0,7,2],[17,7,17,8],[12,3,13,3],[18,1,18,2],[19,1,19,2],[20,1,20,2],[12,0,13,2],[43,1,43,2],[44,1,44,2],[45,1,45,2],[46,1,46,2],[34,1,34,2],[35,1,35,2],[36,1,36,2],[37,1,37,2],[38,1,38,2],[40,1,40,2]]}
[null,null,null,{"$f":"YEAR(設定情報!B1)","v":2022},null,"年度　庭球競技登録用紙"]
[null,null,null,null,null,"(種別","・","男子)"]
[null,null,null,null,null,null,null,"　　　　　　記載年月日：",null,{"$f":"NOW()","v":"2022-04-18T16:23:01.390"}]
[null,null,null,null,null,null,null,null,{"$f":"T(学校情報入力!B21)","v":""},null,{"$f":"T(学校情報入力!B26)","v":""}]
["学校名",null,{"$f":"T(学校情報入力!B1)","v":""},null,null,null,"引率責任者名",null,{"$f":"T(学校情報入力!B22)","v":""},"監督名",{"$f":"T(学校情報入力!B27)","v":""}]
[null,null,"TEL",{"$f":"学校情報入力!B5","v":{"$error":"#N/A"}},"FAX",{"$f":"学校情報入力!B6","v":{"$error":"#N/A"}},null,null,{"$f":"T(学校情報入力!B23)","v":""},null,{"$f":"T(学校情報入力!B28)","v":""}]
["学校住所",null,"〒",{"$f":"学校情報入力!B3","v":{"$error":"#N/A"}},{"$f":"学校情報入力!B4","v":{"$error":"#N/A"}}]
["顧問名",null,null,"郵便番号","現住所",null,null,"メールアドレス",null,"携帯電話"]
[{"$f":"T(学校情報入力!B11)","v":""},null,null,{"$f":"T(学校情報入力!C11)","v":""},{"$f":"T(学校情報入力!D11)","v":""},{"$f":"T(学校情報入力!E11)","v":""},{"$f":"T(学校情報入力!F11)","v":""},{"$f":"T(学校情報入力!F11)","v":""},null,{"$f":"T(学校情報入力!G11)","v":""}]
[null,null,null,null,null,null,null,{"$f":"T( 学校情報入力!E11)","v":""}]
[{"$f":"T(学校情報入力!B12)","v":""},null,null,{"$f":"T(学校情報入力!C12)","v":""},{"$f":"T(学校情報入力!D12)","v":""},{"$f":"T(学校情報入力!E12)","v":""},{"$f":"T(学校情報入力!F12)","v":""},null,null,{"$f":"T(学校情報入力!G12)","v":""}]
[null,null,null,null,null,null,null,{"$f":"T(学校情報入力!E12)","v":""}]
[{"$f":"T(学校情報入力!B13)","v":""},null,null,{"$f":"T(学校情報入力!C13)","v":""},{"$f":"T(学校情報入力!D13)","v":""},{"$f":"T(学校情報入力!E19)","v":""},{"$f":"T(学校情報入力!F19)","v":""},null,null,{"$f":"T(学校情報入力!G13)","v":""}]
[null,null,null,null,null,null,null,{"$f":"T(学校情報入力!E13)","v":""}]
["お願い"]
["高体連テニス専門部からの諸連絡は原則メールで行います。必ずメールアドレスを記入してください。"]
[]
["№","名　　　　前",null,null,"学年","生年月日","№","名前",null,"学年","生年月日"]
[1,{"$f":"IF(男子部員名簿!E2=\"\",\"\",男子部員名簿!E2)","v":""},null,{"$f":"IF(男子部員名簿!F2=\"\",\"\",男子部員名簿!F2)","v":""},{"$f":"IF(男子部員名簿!C2=\"\",\"\",男子部員名簿!C2)","v":""},{"$f":"IF(男子部員名簿!I2=\"\",\"\",男子部員名簿!I2)","v":""},31,{"$f":"IF(男子部員名簿!E32=\"\",\"\",男子部員名簿!E32)","v":""},{"$f":"IF(男子部員名簿!F32=\"\",\"\",男子部員名簿!F32)","v":""},{"$f":"IF(男子部員名簿!C32=\"\",\"\",男子部員名簿!C32)","v":""},{"$f":"IF(男子部員名簿!I32=\"\",\"\",男子部員名簿!I32)","v":""}]
[2,{"$f":"IF(男子部員名簿!E3=\"\",\"\",男子部員名簿!E3)","v":""},null,{"$f":"IF(男子部員名簿!F3=\"\",\"\",男子部員名簿!F3)","v":""},{"$f":"IF(男子部員名簿!C3=\"\",\"\",男子部員名簿!C3)","v":""},{"$f":"IF(男子部員名簿!I3=\"\",\"\",男子部員名簿!I3)","v":""},32,{"$f":"IF(男子部員名簿!E33=\"\",\"\",男子部員名簿!E33)","v":""},{"$f":"IF(男子部員名簿!F33=\"\",\"\",男子部員名簿!F33)","v":""},{"$f":"IF(男子部員名簿!C33=\"\",\"\",男子部員名簿!C33)","v":""},{"$f":"IF(男子部員名簿!I33=\"\",\"\",男子部員名簿!I33)","v":""}]
[3,{"$f":"IF(男子部員名簿!E4=\"\",\"\",男子部員名簿!E4)","v":""},null,{"$f":"IF(男子部員名簿!F4=\"\",\"\",男子部員名簿!F4)","v":""},{"$f":"IF(男子部員名簿!C4=\"\",\"\",男子部員名簿!C4)","v":""},{"$f":"IF(男子部員名簿!I4=\"\",\"\",男子部員名簿!I4)","v":""},33,{"$f":"IF(男子部員名簿!E34=\"\",\"\",男子部員名簿!E34)","v":""},{"$f":"IF(男子部員名簿!F34=\"\",\"\",男子部員名簿!F34)","v":""},{"$f":"IF(男子部員名簿!C34=\"\",\"\",男子部員名簿!C34)","v":""},{"$f":"IF(男子部員名簿!I34=\"\",\"\",男子部員名簿!I34)","v":""}]
[4,{"$f":"IF(男子部員名簿!E5=\"\",\"\",男子部員名簿!E5)","v":""},null,{"$f":"IF(男子部員名簿!F5=\"\",\"\",男子部員名簿!F5)","v":""},{"$f":"IF(男子部員名簿!C5=\"\",\"\",男子部員名簿!C5)","v":""},{"$f":"IF(男子部員名簿!I5=\"\",\"\",男子部員名簿!I5)","v":""},34,{"$f":"IF(男子部員名簿!E35=\"\",\"\",男子部員名簿!E35)","v":""},{"$f":"IF(男子部員名簿!F35=\"\",\"\",男子部員名簿!F35)","v":""},{"$f":"IF(男子部員名簿!C35=\"\",\"\",男子部員名簿!C35)","v":""},{"$f":"IF(男子部員名簿!I35=\"\",\"\",男子部員名簿!I35)","v":""}]
[5,{"$f":"IF(男子部員名簿!E6=\"\",\"\",男子部員名簿!E6)","v":""},null,{"$f":"IF(男子部員名簿!F6=\"\",\"\",男子部員名簿!F6)","v":""},{"$f":"IF(男子部員名簿!C6=\"\",\"\",男子部員名簿!C6)","v":""},{"$f":"IF(男子部員名簿!I6=\"\",\"\",男子部員名簿!I6)","v":""},35,{"$f":"IF(男子部員名簿!E36=\"\",\"\",男子部員名簿!E36)","v":""},{"$f":"IF(男子部員名簿!F36=\"\",\"\",男子部員名簿!F36)","v":""},{"$f":"IF(男子部員名簿!C36=\"\",\"\",男子部員名簿!C36)","v":""},{"$f":"IF(男子部員名簿!I36=\"\",\"\",男子部員名簿!I36)","v":""}]
[6,{"$f":"IF(男子部員名簿!E7=\"\",\"\",男子部員名簿!E7)","v":""},null,{"$f":"IF(男子部員名簿!F7=\"\",\"\",男子部員名簿!F7)","v":""},{"$f":"IF(男子部員名簿!C7=\"\",\"\",男子部員名簿!C7)","v":""},{"$f":"IF(男子部員名簿!I7=\"\",\"\",男子部員名簿!I7)","v":""},36,{"$f":"IF(男子部員名簿!E37=\"\",\"\",男子部員名簿!E37)","v":""},{"$f":"IF(男子部員名簿!F37=\"\",\"\",男子部員名簿!F37)","v":""},{"$f":"IF(男子部員名簿!C37=\"\",\"\",男子部員名簿!C37)","v":""},{"$f":"IF(男子部員名簿!I37=\"\",\"\",男子部員名簿!I37)","v":""}]
[7,{"$f":"IF(男子部員名簿!E8=\"\",\"\",男子部員名簿!E8)","v":""},null,{"$f":"IF(男子部員名簿!F8=\"\",\"\",男子部員名簿!F8)","v":""},{"$f":"IF(男子部員名簿!C8=\"\",\"\",男子部員名簿!C8)","v":""},{"$f":"IF(男子部員名簿!I8=\"\",\"\",男子部員名簿!I8)","v":""},37,{"$f":"IF(男子部員名簿!E38=\"\",\"\",男子部員名簿!E38)","v":""},{"$f":"IF(男子部員名簿!F38=\"\",\"\",男子部員名簿!F38)","v":""},{"$f":"IF(男子部員名簿!C38=\"\",\"\",男子部員名簿!C38)","v":""},{"$f":"IF(男子部員名簿!I38=\"\",\"\",男子部員名簿!I38)","v":""}]
[8,{"$f":"IF(男子部員名簿!E9=\"\",\"\",男子部員名簿!E9)","v":""},null,{"$f":"IF(男子部員名簿!F9=\"\",\"\",男子部員名簿!F9)","v":""},{"$f":"IF(男子部員名簿!C9=\"\",\"\",男子部員名簿!C9)","v":""},{"$f":"IF(男子部員名簿!I9=\"\",\"\",男子部員名簿!I9)","v":""},38,{"$f":"IF(男子部員名簿!E39=\"\",\"\",男子部員名簿!E39)","v":""},{"$f":"IF(男子部員名簿!F39=\"\",\"\",男子部員名簿!F39)","v":""},{"$f":"IF(男子部員名簿!C39=\"\",\"\",男子部員名簿!C39)","v":""},{"$f":"IF(男子部員名簿!I39=\"\",\"\",男子部員名簿!I39)","v":""}]
[9,{"$f":"IF(男子部員名簿!E10=\"\",\"\",男子部員名簿!E10)","v":""},null,{"$f":"IF(男子部員名簿!F10=\"\",\"\",男子部員名簿!F10)","v":""},{"$f":"IF(男子部員名簿!C10=\"\",\"\",男子部員名簿!C10)","v":""},{"$f":"IF(男子部員名簿!I10=\"\",\"\",男子部員名簿!I10)","v":""},39,{"$f":"IF(男子部員名簿!E40=\"\",\"\",男子部員名簿!E40)","v":""},{"$f":"IF(男子部員名簿!F40=\"\",\"\",男子部員名簿!F40)","v":""},{"$f":"IF(男子部員名簿!C40=\"\",\"\",男子部員名簿!C40)","v":""},{"$f":"IF(男子部員名簿!I40=\"\",\"\",男子部員名簿!I40)","v":""}]
[10,{"$f":"IF(男子部員名簿!E11=\"\",\"\",男子部員名簿!E11)","v":""},null,{"$f":"IF(男子部員名簿!F11=\"\",\"\",男子部員名簿!F11)","v":""},{"$f":"IF(男子部員名簿!C11=\"\",\"\",男子部員名簿!C11)","v":""},{"$f":"IF(男子部員名簿!I11=\"\",\"\",男子部員名簿!I11)","v":""},40,{"$f":"IF(男子部員名簿!E41=\"\",\"\",男子部員名簿!E41)","v":""},{"$f":"IF(男子部員名簿!F41=\"\",\"\",男子部員名簿!F41)","v":""},{"$f":"IF(男子部員名簿!C41=\"\",\"\",男子部員名簿!C41)","v":""},{"$f":"IF(男子部員名簿!I41=\"\",\"\",男子部員名簿!I41)","v":""}]
[11,{"$f":"IF(男子部員名簿!E12=\"\",\"\",男子部員名簿!E12)","v":""},null,{"$f":"IF(男子部員名簿!F12=\"\",\"\",男子部員名簿!F12)","v":""},{"$f":"IF(男子部員名簿!C12=\"\",\"\",男子部員名簿!C12)","v":""},{"$f":"IF(男子部員名簿!I12=\"\",\"\",男子部員名簿!I12)","v":""},41,{"$f":"IF(男子部員名簿!E42=\"\",\"\",男子部員名簿!E42)","v":""},{"$f":"IF(男子部員名簿!F42=\"\",\"\",男子部員名簿!F42)","v":""},{"$f":"IF(男子部員名簿!C42=\"\",\"\",男子部員名簿!C42)","v":""},{"$f":"IF(男子部員名簿!I42=\"\",\"\",男子部員名簿!I42)","v":""}]
[12,{"$f":"IF(男子部員名簿!E13=\"\",\"\",男子部員名簿!E13)","v":""},null,{"$f":"IF(男子部員名簿!F13=\"\",\"\",男子部員名簿!F13)","v":""},{"$f":"IF(男子部員名簿!C13=\"\",\"\",男子部員名簿!C13)","v":""},{"$f":"IF(男子部員名簿!I13=\"\",\"\",男子部員名簿!I13)","v":""},42,{"$f":"IF(男子部員名簿!E43=\"\",\"\",男子部員名簿!E43)","v":""},{"$f":"IF(男子部員名簿!F43=\"\",\"\",男子部員名簿!F43)","v":""},{"$f":"IF(男子部員名簿!C43=\"\",\"\",男子部員名簿!C43)","v":""},{"$f":"IF(男子部員名簿!I43=\"\",\"\",男子部員名簿!I43)","v":""}]
[13,{"$f":"IF(男子部員名簿!E14=\"\",\"\",男子部員名簿!E14)","v":""},null,{"$f":"IF(男子部員名簿!F14=\"\",\"\",男子部員名簿!F14)","v":""},{"$f":"IF(男子部員名簿!C14=\"\",\"\",男子部員名簿!C14)","v":""},{"$f":"IF(男子部員名簿!I14=\"\",\"\",男子部員名簿!I14)","v":""},43,{"$f":"IF(男子部員名簿!E44=\"\",\"\",男子部員名簿!E44)","v":""},{"$f":"IF(男子部員名簿!F44=\"\",\"\",男子部員名簿!F44)","v":""},{"$f":"IF(男子部員名簿!C44=\"\",\"\",男子部員名簿!C44)","v":""},{"$f":"IF(男子部員名簿!I44=\"\",\"\",男子部員名簿!I44)","v":""}]
[14,{"$f":"IF(男子部員名簿!E15=\"\",\"\",男子部員名簿!E15)","v":""},null,{"$f":"IF(男子部員名簿!F15=\"\",\"\",男子部員名簿!F15)","v":""},{"$f":"IF(男子部員名簿!C15=\"\",\"\",男子部員名簿!C15)","v":""},{"$f":"IF(男子部員名簿!I15=\"\",\"\",男子部員名簿!I15)","v":""},44,{"$f":"IF(男子部員名簿!E45=\"\",\"\",男子部員名簿!E45)","v":""},{"$f":"IF(男子部員名簿!F45=\"\",\"\",男子部員名簿!F45)","v":""},{"$f":"IF(男子部員名簿!C45=\"\",\"\",男子部員名簿!C45)","v":""},{"$f":"IF(男子部員名簿!I45=\"\",\"\",男子部員名簿!I45)","v":""}]
[15,{"$f":"IF(男子部員名簿!E16=\"\",\"\",男子部員名簿!E16)","v":""},null,{"$f":"IF(男子部員名簿!F16=\"\",\"\",男子部員名簿!F16)","v":""},{"$f":"IF(男子部員名簿!C16=\"\",\"\",男子部員名簿!C16)","v":""},{"$f":"IF(男子部員名簿!I16=\"\",\"\",男子部員名簿!I16)","v":""},45,{"$f":"IF(男子部員名簿!E46=\"\",\"\",男子部員名簿!E46)","v":""},{"$f":"IF(男子部員名簿!F46=\"\",\"\",男子部員名簿!F46)","v":""},{"$f":"IF(男子部員名簿!C46=\"\",\"\",男子部員名簿!C46)","v":""},{"$f":"IF(男子部員名簿!I46=\"\",\"\",男子部員名簿!I46)","v":""}]
[16,{"$f":"IF(男子部員名簿!E17=\"\",\"\",男子部員名簿!E17)","v":""},null,{"$f":"IF(男子部員名簿!F17=\"\",\"\",男子部員名簿!F17)","v":""},{"$f":"IF(男子部員名簿!C17=\"\",\"\",男子部員名簿!C17)","v":""},{"$f":"IF(男子部員名簿!I17=\"\",\"\",男子部員名簿!I17)","v":""},46,{"$f":"IF(男子部員名簿!E47=\"\",\"\",男子部員名簿!E47)","v":""},{"$f":"IF(男子部員名簿!F47=\"\",\"\",男子部員名簿!F47)","v":""},{"$f":"IF(男子部員名簿!C47=\"\",\"\",男子部員名簿!C47)","v":""},{"$f":"IF(男子部員名簿!I47=\"\",\"\",男子部員名簿!I47)","v":""}]
[17,{"$f":"IF(男子部員名簿!E18=\"\",\"\",男子部員名簿!E18)","v":""},null,{"$f":"IF(男子部員名簿!F18=\"\",\"\",男子部員名簿!F18)","v":""},{"$f":"IF(男子部員名簿!C18=\"\",\"\",男子部員名簿!C18)","v":""},{"$f":"IF(男子部員名簿!I18=\"\",\"\",男子部員名簿!I18)","v":""},47,{"$f":"IF(男子部員名簿!E48=\"\",\"\",男子部員名簿!E48)","v":""},{"$f":"IF(男子部員名簿!F48=\"\",\"\",男子部員名簿!F48)","v":""},{"$f":"IF(男子部員名簿!C48=\"\",\"\",男子部員名簿!C48)","v":""},{"$f":"IF(男子部員名簿!I48=\"\",\"\",男子部員名簿!I48)","v":""}]
[18,{"$f":"IF(男子部員名簿!E19=\"\",\"\",男子部員名簿!E19)","v":""},null,{"$f":"IF(男子部員名簿!F19=\"\",\"\",男子部員名簿!F19)","v":""},{"$f":"IF(男子部員名簿!C19=\"\",\"\",男子部員名簿!C19)","v":""},{"$f":"IF(男子部員名簿!I19=\"\",\"\",男子部員名簿!I19)","v":""},48,{"$f":"IF(男子部員名簿!E49=\"\",\"\",男子部員名簿!E49)","v":""},{"$f":"IF(男子部員名簿!F49=\"\",\"\",男子部員名簿!F49)","v":""},{"$f":"IF(男子部員名簿!C49=\"\",\"\",男子部員名簿!C49)","v":""},{"$f":"IF(男子部員名簿!I49=\"\",\"\",男子部員名簿!I49)","v":""}]
[19,{"$f":"IF(男子部員名簿!E20=\"\",\"\",男子部員名簿!E20)","v":""},null,{"$f":"IF(男子部員名簿!F20=\"\",\"\",男子部員名簿!F20)","v":""},{"$f":"IF(男子部員名簿!C20=\"\",\"\",男子部員名簿!C20)","v":""},{"$f":"IF(男子部員名簿!I20=\"\",\"\",男子部員名簿!I20)","v":""},49,{"$f":"IF(男子部員名簿!E50=\"\",\"\",男子部員名簿!E50)","v":""},{"$f":"IF(男子部員名簿!F50=\"\",\"\",男子部員名簿!F50)","v":""},{"$f":"IF(男子部員名簿!C50=\"\",\"\",男子部員名簿!C50)","v":""},{"$f":"IF(男子部員名簿!I50=\"\",\"\",男子部員名簿!I50)","v":""}]
[20,{"$f":"IF(男子部員名簿!E21=\"\",\"\",男子部員名簿!E21)","v":""},null,{"$f":"IF(男子部員名簿!F21=\"\",\"\",男子部員名簿!F21)","v":""},{"$f":"IF(男子部員名簿!C21=\"\",\"\",男子部員名簿!C21)","v":""},{"$f":"IF(男子部員名簿!I21=\"\",\"\",男子部員名簿!I21)","v":""},50,{"$f":"IF(男子部員名簿!E51=\"\",\"\",男子部員名簿!E51)","v":""},{"$f":"IF(男子部員名簿!F51=\"\",\"\",男子部員名簿!F51)","v":""},{"$f":"IF(男子部員名簿!C51=\"\",\"\",男子部員名簿!C51)","v":""},{"$f":"IF(男子部員名簿!I51=\"\",\"\",男子部員名簿!I51)","v":""}]
[21,{"$f":"IF(男子部員名簿!E22=\"\",\"\",男子部員名簿!E22)","v":""},null,{"$f":"IF(男子部員名簿!F22=\"\",\"\",男子部員名簿!F22)","v":""},{"$f":"IF(男子部員名簿!C22=\"\",\"\",男子部員名簿!C22)","v":""},{"$f":"IF(男子部員名簿!I22=\"\",\"\",男子部員名簿!I22)","v":""},51,{"$f":"IF(男子部員名簿!E52=\"\",\"\",男子部員名簿!E52)","v":""},{"$f":"IF(男子部員名簿!F52=\"\",\"\",男子部員名簿!F52)","v":""},{"$f":"IF(男子部員名簿!C52=\"\",\"\",男子部員名簿!C52)","v":""},{"$f":"IF(男子部員名簿!I52=\"\",\"\",男子部員名簿!I52)","v":""}]
[22,{"$f":"IF(男子部員名簿!E23=\"\",\"\",男子部員名簿!E23)","v":""},null,{"$f":"IF(男子部員名簿!F23=\"\",\"\",男子部員名簿!F23)","v":""},{"$f":"IF(男子部員名簿!C23=\"\",\"\",男子部員名簿!C23)","v":""},{"$f":"IF(男子部員名簿!I23=\"\",\"\",男子部員名簿!I23)","v":""},52,{"$f":"IF(男子部員名簿!E53=\"\",\"\",男子部員名簿!E53)","v":""},{"$f":"IF(男子部員名簿!F53=\"\",\"\",男子部員名簿!F53)","v":""},{"$f":"IF(男子部員名簿!C53=\"\",\"\",男子部員名簿!C53)","v":""},{"$f":"IF(男子部員名簿!I53=\"\",\"\",男子部員名簿!I53)","v":""}]
[23,{"$f":"IF(男子部員名簿!E24=\"\",\"\",男子部員名簿!E24)","v":""},null,{"$f":"IF(男子部員名簿!F24=\"\",\"\",男子部員名簿!F24)","v":""},{"$f":"IF(男子部員名簿!C24=\"\",\"\",男子部員名簿!C24)","v":""},{"$f":"IF(男子部員名簿!I24=\"\",\"\",男子部員名簿!I24)","v":""},53,{"$f":"IF(男子部員名簿!E54=\"\",\"\",男子部員名簿!E54)","v":""},{"$f":"IF(男子部員名簿!F54=\"\",\"\",男子部員名簿!F54)","v":""},{"$f":"IF(男子部員名簿!C54=\"\",\"\",男子部員名簿!C54)","v":""},{"$f":"IF(男子部員名簿!I54=\"\",\"\",男子部員名簿!I54)","v":""}]
[24,{"$f":"IF(男子部員名簿!E25=\"\",\"\",男子部員名簿!E25)","v":""},null,{"$f":"IF(男子部員名簿!F25=\"\",\"\",男子部員名簿!F25)","v":""},{"$f":"IF(男子部員名簿!C25=\"\",\"\",男子部員名簿!C25)","v":""},{"$f":"IF(男子部員名簿!I25=\"\",\"\",男子部員名簿!I25)","v":""},54,{"$f":"IF(男子部員名簿!E55=\"\",\"\",男子部員名簿!E55)","v":""},{"$f":"IF(男子部員名簿!F55=\"\",\"\",男子部員名簿!F55)","v":""},{"$f":"IF(男子部員名簿!C55=\"\",\"\",男子部員名簿!C55)","v":""},{"$f":"IF(男子部員名簿!I55=\"\",\"\",男子部員名簿!I55)","v":""}]
[25,{"$f":"IF(男子部員名簿!E26=\"\",\"\",男子部員名簿!E26)","v":""},null,{"$f":"IF(男子部員名簿!F26=\"\",\"\",男子部員名簿!F26)","v":""},{"$f":"IF(男子部員名簿!C26=\"\",\"\",男子部員名簿!C26)","v":""},{"$f":"IF(男子部員名簿!I26=\"\",\"\",男子部員名簿!I26)","v":""},55,{"$f":"IF(男子部員名簿!E56=\"\",\"\",男子部員名簿!E56)","v":""},{"$f":"IF(男子部員名簿!F56=\"\",\"\",男子部員名簿!F56)","v":""},{"$f":"IF(男子部員名簿!C56=\"\",\"\",男子部員名簿!C56)","v":""},{"$f":"IF(男子部員名簿!I56=\"\",\"\",男子部員名簿!I56)","v":""}]
[26,{"$f":"IF(男子部員名簿!E27=\"\",\"\",男子部員名簿!E27)","v":""},null,{"$f":"IF(男子部員名簿!F27=\"\",\"\",男子部員名簿!F27)","v":""},{"$f":"IF(男子部員名簿!C27=\"\",\"\",男子部員名簿!C27)","v":""},{"$f":"IF(男子部員名簿!I27=\"\",\"\",男子部員名簿!I27)","v":""},56,{"$f":"IF(男子部員名簿!E57=\"\",\"\",男子部員名簿!E57)","v":""},{"$f":"IF(男子部員名簿!F57=\"\",\"\",男子部員名簿!F57)","v":""},{"$f":"IF(男子部員名簿!C57=\"\",\"\",男子部員名簿!C57)","v":""},{"$f":"IF(男子部員名簿!I57=\"\",\"\",男子部員名簿!I57)","v":""}]
[27,{"$f":"IF(男子部員名簿!E28=\"\",\"\",男子部員名簿!E28)","v":""},null,{"$f":"IF(男子部員名簿!F28=\"\",\"\",男子部員名簿!F28)","v":""},{"$f":"IF(男子部員名簿!C28=\"\",\"\",男子部員名簿!C28)","v":""},{"$f":"IF(男子部員名簿!I28=\"\",\"\",男子部員名簿!I28)","v":""},57,{"$f":"IF(男子部員名簿!E58=\"\",\"\",男子部員名簿!E58)","v":""},{"$f":"IF(男子部員名簿!F58=\"\",\"\",男子部員名簿!F58)","v":""},{"$f":"IF(男子部員名簿!C58=\"\",\"\",男子部員名簿!C58)","v":""},{"$f":"IF(男子部員名簿!I58=\"\",\"\",男子部員名簿!I58)","v":""}]
[28,{"$f":"IF(男子部員名簿!E29=\"\",\"\",男子部員名簿!E29)","v":""},null,{"$f":"IF(男子部員名簿!F29=\"\",\"\",男子部員名簿!F29)","v":""},{"$f":"IF(男子部員名簿!C29=\"\",\"\",男子部員名簿!C29)","v":""},{"$f":"IF(男子部員名簿!I29=\"\",\"\",男子部員名簿!I29)","v":""},58,{"$f":"IF(男子部員名簿!E59=\"\",\"\",男子部員名簿!E59)","v":""},{"$f":"IF(男子部員名簿!F59=\"\",\"\",男子部員名簿!F59)","v":""},{"$f":"IF(男子部員名簿!C59=\"\",\"\",男子部員名簿!C59)","v":""},{"$f":"IF(男子部員名簿!I59=\"\",\"\",男子部員名簿!I59)","v":""}]
[29,{"$f":"IF(男子部員名簿!E30=\"\",\"\",男子部員名簿!E30)","v":""},null,{"$f":"IF(男子部員名簿!F30=\"\",\"\",男子部員名簿!F30)","v":""},{"$f":"IF(男子部員名簿!C30=\"\",\"\",男子部員名簿!C30)","v":""},{"$f":"IF(男子部員名簿!I30=\"\",\"\",男子部員名簿!I30)","v":""},59,{"$f":"IF(男子部員名簿!E60=\"\",\"\",男子部員名簿!E60)","v":""},{"$f":"IF(男子部員名簿!F60=\"\",\"\",男子部員名簿!F60)","v":""},{"$f":"IF(男子部員名簿!C60=\"\",\"\",男子部員名簿!C60)","v":""},{"$f":"IF(男子部員名簿!I60=\"\",\"\",男子部員名簿!I60)","v":""}]
[30,{"$f":"IF(男子部員名簿!E31=\"\",\"\",男子部員名簿!E31)","v":""},null,{"$f":"IF(男子部員名簿!F31=\"\",\"\",男子部員名簿!F31)","v":""},{"$f":"IF(男子部員名簿!C31=\"\",\"\",男子部員名簿!C31)","v":""},{"$f":"IF(男子部員名簿!I31=\"\",\"\",男子部員名簿!I31)","v":""},60,{"$f":"IF(男子部員名簿!E61=\"\",\"\",男子部員名簿!E61)","v":""},{"$f":"IF(男子部員名簿!F61=\"\",\"\",男子部員名簿!F61)","v":""},{"$f":"IF(男子部員名簿!C61=\"\",\"\",男子部員名簿!C61)","v":""},{"$f":"IF(男子部員名簿!I61=\"\",\"\",男子部員名簿!I61)","v":""}]
["提出先（下記２カ所に提出します）"]
[null,"（その１）　この登録用紙は、専門部委員長および青森県テニス協会宛てに、電子メールにデータファイルを添付して提出してください。データ処理を円滑に行うため、必ず電子メールによる提出してくださるようご協力ください。"]
[null,"（その２）　県春季大会において、学校負担金・個人登録料を納入する際、この登録用紙（印刷したもの）も一緒に会計まで提出してください。金額確認のために使用します。"]
["＊","この登録用紙は、印刷ボタンを押すと様式のとおりに印刷されます。"]
["＊","年度途中に部員が新規に加入した際は、個人登録が必要となります。その都度、上記２カ所に"]
[null,"必ず登録用紙を追加提出してください。また、個人登録料も速やかに納入してください。"]

{"sheet":"女子登録用紙","index":7,"n_rows":54,"n_cols":11,"rows_kept":54,"cut":false,"hidden":true,"merged":[[17,7,17,8],[12,3,13,3],[12,7,12,8],[10,7,10,8],[11,7,11,8],[12,9,13,10],[10,9,11,10],[13,7,13,8],[12,4,13,6],[2,9,2,10],[7,9,7,10],[8,9,9,10],[8,7,8,8],[9,7,9,8],[4,6,4,7],[38,1,38,2],[47,1,47,2],[4,0,4,1],[4,2,4,5],[6,0,6,1],[6,4,6,10],[7,0,7,2],[8,0,9,2],[8,3,9,3],[8,4,9,6],[7,4,7,6],[7,7,7,8],[12,0,13,2],[10,0,11,2],[10,3,11,3],[10,4,11,6],[50,1,50,10],[39,1,39,2],[40,1,40,2],[41,1,41,2],[42,1,42,2],[43,1,43,2],[44,1,44,2],[45,1,45,2],[46,1,46,2],[49,1,49,10],[37,1,37,2],[28,1,28,2],[29,1,29,2],[30,1,30,2],[31,1,31,2],[32,1,32,2],[0,3,0,4],[33,1,33,2],[34,1,34,2],[35,1,35,2],[36,1,36,2],[23,1,23,2],[24,1,24,2],[25,1,25,2],[26,1,26,2],[27,1,27,2],[18,1,18,2],[19,1,19,2],[20,1,20,2],[21,1,21,2],[22,1,22,2],[17,1,17,3]]}
[null,null,null,{"$f":"YEAR(設定情報!B1)","v":2022},null,"年度　庭球競技登録用紙"]
[null,null,null,null,null,"(種別","・","女子)"]
[null,null,null,null,null,null,null,"　　　　　　記載年月日：",null,{"$f":"NOW()","v":"2022-04-18T16:23:01.390"}]
[null,null,null,null,null,null,null,null,{"$f":"T(学校情報入力!C21)","v":""},null,{"$f":"T(学校情報入力!C26)","v":""}]
["学校名",null,{"$f":"T(学校情報入力!B1)","v":""},null,null,null,"引率責任者名",null,{"$f":"T(学校情報入力!C22)","v":""},"監督名",{"$f":"T(学校情報入力!C27)","v":""}]
[null,null,"TEL",{"$f":"学校情報入力!B5","v":{"$error":"#N/A"}},"FAX",{"$f":"学校情報入力!B6","v":{"$error":"#N/A"}},null,null,{"$f":"T(学校情報入力!C23)","v":""},null,{"$f":"T(学校情報入力!C28)","v":""}]
["学校住所",null,"〒",{"$f":"学校情報入力!B3","v":{"$error":"#N/A"}},{"$f":"学校情報入力!B4","v":{"$error":"#N/A"}}]
["顧問名",null,null,"郵便番号","現住所",null,null,"メールアドレス",null,"携帯電話"]
[{"$f":"T(学校情報入力!B16)","v":""},null,null,{"$f":"T(学校情報入力!C16)","v":""},{"$f":"T(学校情報入力!D16)","v":""},null,null,{"$f":"T(学校情報入力!F16)","v":""},null,{"$f":"T(学校情報入力!G16)","v":""}]
[null,null,null,null,null,null,null,{"$f":"T(学校情報入力!E16)","v":""}]
[{"$f":"T(学校情報入力!B17)","v":""},null,null,{"$f":"T(学校情報入力!C17)","v":""},{"$f":"T(学校情報入力!D17)","v":""},null,null,{"$f":"T(学校情報入力!F17)","v":""},null,{"$f":"T(学校情報入力!G17)","v":""}]
[null,null,null,null,null,null,null,{"$f":"T(学校情報入力!E17)","v":""}]
[{"$f":"T(学校情報入力!B18)","v":""},null,null,{"$f":"T(学校情報入力!C18)","v":""},{"$f":"T(学校情報入力!D18)","v":""},null,null,{"$f":"T(学校情報入力!F18)","v":""},null,{"$f":"T(学校情報入力!G18)","v":""}]
[null,null,null,null,null,null,null,{"$f":"T(学校情報入力!E18)","v":""}]
["お願い"]
["高体連テニス専門部からの諸連絡は原則メールで行います。必ずメールアドレスを記入してください。"]
[]
["№","名前",null,null,"学年","生年月日","№","名前",null,"学年","生年月日"]
[1,{"$f":"IF(女子部員名簿!E2=\"\",\"\",女子部員名簿!E2)","v":""},null,{"$f":"IF(女子部員名簿!F2=\"\",\"\",女子部員名簿!F2)","v":""},{"$f":"IF(女子部員名簿!C2=\"\",\"\",女子部員名簿!C2)","v":""},{"$f":"IF(女子部員名簿!I2=\"\",\"\",女子部員名簿!I2)","v":""},31,{"$f":"IF(女子部員名簿!E32=\"\",\"\",女子部員名簿!E32)","v":""},{"$f":"IF(女子部員名簿!F32=\"\",\"\",女子部員名簿!F32)","v":""},{"$f":"IF(女子部員名簿!C32=\"\",\"\",女子部員名簿!C32)","v":""},{"$f":"IF(女子部員名簿!I32=\"\",\"\",女子部員名簿!I32)","v":""}]
[2,{"$f":"IF(女子部員名簿!E3=\"\",\"\",女子部員名簿!E3)","v":""},null,{"$f":"IF(女子部員名簿!F3=\"\",\"\",女子部員名簿!F3)","v":""},{"$f":"IF(女子部員名簿!C3=\"\",\"\",女子部員名簿!C3)","v":""},{"$f":"IF(女子部員名簿!I3=\"\",\"\",女子部員名簿!I3)","v":""},32,{"$f":"IF(女子部員名簿!E33=\"\",\"\",女子部員名簿!E33)","v":""},{"$f":"IF(女子部員名簿!F33=\"\",\"\",女子部員名簿!F33)","v":""},{"$f":"IF(女子部員名簿!C33=\"\",\"\",女子部員名簿!C33)","v":""},{"$f":"IF(女子部員名簿!I33=\"\",\"\",女子部員名簿!I33)","v":""}]
[3,{"$f":"IF(女子部員名簿!E4=\"\",\"\",女子部員名簿!E4)","v":""},null,{"$f":"IF(女子部員名簿!F4=\"\",\"\",女子部員名簿!F4)","v":""},{"$f":"IF(女子部員名簿!C4=\"\",\"\",女子部員名簿!C4)","v":""},{"$f":"IF(女子部員名簿!I4=\"\",\"\",女子部員名簿!I4)","v":""},33,{"$f":"IF(女子部員名簿!E34=\"\",\"\",女子部員名簿!E34)","v":""},{"$f":"IF(女子部員名簿!F34=\"\",\"\",女子部員名簿!F34)","v":""},{"$f":"IF(女子部員名簿!C34=\"\",\"\",女子部員名簿!C34)","v":""},{"$f":"IF(女子部員名簿!I34=\"\",\"\",女子部員名簿!I34)","v":""}]
[4,{"$f":"IF(女子部員名簿!E5=\"\",\"\",女子部員名簿!E5)","v":""},null,{"$f":"IF(女子部員名簿!F5=\"\",\"\",女子部員名簿!F5)","v":""},{"$f":"IF(女子部員名簿!C5=\"\",\"\",女子部員名簿!C5)","v":""},{"$f":"IF(女子部員名簿!I5=\"\",\"\",女子部員名簿!I5)","v":""},34,{"$f":"IF(女子部員名簿!E35=\"\",\"\",女子部員名簿!E35)","v":""},{"$f":"IF(女子部員名簿!F35=\"\",\"\",女子部員名簿!F35)","v":""},{"$f":"IF(女子部員名簿!C35=\"\",\"\",女子部員名簿!C35)","v":""},{"$f":"IF(女子部員名簿!I35=\"\",\"\",女子部員名簿!I35)","v":""}]
[5,{"$f":"IF(女子部員名簿!E6=\"\",\"\",女子部員名簿!E6)","v":""},null,{"$f":"IF(女子部員名簿!F6=\"\",\"\",女子部員名簿!F6)","v":""},{"$f":"IF(女子部員名簿!C6=\"\",\"\",女子部員名簿!C6)","v":""},{"$f":"IF(女子部員名簿!I6=\"\",\"\",女子部員名簿!I6)","v":""},35,{"$f":"IF(女子部員名簿!E36=\"\",\"\",女子部員名簿!E36)","v":""},{"$f":"IF(女子部員名簿!F36=\"\",\"\",女子部員名簿!F36)","v":""},{"$f":"IF(女子部員名簿!C36=\"\",\"\",女子部員名簿!C36)","v":""},{"$f":"IF(女子部員名簿!I36=\"\",\"\",女子部員名簿!I36)","v":""}]
[6,{"$f":"IF(女子部員名簿!E7=\"\",\"\",女子部員名簿!E7)","v":""},null,{"$f":"IF(女子部員名簿!F7=\"\",\"\",女子部員名簿!F7)","v":""},{"$f":"IF(女子部員名簿!C7=\"\",\"\",女子部員名簿!C7)","v":""},{"$f":"IF(女子部員名簿!I7=\"\",\"\",女子部員名簿!I7)","v":""},36,{"$f":"IF(女子部員名簿!E37=\"\",\"\",女子部員名簿!E37)","v":""},{"$f":"IF(女子部員名簿!F37=\"\",\"\",女子部員名簿!F37)","v":""},{"$f":"IF(女子部員名簿!C37=\"\",\"\",女子部員名簿!C37)","v":""},{"$f":"IF(女子部員名簿!I37=\"\",\"\",女子部員名簿!I37)","v":""}]
[7,{"$f":"IF(女子部員名簿!E8=\"\",\"\",女子部員名簿!E8)","v":""},null,{"$f":"IF(女子部員名簿!F8=\"\",\"\",女子部員名簿!F8)","v":""},{"$f":"IF(女子部員名簿!C8=\"\",\"\",女子部員名簿!C8)","v":""},{"$f":"IF(女子部員名簿!I8=\"\",\"\",女子部員名簿!I8)","v":""},37,{"$f":"IF(女子部員名簿!E38=\"\",\"\",女子部員名簿!E38)","v":""},{"$f":"IF(女子部員名簿!F38=\"\",\"\",女子部員名簿!F38)","v":""},{"$f":"IF(女子部員名簿!C38=\"\",\"\",女子部員名簿!C38)","v":""},{"$f":"IF(女子部員名簿!I38=\"\",\"\",女子部員名簿!I38)","v":""}]
[8,{"$f":"IF(女子部員名簿!E9=\"\",\"\",女子部員名簿!E9)","v":""},null,{"$f":"IF(女子部員名簿!F9=\"\",\"\",女子部員名簿!F9)","v":""},{"$f":"IF(女子部員名簿!C9=\"\",\"\",女子部員名簿!C9)","v":""},{"$f":"IF(女子部員名簿!I9=\"\",\"\",女子部員名簿!I9)","v":""},38,{"$f":"IF(女子部員名簿!E39=\"\",\"\",女子部員名簿!E39)","v":""},{"$f":"IF(女子部員名簿!F39=\"\",\"\",女子部員名簿!F39)","v":""},{"$f":"IF(女子部員名簿!C39=\"\",\"\",女子部員名簿!C39)","v":""},{"$f":"IF(女子部員名簿!I39=\"\",\"\",女子部員名簿!I39)","v":""}]
[9,{"$f":"IF(女子部員名簿!E10=\"\",\"\",女子部員名簿!E10)","v":""},null,{"$f":"IF(女子部員名簿!F10=\"\",\"\",女子部員名簿!F10)","v":""},{"$f":"IF(女子部員名簿!C10=\"\",\"\",女子部員名簿!C10)","v":""},{"$f":"IF(女子部員名簿!I10=\"\",\"\",女子部員名簿!I10)","v":""},39,{"$f":"IF(女子部員名簿!E40=\"\",\"\",女子部員名簿!E40)","v":""},{"$f":"IF(女子部員名簿!F40=\"\",\"\",女子部員名簿!F40)","v":""},{"$f":"IF(女子部員名簿!C40=\"\",\"\",女子部員名簿!C40)","v":""},{"$f":"IF(女子部員名簿!I40=\"\",\"\",女子部員名簿!I40)","v":""}]
[10,{"$f":"IF(女子部員名簿!E11=\"\",\"\",女子部員名簿!E11)","v":""},null,{"$f":"IF(女子部員名簿!F11=\"\",\"\",女子部員名簿!F11)","v":""},{"$f":"IF(女子部員名簿!C11=\"\",\"\",女子部員名簿!C11)","v":""},{"$f":"IF(女子部員名簿!I11=\"\",\"\",女子部員名簿!I11)","v":""},40,{"$f":"IF(女子部員名簿!E41=\"\",\"\",女子部員名簿!E41)","v":""},{"$f":"IF(女子部員名簿!F41=\"\",\"\",女子部員名簿!F41)","v":""},{"$f":"IF(女子部員名簿!C41=\"\",\"\",女子部員名簿!C41)","v":""},{"$f":"IF(女子部員名簿!I41=\"\",\"\",女子部員名簿!I41)","v":""}]
[11,{"$f":"IF(女子部員名簿!E12=\"\",\"\",女子部員名簿!E12)","v":""},null,{"$f":"IF(女子部員名簿!F12=\"\",\"\",女子部員名簿!F12)","v":""},{"$f":"IF(女子部員名簿!C12=\"\",\"\",女子部員名簿!C12)","v":""},{"$f":"IF(女子部員名簿!I12=\"\",\"\",女子部員名簿!I12)","v":""},41,{"$f":"IF(女子部員名簿!E42=\"\",\"\",女子部員名簿!E42)","v":""},{"$f":"IF(女子部員名簿!F42=\"\",\"\",女子部員名簿!F42)","v":""},{"$f":"IF(女子部員名簿!C42=\"\",\"\",女子部員名簿!C42)","v":""},{"$f":"IF(女子部員名簿!I42=\"\",\"\",女子部員名簿!I42)","v":""}]
[12,{"$f":"IF(女子部員名簿!E13=\"\",\"\",女子部員名簿!E13)","v":""},null,{"$f":"IF(女子部員名簿!F13=\"\",\"\",女子部員名簿!F13)","v":""},{"$f":"IF(女子部員名簿!C13=\"\",\"\",女子部員名簿!C13)","v":""},{"$f":"IF(女子部員名簿!I13=\"\",\"\",女子部員名簿!I13)","v":""},42,{"$f":"IF(女子部員名簿!E43=\"\",\"\",女子部員名簿!E43)","v":""},{"$f":"IF(女子部員名簿!F43=\"\",\"\",女子部員名簿!F43)","v":""},{"$f":"IF(女子部員名簿!C43=\"\",\"\",女子部員名簿!C43)","v":""},{"$f":"IF(女子部員名簿!I43=\"\",\"\",女子部員名簿!I43)","v":""}]
[13,{"$f":"IF(女子部員名簿!E14=\"\",\"\",女子部員名簿!E14)","v":""},null,{"$f":"IF(女子部員名簿!F14=\"\",\"\",女子部員名簿!F14)","v":""},{"$f":"IF(女子部員名簿!C14=\"\",\"\",女子部員名簿!C14)","v":""},{"$f":"IF(女子部員名簿!I14=\"\",\"\",女子部員名簿!I14)","v":""},43,{"$f":"IF(女子部員名簿!E44=\"\",\"\",女子部員名簿!E44)","v":""},{"$f":"IF(女子部員名簿!F44=\"\",\"\",女子部員名簿!F44)","v":""},{"$f":"IF(女子部員名簿!C44=\"\",\"\",女子部員名簿!C44)","v":""},{"$f":"IF(女子部員名簿!I44=\"\",\"\",女子部員名簿!I44)","v":""}]
[14,{"$f":"IF(女子部員名簿!E15=\"\",\"\",女子部員名簿!E15)","v":""},null,{"$f":"IF(女子部員名簿!F15=\"\",\"\",女子部員名簿!F15)","v":""},{"$f":"IF(女子部員名簿!C15=\"\",\"\",女子部員名簿!C15)","v":""},{"$f":"IF(女子部員名簿!I15=\"\",\"\",女子部員名簿!I15)","v":""},44,{"$f":"IF(女子部員名簿!E45=\"\",\"\",女子部員名簿!E45)","v":""},{"$f":"IF(女子部員名簿!F45=\"\",\"\",女子部員名簿!F45)","v":""},{"$f":"IF(女子部員名簿!C45=\"\",\"\",女子部員名簿!C45)","v":""},{"$f":"IF(女子部員名簿!I45=\"\",\"\",女子部員名簿!I45)","v":""}]
[15,{"$f":"IF(女子部員名簿!E16=\"\",\"\",女子部員名簿!E16)","v":""},null,{"$f":"IF(女子部員名簿!F16=\"\",\"\",女子部員名簿!F16)","v":""},{"$f":"IF(女子部員名簿!C16=\"\",\"\",女子部員名簿!C16)","v":""},{"$f":"IF(女子部員名簿!I16=\"\",\"\",女子部員名簿!I16)","v":""},45,{"$f":"IF(女子部員名簿!E46=\"\",\"\",女子部員名簿!E46)","v":""},{"$f":"IF(女子部員名簿!F46=\"\",\"\",女子部員名簿!F46)","v":""},{"$f":"IF(女子部員名簿!C46=\"\",\"\",女子部員名簿!C46)","v":""},{"$f":"IF(女子部員名簿!I46=\"\",\"\",女子部員名簿!I46)","v":""}]
[16,{"$f":"IF(女子部員名簿!E17=\"\",\"\",女子部員名簿!E17)","v":""},null,{"$f":"IF(女子部員名簿!F17=\"\",\"\",女子部員名簿!F17)","v":""},{"$f":"IF(女子部員名簿!C17=\"\",\"\",女子部員名簿!C17)","v":""},{"$f":"IF(女子部員名簿!I17=\"\",\"\",女子部員名簿!I17)","v":""},46,{"$f":"IF(女子部員名簿!E47=\"\",\"\",女子部員名簿!E47)","v":""},{"$f":"IF(女子部員名簿!F47=\"\",\"\",女子部員名簿!F47)","v":""},{"$f":"IF(女子部員名簿!C47=\"\",\"\",女子部員名簿!C47)","v":""},{"$f":"IF(女子部員名簿!I47=\"\",\"\",女子部員名簿!I47)","v":""}]
[17,{"$f":"IF(女子部員名簿!E18=\"\",\"\",女子部員名簿!E18)","v":""},null,{"$f":"IF(女子部員名簿!F18=\"\",\"\",女子部員名簿!F18)","v":""},{"$f":"IF(女子部員名簿!C18=\"\",\"\",女子部員名簿!C18)","v":""},{"$f":"IF(女子部員名簿!I18=\"\",\"\",女子部員名簿!I18)","v":""},47,{"$f":"IF(女子部員名簿!E48=\"\",\"\",女子部員名簿!E48)","v":""},{"$f":"IF(女子部員名簿!F48=\"\",\"\",女子部員名簿!F48)","v":""},{"$f":"IF(女子部員名簿!C48=\"\",\"\",女子部員名簿!C48)","v":""},{"$f":"IF(女子部員名簿!I48=\"\",\"\",女子部員名簿!I48)","v":""}]
[18,{"$f":"IF(女子部員名簿!E19=\"\",\"\",女子部員名簿!E19)","v":""},null,{"$f":"IF(女子部員名簿!F19=\"\",\"\",女子部員名簿!F19)","v":""},{"$f":"IF(女子部員名簿!C19=\"\",\"\",女子部員名簿!C19)","v":""},{"$f":"IF(女子部員名簿!I19=\"\",\"\",女子部員名簿!I19)","v":""},48,{"$f":"IF(女子部員名簿!E49=\"\",\"\",女子部員名簿!E49)","v":""},{"$f":"IF(女子部員名簿!F49=\"\",\"\",女子部員名簿!F49)","v":""},{"$f":"IF(女子部員名簿!C49=\"\",\"\",女子部員名簿!C49)","v":""},{"$f":"IF(女子部員名簿!I49=\"\",\"\",女子部員名簿!I49)","v":""}]
[19,{"$f":"IF(女子部員名簿!E20=\"\",\"\",女子部員名簿!E20)","v":""},null,{"$f":"IF(女子部員名簿!F20=\"\",\"\",女子部員名簿!F20)","v":""},{"$f":"IF(女子部員名簿!C20=\"\",\"\",女子部員名簿!C20)","v":""},{"$f":"IF(女子部員名簿!I20=\"\",\"\",女子部員名簿!I20)","v":""},49,{"$f":"IF(女子部員名簿!E50=\"\",\"\",女子部員名簿!E50)","v":""},{"$f":"IF(女子部員名簿!F50=\"\",\"\",女子部員名簿!F50)","v":""},{"$f":"IF(女子部員名簿!C50=\"\",\"\",女子部員名簿!C50)","v":""},{"$f":"IF(女子部員名簿!I50=\"\",\"\",女子部員名簿!I50)","v":""}]
[20,{"$f":"IF(女子部員名簿!E21=\"\",\"\",女子部員名簿!E21)","v":""},null,{"$f":"IF(女子部員名簿!F21=\"\",\"\",女子部員名簿!F21)","v":""},{"$f":"IF(女子部員名簿!C21=\"\",\"\",女子部員名簿!C21)","v":""},{"$f":"IF(女子部員名簿!I21=\"\",\"\",女子部員名簿!I21)","v":""},50,{"$f":"IF(女子部員名簿!E51=\"\",\"\",女子部員名簿!E51)","v":""},{"$f":"IF(女子部員名簿!F51=\"\",\"\",女子部員名簿!F51)","v":""},{"$f":"IF(女子部員名簿!C51=\"\",\"\",女子部員名簿!C51)","v":""},{"$f":"IF(女子部員名簿!I51=\"\",\"\",女子部員名簿!I51)","v":""}]
[21,{"$f":"IF(女子部員名簿!E22=\"\",\"\",女子部員名簿!E22)","v":""},null,{"$f":"IF(女子部員名簿!F22=\"\",\"\",女子部員名簿!F22)","v":""},{"$f":"IF(女子部員名簿!C22=\"\",\"\",女子部員名簿!C22)","v":""},{"$f":"IF(女子部員名簿!I22=\"\",\"\",女子部員名簿!I22)","v":""},51,{"$f":"IF(女子部員名簿!E52=\"\",\"\",女子部員名簿!E52)","v":""},{"$f":"IF(女子部員名簿!F52=\"\",\"\",女子部員名簿!F52)","v":""},{"$f":"IF(女子部員名簿!C52=\"\",\"\",女子部員名簿!C52)","v":""},{"$f":"IF(女子部員名簿!I52=\"\",\"\",女子部員名簿!I52)","v":""}]
[22,{"$f":"IF(女子部員名簿!E23=\"\",\"\",女子部員名簿!E23)","v":""},null,{"$f":"IF(女子部員名簿!F23=\"\",\"\",女子部員名簿!F23)","v":""},{"$f":"IF(女子部員名簿!C23=\"\",\"\",女子部員名簿!C23)","v":""},{"$f":"IF(女子部員名簿!I23=\"\",\"\",女子部員名簿!I23)","v":""},52,{"$f":"IF(女子部員名簿!E53=\"\",\"\",女子部員名簿!E53)","v":""},{"$f":"IF(女子部員名簿!F53=\"\",\"\",女子部員名簿!F53)","v":""},{"$f":"IF(女子部員名簿!C53=\"\",\"\",女子部員名簿!C53)","v":""},{"$f":"IF(女子部員名簿!I53=\"\",\"\",女子部員名簿!I53)","v":""}]
[23,{"$f":"IF(女子部員名簿!E24=\"\",\"\",女子部員名簿!E24)","v":""},null,{"$f":"IF(女子部員名簿!F24=\"\",\"\",女子部員名簿!F24)","v":""},{"$f":"IF(女子部員名簿!C24=\"\",\"\",女子部員名簿!C24)","v":""},{"$f":"IF(女子部員名簿!I24=\"\",\"\",女子部員名簿!I24)","v":""},53,{"$f":"IF(女子部員名簿!E54=\"\",\"\",女子部員名簿!E54)","v":""},{"$f":"IF(女子部員名簿!F54=\"\",\"\",女子部員名簿!F54)","v":""},{"$f":"IF(女子部員名簿!C54=\"\",\"\",女子部員名簿!C54)","v":""},{"$f":"IF(女子部員名簿!I54=\"\",\"\",女子部員名簿!I54)","v":""}]
[24,{"$f":"IF(女子部員名簿!E25=\"\",\"\",女子部員名簿!E25)","v":""},null,{"$f":"IF(女子部員名簿!F25=\"\",\"\",女子部員名簿!F25)","v":""},{"$f":"IF(女子部員名簿!C25=\"\",\"\",女子部員名簿!C25)","v":""},{"$f":"IF(女子部員名簿!I25=\"\",\"\",女子部員名簿!I25)","v":""},54,{"$f":"IF(女子部員名簿!E55=\"\",\"\",女子部員名簿!E55)","v":""},{"$f":"IF(女子部員名簿!F55=\"\",\"\",女子部員名簿!F55)","v":""},{"$f":"IF(女子部員名簿!C55=\"\",\"\",女子部員名簿!C55)","v":""},{"$f":"IF(女子部員名簿!I55=\"\",\"\",女子部員名簿!I55)","v":""}]
[25,{"$f":"IF(女子部員名簿!E26=\"\",\"\",女子部員名簿!E26)","v":""},null,{"$f":"IF(女子部員名簿!F26=\"\",\"\",女子部員名簿!F26)","v":""},{"$f":"IF(女子部員名簿!C26=\"\",\"\",女子部員名簿!C26)","v":""},{"$f":"IF(女子部員名簿!I26=\"\",\"\",女子部員名簿!I26)","v":""},55,{"$f":"IF(女子部員名簿!E56=\"\",\"\",女子部員名簿!E56)","v":""},{"$f":"IF(女子部員名簿!F56=\"\",\"\",女子部員名簿!F56)","v":""},{"$f":"IF(女子部員名簿!C56=\"\",\"\",女子部員名簿!C56)","v":""},{"$f":"IF(女子部員名簿!I56=\"\",\"\",女子部員名簿!I56)","v":""}]
[26,{"$f":"IF(女子部員名簿!E27=\"\",\"\",女子部員名簿!E27)","v":""},null,{"$f":"IF(女子部員名簿!F27=\"\",\"\",女子部員名簿!F27)","v":""},{"$f":"IF(女子部員名簿!C27=\"\",\"\",女子部員名簿!C27)","v":""},{"$f":"IF(女子部員名簿!I27=\"\",\"\",女子部員名簿!I27)","v":""},56,{"$f":"IF(女子部員名簿!E57=\"\",\"\",女子部員名簿!E57)","v":""},{"$f":"IF(女子部員名簿!F57=\"\",\"\",女子部員名簿!F57)","v":""},{"$f":"IF(女子部員名簿!C57=\"\",\"\",女子部員名簿!C57)","v":""},{"$f":"IF(女子部員名簿!I57=\"\",\"\",女子部員名簿!I57)","v":""}]
[27,{"$f":"IF(女子部員名簿!E28=\"\",\"\",女子部員名簿!E28)","v":""},null,{"$f":"IF(女子部員名簿!F28=\"\",\"\",女子部員名簿!F28)","v":""},{"$f":"IF(女子部員名簿!C28=\"\",\"\",女子部員名簿!C28)","v":""},{"$f":"IF(女子部員名簿!I28=\"\",\"\",女子部員名簿!I28)","v":""},57,{"$f":"IF(女子部員名簿!E58=\"\",\"\",女子部員名簿!E58)","v":""},{"$f":"IF(女子部員名簿!F58=\"\",\"\",女子部員名簿!F58)","v":""},{"$f":"IF(女子部員名簿!C58=\"\",\"\",女子部員名簿!C58)","v":""},{"$f":"IF(女子部員名簿!I58=\"\",\"\",女子部員名簿!I58)","v":""}]
[28,{"$f":"IF(女子部員名簿!E29=\"\",\"\",女子部員名簿!E29)","v":""},null,{"$f":"IF(女子部員名簿!F29=\"\",\"\",女子部員名簿!F29)","v":""},{"$f":"IF(女子部員名簿!C29=\"\",\"\",女子部員名簿!C29)","v":""},{"$f":"IF(女子部員名簿!I29=\"\",\"\",女子部員名簿!I29)","v":""},58,{"$f":"IF(女子部員名簿!E59=\"\",\"\",女子部員名簿!E59)","v":""},{"$f":"IF(女子部員名簿!F59=\"\",\"\",女子部員名簿!F59)","v":""},{"$f":"IF(女子部員名簿!C59=\"\",\"\",女子部員名簿!C59)","v":""},{"$f":"IF(女子部員名簿!I59=\"\",\"\",女子部員名簿!I59)","v":""}]
[29,{"$f":"IF(女子部員名簿!E30=\"\",\"\",女子部員名簿!E30)","v":""},null,{"$f":"IF(女子部員名簿!F30=\"\",\"\",女子部員名簿!F30)","v":""},{"$f":"IF(女子部員名簿!C30=\"\",\"\",女子部員名簿!C30)","v":""},{"$f":"IF(女子部員名簿!I30=\"\",\"\",女子部員名簿!I30)","v":""},59,{"$f":"IF(女子部員名簿!E60=\"\",\"\",女子部員名簿!E60)","v":""},{"$f":"IF(女子部員名簿!F60=\"\",\"\",女子部員名簿!F60)","v":""},{"$f":"IF(女子部員名簿!C60=\"\",\"\",女子部員名簿!C60)","v":""},{"$f":"IF(女子部員名簿!I60=\"\",\"\",女子部員名簿!I60)","v":""}]
[30,{"$f":"IF(女子部員名簿!E31=\"\",\"\",女子部員名簿!E31)","v":""},null,{"$f":"IF(女子部員名簿!F31=\"\",\"\",女子部員名簿!F31)","v":""},{"$f":"IF(女子部員名簿!C31=\"\",\"\",女子部員名簿!C31)","v":""},{"$f":"IF(女子部員名簿!I31=\"\",\"\",女子部員名簿!I31)","v":""},60,{"$f":"IF(女子部員名簿!E61=\"\",\"\",女子部員名簿!E61)","v":""},{"$f":"IF(女子部員名簿!F61=\"\",\"\",女子部員名簿!F61)","v":""},{"$f":"IF(女子部員名簿!C61=\"\",\"\",女子部員名簿!C61)","v":""},{"$f":"IF(女子部員名簿!I61=\"\",\"\",女子部員名簿!I61)","v":""}]
["提出先（下記２カ所に提出します）"]
[null,"（その１）　この登録用紙は、専門部委員長および青森県テニス協会宛てに、電子メールにデータファイルを添付して提出してください。データ処理を円滑に行うため、必ず電子メールによる提出してくださるようご協力ください。"]
[null,"（その２）　県春季大会において、学校負担金・個人登録料を納入する際、この登録用紙（印刷したもの）も一緒に会計まで提出してください。金額確認のために使用します。"]
["＊","この登録用紙は、印刷ボタンを押すと様式のとおりに印刷されます。"]
["＊","年度途中に部員が新規に加入した際は、個人登録が必要となります。その都度、上記２カ所に"]
[null,"必ず登録用紙を追加提出してください。また、個人登録料も速やかに納入してください。"]

{"sheet":"男子登録票（協会用）","index":8,"n_rows":228,"n_cols":18,"rows_kept":228,"cut":false,"hidden":true,"merged":[]}
["Memberid","Clubnumber","MembershipType","Prefecture","Prefecturememberid","Birthdate","Gender","Lastname","Firstname","Lastname_kana","Firstname_kana","Lastname_alphabet","Firstname_alphabet","Country","IPIN","Email","Teamname","Grade"]
[{"$f":"IF(E2=\"\",\"\",INDEX(昨年度登録データ!$A$2:$A$1000,MATCH(E2,昨年度登録データ!$E$2:$E$1000,0)))","v":""},{"$f":"IF(H2<>\"\",VLOOKUP(学校情報入力!$B$1,青森県高等学校住所一覧!$A$2:$G$79,7,0),\"\")","v":""},{"$f":"IF(H2<>\"\",\"JTAジュニア選手登録\",\"\")","v":""},{"$f":"IF(H2<>\"\",\"PF02\",\"\")","v":""},{"$f":"IF(男子部員名簿!B2=\"\",\"\",N(男子部員名簿!B2))","v":""},{"$f":"IF(H2<>\"\",男子部員名簿!I2,\"\")","v":""},{"$f":"IF(H2<>\"\",\"M\",\"\")","v":""},{"$f":"T(男子部員名簿!E2)","v":""},{"$f":"T(男子部員名簿!F2)","v":""},{"$f":"PHONETIC(男子部員名簿!G2)","v":""},{"$f":"PHONETIC(男子部員名簿!H2)","v":""},null,null,null,null,null,{"$f":"IF(H2<>\"\",学校情報入力!$B$1,\"\")","v":""},{"$f":"IF(男子部員名簿!C2=\"\",\"\",N(男子部員名簿!C2))","v":""}]
[{"$f":"IF(E3=\"\",\"\",INDEX(昨年度登録データ!$A$2:$A$1000,MATCH(E3,昨年度登録データ!$E$2:$E$1000,0)))","v":""},{"$f":"IF(H3<>\"\",VLOOKUP(学校情報入力!$B$1,青森県高等学校住所一覧!$A$2:$G$79,7,0),\"\")","v":""},{"$f":"IF(H3<>\"\",\"JTAジュニア選手登録\",\"\")","v":""},{"$f":"IF(H3<>\"\",\"PF02\",\"\")","v":""},{"$f":"IF(男子部員名簿!B3=\"\",\"\",N(男子部員名簿!B3))","v":""},{"$f":"IF(H3<>\"\",男子部員名簿!I3,\"\")","v":""},"",{"$f":"T(男子部員名簿!E3)","v":""},{"$f":"T(男子部員名簿!F3)","v":""},{"$f":"PHONETIC(男子部員名簿!G3)","v":""},{"$f":"PHONETIC(男子部員名簿!H3)","v":""},null,null,null,null,null,{"$f":"IF(H3<>\"\",学校情報入力!$B$1,\"\")","v":""},{"$f":"IF(男子部員名簿!C3=\"\",\"\",N(男子部員名簿!C3))","v":""}]
[{"$f":"IF(E4=\"\",\"\",INDEX(昨年度登録データ!$A$2:$A$1000,MATCH(E4,昨年度登録データ!$E$2:$E$1000,0)))","v":""},{"$f":"IF(H4<>\"\",VLOOKUP(学校情報入力!$B$1,青森県高等学校住所一覧!$A$2:$G$79,7,0),\"\")","v":""},"","",{"$f":"IF(男子部員名簿!B4=\"\",\"\",N(男子部員名簿!B4))","v":""},{"$f":"IF(H4<>\"\",男子部員名簿!I4,\"\")","v":""},"",{"$f":"T(男子部員名簿!E4)","v":""},{"$f":"T(男子部員名簿!F4)","v":""},{"$f":"PHONETIC(男子部員名簿!G4)","v":""},{"$f":"PHONETIC(男子部員名簿!H4)","v":""},null,null,null,null,null,{"$f":"IF(H4<>\"\",学校情報入力!$B$1,\"\")","v":""},{"$f":"IF(男子部員名簿!C4=\"\",\"\",N(男子部員名簿!C4))","v":""}]
[{"$f":"IF(E5=\"\",\"\",INDEX(昨年度登録データ!$A$2:$A$1000,MATCH(E5,昨年度登録データ!$E$2:$E$1000,0)))","v":""},{"$f":"IF(H5<>\"\",VLOOKUP(学校情報入力!$B$1,青森県高等学校住所一覧!$A$2:$G$79,7,0),\"\")","v":""},"","",{"$f":"IF(男子部員名簿!B5=\"\",\"\",N(男子部員名簿!B5))","v":""},{"$f":"IF(H5<>\"\",男子部員名簿!I5,\"\")","v":""},"",{"$f":"T(男子部員名簿!E5)","v":""},{"$f":"T(男子部員名簿!F5)","v":""},{"$f":"PHONETIC(男子部員名簿!G5)","v":""},{"$f":"PHONETIC(男子部員名簿!H5)","v":""},null,null,null,null,null,{"$f":"IF(H5<>\"\",学校情報入力!$B$1,\"\")","v":""},{"$f":"IF(男子部員名簿!C5=\"\",\"\",N(男子部員名簿!C5))","v":""}]
[{"$f":"IF(E6=\"\",\"\",INDEX(昨年度登録データ!$A$2:$A$1000,MATCH(E6,昨年度登録データ!$E$2:$E$1000,0)))","v":""},{"$f":"IF(H6<>\"\",VLOOKUP(学校情報入力!$B$1,青森県高等学校住所一覧!$A$2:$G$79,7,0),\"\")","v":""},"","",{"$f":"IF(男子部員名簿!B6=\"\",\"\",N(男子部員名簿!B6))","v":""},{"$f":"IF(H6<>\"\",男子部員名簿!I6,\"\")","v":""},"",{"$f":"T(男子部員名簿!E6)","v":""},{"$f":"T(男子部員名簿!F6)","v":""},{"$f":"PHONETIC(男子部員名簿!G6)","v":""},{"$f":"PHONETIC(男子部員名簿!H6)","v":""},null,null,null,null,null,{"$f":"IF(H6<>\"\",学校情報入力!$B$1,\"\")","v":""},{"$f":"IF(男子部員名簿!C6=\"\",\"\",N(男子部員名簿!C6))","v":""}]
[{"$f":"IF(E7=\"\",\"\",INDEX(昨年度登録データ!$A$2:$A$1000,MATCH(E7,昨年度登録データ!$E$2:$E$1000,0)))","v":""},{"$f":"IF(H7<>\"\",VLOOKUP(学校情報入力!$B$1,青森県高等学校住所一覧!$A$2:$G$79,7,0),\"\")","v":""},"","",{"$f":"IF(男子部員名簿!B7=\"\",\"\",N(男子部員名簿!B7))","v":""},{"$f":"IF(H7<>\"\",男子部員名簿!I7,\"\")","v":""},"",{"$f":"T(男子部員名簿!E7)","v":""},{"$f":"T(男子部員名簿!F7)","v":""},{"$f":"PHONETIC(男子部員名簿!G7)","v":""},{"$f":"PHONETIC(男子部員名簿!H7)","v":""},null,null,null,null,null,{"$f":"IF(H7<>\"\",学校情報入力!$B$1,\"\")","v":""},{"$f":"IF(男子部員名簿!C7=\"\",\"\",N(男子部員名簿!C7))","v":""}]
[{"$f":"IF(E8=\"\",\"\",INDEX(昨年度登録データ!$A$2:$A$1000,MATCH(E8,昨年度登録データ!$E$2:$E$1000,0)))","v":""},{"$f":"IF(H8<>\"\",VLOOKUP(学校情報入力!$B$1,青森県高等学校住所一覧!$A$2:$G$79,7,0),\"\")","v":""},"","",{"$f":"IF(男子部員名簿!B8=\"\",\"\",N(男子部員名簿!B8))","v":""},{"$f":"IF(H8<>\"\",男子部員名簿!I8,\"\")","v":""},"",{"$f":"T(男子部員名簿!E8)","v":""},{"$f":"T(男子部員名簿!F8)","v":""},{"$f":"PHONETIC(男子部員名簿!G8)","v":""},{"$f":"PHONETIC(男子部員名簿!H8)","v":""},null,null,null,null,null,{"$f":"IF(H8<>\"\",学校情報入力!$B$1,\"\")","v":""},{"$f":"IF(男子部員名簿!C8=\"\",\"\",N(男子部員名簿!C8))","v":""}]
[{"$f":"IF(E9=\"\",\"\",INDEX(昨年度登録データ!$A$2:$A$1000,MATCH(E9,昨年度登録データ!$E$2:$E$1000,0)))","v":""},{"$f":"IF(H9<>\"\",VLOOKUP(学校情報入力!$B$1,青森県高等学校住所一覧!$A$2:$G$79,7,0),\"\")","v":""},"","",{"$f":"IF(男子部員名簿!B9=\"\",\"\",N(男子部員名簿!B9))","v":""},{"$f":"IF(H9<>\"\",男子部員名簿!I9,\"\")","v":""},"",{"$f":"T(男子部員名簿!E9)","v":""},{"$f":"T(男子部員名簿!F9)","v":""},{"$f":"PHONETIC(男子部員名簿!G9)","v":""},{"$f":"PHONETIC(男子部員名簿!H9)","v":""},null,null,null,null,null,{"$f":"IF(H9<>\"\",学校情報入力!$B$1,\"\")","v":""},{"$f":"IF(男子部員名簿!C9=\"\",\"\",N(男子部員名簿!C9))","v":""}]
[{"$f":"IF(E10=\"\",\"\",INDEX(昨年度登録データ!$A$2:$A$1000,MATCH(E10,昨年度登録データ!$E$2:$E$1000,0)))","v":""},{"$f":"IF(H10<>\"\",VLOOKUP(学校情報入力!$B$1,青森県高等学校住所一覧!$A$2:$G$79,7,0),\"\")","v":""},"","",{"$f":"IF(男子部員名簿!B10=\"\",\"\",N(男子部員名簿!B10))","v":""},{"$f":"IF(H10<>\"\",男子部員名簿!I10,\"\")","v":""},"",{"$f":"T(男子部員名簿!E10)","v":""},{"$f":"T(男子部員名簿!F10)","v":""},{"$f":"PHONETIC(男子部員名簿!G10)","v":""},{"$f":"PHONETIC(男子部員名簿!H10)","v":""},null,null,null,null,null,{"$f":"IF(H10<>\"\",学校情報入力!$B$1,\"\")","v":""},{"$f":"IF(男子部員名簿!C10=\"\",\"\",N(男子部員名簿!C10))","v":""}]
[{"$f":"IF(E11=\"\",\"\",INDEX(昨年度登録データ!$A$2:$A$1000,MATCH(E11,昨年度登録データ!$E$2:$E$1000,0)))","v":""},{"$f":"IF(H11<>\"\",VLOOKUP(学校情報入力!$B$1,青森県高等学校住所一覧!$A$2:$G$79,7,0),\"\")","v":""},"","",{"$f":"IF(男子部員名簿!B11=\"\",\"\",N(男子部員名簿!B11))","v":""},{"$f":"IF(H11<>\"\",男子部員名簿!I11,\"\")","v":""},"",{"$f":"T(男子部員名簿!E11)","v":""},{"$f":"T(男子部員名簿!F11)","v":""},{"$f":"PHONETIC(男子部員名簿!G11)","v":""},{"$f":"PHONETIC(男子部員名簿!H11)","v":""},null,null,null,null,null,{"$f":"IF(H11<>\"\",学校情報入力!$B$1,\"\")","v":""},{"$f":"IF(男子部員名簿!C11=\"\",\"\",N(男子部員名簿!C11))","v":""}]
[{"$f":"IF(E12=\"\",\"\",INDEX(昨年度登録データ!$A$2:$A$1000,MATCH(E12,昨年度登録データ!$E$2:$E$1000,0)))","v":""},{"$f":"IF(H12<>\"\",VLOOKUP(学校情報入力!$B$1,青森県高等学校住所一覧!$A$2:$G$79,7,0),\"\")","v":""},"","",{"$f":"IF(男子部員名簿!B12=\"\",\"\",N(男子部員名簿!B12))","v":""},{"$f":"IF(H12<>\"\",男子部員名簿!I12,\"\")","v":""},"",{"$f":"T(男子部員名簿!E12)","v":""},{"$f":"T(男子部員名簿!F12)","v":""},{"$f":"PHONETIC(男子部員名簿!G12)","v":""},{"$f":"PHONETIC(男子部員名簿!H12)","v":""},null,null,null,null,null,{"$f":"IF(H12<>\"\",学校情報入力!$B$1,\"\")","v":""},{"$f":"IF(男子部員名簿!C12=\"\",\"\",N(男子部員名簿!C12))","v":""}]
[{"$f":"IF(E13=\"\",\"\",INDEX(昨年度登録データ!$A$2:$A$1000,MATCH(E13,昨年度登録データ!$E$2:$E$1000,0)))","v":""},{"$f":"IF(H13<>\"\",VLOOKUP(学校情報入力!$B$1,青森県高等学校住所一覧!$A$2:$G$79,7,0),\"\")","v":""},"","",{"$f":"IF(男子部員名簿!B13=\"\",\"\",N(男子部員名簿!B13))","v":""},{"$f":"IF(H13<>\"\",男子部員名簿!I13,\"\")","v":""},"",{"$f":"T(男子部員名簿!E13)","v":""},{"$f":"T(男子部員名簿!F13)","v":""},{"$f":"PHONETIC(男子部員名簿!G13)","v":""},{"$f":"PHONETIC(男子部員名簿!H13)","v":""},null,null,null,null,null,{"$f":"IF(H13<>\"\",学校情報入力!$B$1,\"\")","v":""},{"$f":"IF(男子部員名簿!C13=\"\",\"\",N(男子部員名簿!C13))","v":""}]
[{"$f":"IF(E14=\"\",\"\",INDEX(昨年度登録データ!$A$2:$A$1000,MATCH(E14,昨年度登録データ!$E$2:$E$1000,0)))","v":""},{"$f":"IF(H14<>\"\",VLOOKUP(学校情報入力!$B$1,青森県高等学校住所一覧!$A$2:$G$79,7,0),\"\")","v":""},"","",{"$f":"IF(男子部員名簿!B14=\"\",\"\",N(男子部員名簿!B14))","v":""},{"$f":"IF(H14<>\"\",男子部員名簿!I14,\"\")","v":""},"",{"$f":"T(男子部員名簿!E14)","v":""},{"$f":"T(男子部員名簿!F14)","v":""},{"$f":"PHONETIC(男子部員名簿!G14)","v":""},{"$f":"PHONETIC(男子部員名簿!H14)","v":""},null,null,null,null,null,{"$f":"IF(H14<>\"\",学校情報入力!$B$1,\"\")","v":""},{"$f":"IF(男子部員名簿!C14=\"\",\"\",N(男子部員名簿!C14))","v":""}]
[{"$f":"IF(E15=\"\",\"\",INDEX(昨年度登録データ!$A$2:$A$1000,MATCH(E15,昨年度登録データ!$E$2:$E$1000,0)))","v":""},{"$f":"IF(H15<>\"\",VLOOKUP(学校情報入力!$B$1,青森県高等学校住所一覧!$A$2:$G$79,7,0),\"\")","v":""},"","",{"$f":"IF(男子部員名簿!B15=\"\",\"\",N(男子部員名簿!B15))","v":""},{"$f":"IF(H15<>\"\",男子部員名簿!I15,\"\")","v":""},"",{"$f":"T(男子部員名簿!E15)","v":""},{"$f":"T(男子部員名簿!F15)","v":""},{"$f":"PHONETIC(男子部員名簿!G15)","v":""},{"$f":"PHONETIC(男子部員名簿!H15)","v":""},null,null,null,null,null,{"$f":"IF(H15<>\"\",学校情報入力!$B$1,\"\")","v":""},{"$f":"IF(男子部員名簿!C15=\"\",\"\",N(男子部員名簿!C15))","v":""}]
[{"$f":"IF(E16=\"\",\"\",INDEX(昨年度登録データ!$A$2:$A$1000,MATCH(E16,昨年度登録データ!$E$2:$E$1000,0)))","v":""},{"$f":"IF(H16<>\"\",VLOOKUP(学校情報入力!$B$1,青森県高等学校住所一覧!$A$2:$G$79,7,0),\"\")","v":""},"","",{"$f":"IF(男子部員名簿!B16=\"\",\"\",N(男子部員名簿!B16))","v":""},{"$f":"IF(H16<>\"\",男子部員名簿!I16,\"\")","v":""},"",{"$f":"T(男子部員名簿!E16)","v":""},{"$f":"T(男子部員名簿!F16)","v":""},{"$f":"PHONETIC(男子部員名簿!G16)","v":""},{"$f":"PHONETIC(男子部員名簿!H16)","v":""},null,null,null,null,null,{"$f":"IF(H16<>\"\",学校情報入力!$B$1,\"\")","v":""},{"$f":"IF(男子部員名簿!C16=\"\",\"\",N(男子部員名簿!C16))","v":""}]
[{"$f":"IF(E17=\"\",\"\",INDEX(昨年度登録データ!$A$2:$A$1000,MATCH(E17,昨年度登録データ!$E$2:$E$1000,0)))","v":""},{"$f":"IF(H17<>\"\",VLOOKUP(学校情報入力!$B$1,青森県高等学校住所一覧!$A$2:$G$79,7,0),\"\")","v":""},"","",{"$f":"IF(男子部員名簿!B17=\"\",\"\",N(男子部員名簿!B17))","v":""},{"$f":"IF(H17<>\"\",男子部員名簿!I17,\"\")","v":""},"",{"$f":"T(男子部員名簿!E17)","v":""},{"$f":"T(男子部員名簿!F17)","v":""},{"$f":"PHONETIC(男子部員名簿!G17)","v":""},{"$f":"PHONETIC(男子部員名簿!H17)","v":""},null,null,null,null,null,{"$f":"IF(H17<>\"\",学校情報入力!$B$1,\"\")","v":""},{"$f":"IF(男子部員名簿!C17=\"\",\"\",N(男子部員名簿!C17))","v":""}]
[{"$f":"IF(E18=\"\",\"\",INDEX(昨年度登録データ!$A$2:$A$1000,MATCH(E18,昨年度登録データ!$E$2:$E$1000,0)))","v":""},{"$f":"IF(H18<>\"\",VLOOKUP(学校情報入力!$B$1,青森県高等学校住所一覧!$A$2:$G$79,7,0),\"\")","v":""},"","",{"$f":"IF(男子部員名簿!B18=\"\",\"\",N(男子部員名簿!B18))","v":""},{"$f":"IF(H18<>\"\",男子部員名簿!I18,\"\")","v":""},"",{"$f":"T(男子部員名簿!E18)","v":""},{"$f":"T(男子部員名簿!F18)","v":""},{"$f":"PHONETIC(男子部員名簿!G18)","v":""},{"$f":"PHONETIC(男子部員名簿!H18)","v":""},null,null,null,null,null,{"$f":"IF(H18<>\"\",学校情報入力!$B$1,\"\")","v":""},{"$f":"IF(男子部員名簿!C18=\"\",\"\",N(男子部員名簿!C18))","v":""}]
[{"$f":"IF(E19=\"\",\"\",INDEX(昨年度登録データ!$A$2:$A$1000,MATCH(E19,昨年度登録データ!$E$2:$E$1000,0)))","v":""},{"$f":"IF(H19<>\"\",VLOOKUP(学校情報入力!$B$1,青森県高等学校住所一覧!$A$2:$G$79,7,0),\"\")","v":""},"","",{"$f":"IF(男子部員名簿!B19=\"\",\"\",N(男子部員名簿!B19))","v":""},{"$f":"IF(H19<>\"\",男子部員名簿!I19,\"\")","v":""},"",{"$f":"T(男子部員名簿!E19)","v":""},{"$f":"T(男子部員名簿!F19)","v":""},{"$f":"PHONETIC(男子部員名簿!G19)","v":""},{"$f":"PHONETIC(男子部員名簿!H19)","v":""},null,null,null,null,null,{"$f":"IF(H19<>\"\",学校情報入力!$B$1,\"\")","v":""},{"$f":"IF(男子部員名簿!C19=\"\",\"\",N(男子部員名簿!C19))","v":""}]
[{"$f":"IF(E20=\"\",\"\",INDEX(昨年度登録データ!$A$2:$A$1000,MATCH(E20,昨年度登録データ!$E$2:$E$1000,0)))","v":""},{"$f":"IF(H20<>\"\",VLOOKUP(学校情報入力!$B$1,青森県高等学校住所一覧!$A$2:$G$79,7,0),\"\")","v":""},"","",{"$f":"IF(男子部員名簿!B20=\"\",\"\",N(男子部員名簿!B20))","v":""},{"$f":"IF(H20<>\"\",男子部員名簿!I20,\"\")","v":""},"",{"$f":"T(男子部員名簿!E20)","v":""},{"$f":"T(男子部員名簿!F20)","v":""},{"$f":"PHONETIC(男子部員名簿!G20)","v":""},{"$f":"PHONETIC(男子部員名簿!H20)","v":""},null,null,null,null,null,{"$f":"IF(H20<>\"\",学校情報入力!$B$1,\"\")","v":""},{"$f":"IF(男子部員名簿!C20=\"\",\"\",N(男子部員名簿!C20))","v":""}]
[{"$f":"IF(E21=\"\",\"\",INDEX(昨年度登録データ!$A$2:$A$1000,MATCH(E21,昨年度登録データ!$E$2:$E$1000,0)))","v":""},{"$f":"IF(H21<>\"\",VLOOKUP(学校情報入力!$B$1,青森県高等学校住所一覧!$A$2:$G$79,7,0),\"\")","v":""},"","",{"$f":"IF(男子部員名簿!B21=\"\",\"\",N(男子部員名簿!B21))","v":""},{"$f":"IF(H21<>\"\",男子部員名簿!I21,\"\")","v":""},"",{"$f":"T(男子部員名簿!E21)","v":""},{"$f":"T(男子部員名簿!F21)","v":""},{"$f":"PHONETIC(男子部員名簿!G21)","v":""},{"$f":"PHONETIC(男子部員名簿!H21)","v":""},null,null,null,null,null,{"$f":"IF(H21<>\"\",学校情報入力!$B$1,\"\")","v":""},{"$f":"IF(男子部員名簿!C21=\"\",\"\",N(男子部員名簿!C21))","v":""}]
[{"$f":"IF(E22=\"\",\"\",INDEX(昨年度登録データ!$A$2:$A$1000,MATCH(E22,昨年度登録データ!$E$2:$E$1000,0)))","v":""},{"$f":"IF(H22<>\"\",VLOOKUP(学校情報入力!$B$1,青森県高等学校住所一覧!$A$2:$G$79,7,0),\"\")","v":""},"","",{"$f":"IF(男子部員名簿!B22=\"\",\"\",N(男子部員名簿!B22))","v":""},{"$f":"IF(H22<>\"\",男子部員名簿!I22,\"\")","v":""},"",{"$f":"T(男子部員名簿!E22)","v":""},{"$f":"T(男子部員名簿!F22)","v":""},{"$f":"PHONETIC(男子部員名簿!G22)","v":""},{"$f":"PHONETIC(男子部員名簿!H22)","v":""},null,null,null,null,null,{"$f":"IF(H22<>\"\",学校情報入力!$B$1,\"\")","v":""},{"$f":"IF(男子部員名簿!C22=\"\",\"\",N(男子部員名簿!C22))","v":""}]
[{"$f":"IF(E23=\"\",\"\",INDEX(昨年度登録データ!$A$2:$A$1000,MATCH(E23,昨年度登録データ!$E$2:$E$1000,0)))","v":""},{"$f":"IF(H23<>\"\",VLOOKUP(学校情報入力!$B$1,青森県高等学校住所一覧!$A$2:$G$79,7,0),\"\")","v":""},"","",{"$f":"IF(男子部員名簿!B23=\"\",\"\",N(男子部員名簿!B23))","v":""},{"$f":"IF(H23<>\"\",男子部員名簿!I23,\"\")","v":""},"",{"$f":"T(男子部員名簿!E23)","v":""},{"$f":"T(男子部員名簿!F23)","v":""},{"$f":"PHONETIC(男子部員名簿!G23)","v":""},{"$f":"PHONETIC(男子部員名簿!H23)","v":""},null,null,null,null,null,{"$f":"IF(H23<>\"\",学校情報入力!$B$1,\"\")","v":""},{"$f":"IF(男子部員名簿!C23=\"\",\"\",N(男子部員名簿!C23))","v":""}]
[{"$f":"IF(E24=\"\",\"\",INDEX(昨年度登録データ!$A$2:$A$1000,MATCH(E24,昨年度登録データ!$E$2:$E$1000,0)))","v":""},{"$f":"IF(H24<>\"\",VLOOKUP(学校情報入力!$B$1,青森県高等学校住所一覧!$A$2:$G$79,7,0),\"\")","v":""},"","",{"$f":"IF(男子部員名簿!B24=\"\",\"\",N(男子部員名簿!B24))","v":""},{"$f":"IF(H24<>\"\",男子部員名簿!I24,\"\")","v":""},"",{"$f":"T(男子部員名簿!E24)","v":""},{"$f":"T(男子部員名簿!F24)","v":""},{"$f":"PHONETIC(男子部員名簿!G24)","v":""},{"$f":"PHONETIC(男子部員名簿!H24)","v":""},null,null,null,null,null,{"$f":"IF(H24<>\"\",学校情報入力!$B$1,\"\")","v":""},{"$f":"IF(男子部員名簿!C24=\"\",\"\",N(男子部員名簿!C24))","v":""}]
[{"$f":"IF(E25=\"\",\"\",INDEX(昨年度登録データ!$A$2:$A$1000,MATCH(E25,昨年度登録データ!$E$2:$E$1000,0)))","v":""},{"$f":"IF(H25<>\"\",VLOOKUP(学校情報入力!$B$1,青森県高等学校住所一覧!$A$2:$G$79,7,0),\"\")","v":""},"","",{"$f":"IF(男子部員名簿!B25=\"\",\"\",N(男子部員名簿!B25))","v":""},{"$f":"IF(H25<>\"\",男子部員名簿!I25,\"\")","v":""},"",{"$f":"T(男子部員名簿!E25)","v":""},{"$f":"T(男子部員名簿!F25)","v":""},{"$f":"PHONETIC(男子部員名簿!G25)","v":""},{"$f":"PHONETIC(男子部員名簿!H25)","v":""},null,null,null,null,null,{"$f":"IF(H25<>\"\",学校情報入力!$B$1,\"\")","v":""},{"$f":"IF(男子部員名簿!C25=\"\",\"\",N(男子部員名簿!C25))","v":""}]
[{"$f":"IF(E26=\"\",\"\",INDEX(昨年度登録データ!$A$2:$A$1000,MATCH(E26,昨年度登録データ!$E$2:$E$1000,0)))","v":""},{"$f":"IF(H26<>\"\",VLOOKUP(学校情報入力!$B$1,青森県高等学校住所一覧!$A$2:$G$79,7,0),\"\")","v":""},"","",{"$f":"IF(男子部員名簿!B26=\"\",\"\",N(男子部員名簿!B26))","v":""},{"$f":"IF(H26<>\"\",男子部員名簿!I26,\"\")","v":""},"",{"$f":"T(男子部員名簿!E26)","v":""},{"$f":"T(男子部員名簿!F26)","v":""},{"$f":"PHONETIC(男子部員名簿!G26)","v":""},{"$f":"PHONETIC(男子部員名簿!H26)","v":""},null,null,null,null,null,{"$f":"IF(H26<>\"\",学校情報入力!$B$1,\"\")","v":""},{"$f":"IF(男子部員名簿!C26=\"\",\"\",N(男子部員名簿!C26))","v":""}]
[{"$f":"IF(E27=\"\",\"\",INDEX(昨年度登録データ!$A$2:$A$1000,MATCH(E27,昨年度登録データ!$E$2:$E$1000,0)))","v":""},{"$f":"IF(H27<>\"\",VLOOKUP(学校情報入力!$B$1,青森県高等学校住所一覧!$A$2:$G$79,7,0),\"\")","v":""},"","",{"$f":"IF(男子部員名簿!B27=\"\",\"\",N(男子部員名簿!B27))","v":""},{"$f":"IF(H27<>\"\",男子部員名簿!I27,\"\")","v":""},"",{"$f":"T(男子部員名簿!E27)","v":""},{"$f":"T(男子部員名簿!F27)","v":""},{"$f":"PHONETIC(男子部員名簿!G27)","v":""},{"$f":"PHONETIC(男子部員名簿!H27)","v":""},null,null,null,null,null,{"$f":"IF(H27<>\"\",学校情報入力!$B$1,\"\")","v":""},{"$f":"IF(男子部員名簿!C27=\"\",\"\",N(男子部員名簿!C27))","v":""}]
[{"$f":"IF(E28=\"\",\"\",INDEX(昨年度登録データ!$A$2:$A$1000,MATCH(E28,昨年度登録データ!$E$2:$E$1000,0)))","v":""},{"$f":"IF(H28<>\"\",VLOOKUP(学校情報入力!$B$1,青森県高等学校住所一覧!$A$2:$G$79,7,0),\"\")","v":""},"","",{"$f":"IF(男子部員名簿!B28=\"\",\"\",N(男子部員名簿!B28))","v":""},{"$f":"IF(H28<>\"\",男子部員名簿!I28,\"\")","v":""},"",{"$f":"T(男子部員名簿!E28)","v":""},{"$f":"T(男子部員名簿!F28)","v":""},{"$f":"PHONETIC(男子部員名簿!G28)","v":""},{"$f":"PHONETIC(男子部員名簿!H28)","v":""},null,null,null,null,null,{"$f":"IF(H28<>\"\",学校情報入力!$B$1,\"\")","v":""},{"$f":"IF(男子部員名簿!C28=\"\",\"\",N(男子部員名簿!C28))","v":""}]
[{"$f":"IF(E29=\"\",\"\",INDEX(昨年度登録データ!$A$2:$A$1000,MATCH(E29,昨年度登録データ!$E$2:$E$1000,0)))","v":""},{"$f":"IF(H29<>\"\",VLOOKUP(学校情報入力!$B$1,青森県高等学校住所一覧!$A$2:$G$79,7,0),\"\")","v":""},"","",{"$f":"IF(男子部員名簿!B29=\"\",\"\",N(男子部員名簿!B29))","v":""},{"$f":"IF(H29<>\"\",男子部員名簿!I29,\"\")","v":""},"",{"$f":"T(男子部員名簿!E29)","v":""},{"$f":"T(男子部員名簿!F29)","v":""},{"$f":"PHONETIC(男子部員名簿!G29)","v":""},{"$f":"PHONETIC(男子部員名簿!H29)","v":""},null,null,null,null,null,{"$f":"IF(H29<>\"\",学校情報入力!$B$1,\"\")","v":""},{"$f":"IF(男子部員名簿!C29=\"\",\"\",N(男子部員名簿!C29))","v":""}]
[{"$f":"IF(E30=\"\",\"\",INDEX(昨年度登録データ!$A$2:$A$1000,MATCH(E30,昨年度登録データ!$E$2:$E$1000,0)))","v":""},{"$f":"IF(H30<>\"\",VLOOKUP(学校情報入力!$B$1,青森県高等学校住所一覧!$A$2:$G$79,7,0),\"\")","v":""},"","",{"$f":"IF(男子部員名簿!B30=\"\",\"\",N(男子部員名簿!B30))","v":""},{"$f":"IF(H30<>\"\",男子部員名簿!I30,\"\")","v":""},"",{"$f":"T(男子部員名簿!E30)","v":""},{"$f":"T(男子部員名簿!F30)","v":""},{"$f":"PHONETIC(男子部員名簿!G30)","v":""},{"$f":"PHONETIC(男子部員名簿!H30)","v":""},null,null,null,null,null,{"$f":"IF(H30<>\"\",学校情報入力!$B$1,\"\")","v":""},{"$f":"IF(男子部員名簿!C30=\"\",\"\",N(男子部員名簿!C30))","v":""}]
[{"$f":"IF(E31=\"\",\"\",INDEX(昨年度登録データ!$A$2:$A$1000,MATCH(E31,昨年度登録データ!$E$2:$E$1000,0)))","v":""},{"$f":"IF(H31<>\"\",VLOOKUP(学校情報入力!$B$1,青森県高等学校住所一覧!$A$2:$G$79,7,0),\"\")","v":""},"","",{"$f":"IF(男子部員名簿!B31=\"\",\"\",N(男子部員名簿!B31))","v":""},{"$f":"IF(H31<>\"\",男子部員名簿!I31,\"\")","v":""},"",{"$f":"T(男子部員名簿!E31)","v":""},{"$f":"T(男子部員名簿!F31)","v":""},{"$f":"PHONETIC(男子部員名簿!G31)","v":""},{"$f":"PHONETIC(男子部員名簿!H31)","v":""},null,null,null,null,null,{"$f":"IF(H31<>\"\",学校情報入力!$B$1,\"\")","v":""},{"$f":"IF(男子部員名簿!C31=\"\",\"\",N(男子部員名簿!C31))","v":""}]
[{"$f":"IF(E32=\"\",\"\",INDEX(昨年度登録データ!$A$2:$A$1000,MATCH(E32,昨年度登録データ!$E$2:$E$1000,0)))","v":""},{"$f":"IF(H32<>\"\",VLOOKUP(学校情報入力!$B$1,青森県高等学校住所一覧!$A$2:$G$79,7,0),\"\")","v":""},"","",{"$f":"IF(男子部員名簿!B32=\"\",\"\",N(男子部員名簿!B32))","v":""},{"$f":"IF(H32<>\"\",男子部員名簿!I32,\"\")","v":""},"",{"$f":"T(男子部員名簿!E32)","v":""},{"$f":"T(男子部員名簿!F32)","v":""},{"$f":"PHONETIC(男子部員名簿!G32)","v":""},{"$f":"PHONETIC(男子部員名簿!H32)","v":""},null,null,null,null,null,{"$f":"IF(H32<>\"\",学校情報入力!$B$1,\"\")","v":""},{"$f":"IF(男子部員名簿!C32=\"\",\"\",N(男子部員名簿!C32))","v":""}]
[{"$f":"IF(E33=\"\",\"\",INDEX(昨年度登録データ!$A$2:$A$1000,MATCH(E33,昨年度登録データ!$E$2:$E$1000,0)))","v":""},{"$f":"IF(H33<>\"\",VLOOKUP(学校情報入力!$B$1,青森県高等学校住所一覧!$A$2:$G$79,7,0),\"\")","v":""},"","",{"$f":"IF(男子部員名簿!B33=\"\",\"\",N(男子部員名簿!B33))","v":""},{"$f":"IF(H33<>\"\",男子部員名簿!I33,\"\")","v":""},"",{"$f":"T(男子部員名簿!E33)","v":""},{"$f":"T(男子部員名簿!F33)","v":""},{"$f":"PHONETIC(男子部員名簿!G33)","v":""},{"$f":"PHONETIC(男子部員名簿!H33)","v":""},null,null,null,null,null,{"$f":"IF(H33<>\"\",学校情報入力!$B$1,\"\")","v":""},{"$f":"IF(男子部員名簿!C33=\"\",\"\",N(男子部員名簿!C33))","v":""}]
[{"$f":"IF(E34=\"\",\"\",INDEX(昨年度登録データ!$A$2:$A$1000,MATCH(E34,昨年度登録データ!$E$2:$E$1000,0)))","v":""},{"$f":"IF(H34<>\"\",VLOOKUP(学校情報入力!$B$1,青森県高等学校住所一覧!$A$2:$G$79,7,0),\"\")","v":""},"","",{"$f":"IF(男子部員名簿!B34=\"\",\"\",N(男子部員名簿!B34))","v":""},{"$f":"IF(H34<>\"\",男子部員名簿!I34,\"\")","v":""},{"$f":"IF(H34<>\"\",\"M\",\"\")","v":""},{"$f":"T(男子部員名簿!E34)","v":""},{"$f":"T(男子部員名簿!F34)","v":""},{"$f":"PHONETIC(男子部員名簿!G34)","v":""},{"$f":"PHONETIC(男子部員名簿!H34)","v":""},null,null,null,null,null,{"$f":"IF(H34<>\"\",学校情報入力!$B$1,\"\")","v":""},{"$f":"IF(男子部員名簿!C34=\"\",\"\",N(男子部員名簿!C34))","v":""}]
[{"$f":"IF(E35=\"\",\"\",INDEX(昨年度登録データ!$A$2:$A$1000,MATCH(E35,昨年度登録データ!$E$2:$E$1000,0)))","v":""},{"$f":"IF(H35<>\"\",VLOOKUP(学校情報入力!$B$1,青森県高等学校住所一覧!$A$2:$G$79,7,0),\"\")","v":""},"","",{"$f":"IF(男子部員名簿!B35=\"\",\"\",N(男子部員名簿!B35))","v":""},{"$f":"IF(H35<>\"\",男子部員名簿!I35,\"\")","v":""},"",{"$f":"T(男子部員名簿!E35)","v":""},{"$f":"T(男子部員名簿!F35)","v":""},{"$f":"PHONETIC(男子部員名簿!G35)","v":""},{"$f":"PHONETIC(男子部員名簿!H35)","v":""},null,null,null,null,null,{"$f":"IF(H35<>\"\",学校情報入力!$B$1,\"\")","v":""},{"$f":"IF(男子部員名簿!C35=\"\",\"\",N(男子部員名簿!C35))","v":""}]
[{"$f":"IF(E36=\"\",\"\",INDEX(昨年度登録データ!$A$2:$A$1000,MATCH(E36,昨年度登録データ!$E$2:$E$1000,0)))","v":""},{"$f":"IF(H36<>\"\",VLOOKUP(学校情報入力!$B$1,青森県高等学校住所一覧!$A$2:$G$79,7,0),\"\")","v":""},"","",{"$f":"IF(男子部員名簿!B36=\"\",\"\",N(男子部員名簿!B36))","v":""},{"$f":"IF(H36<>\"\",男子部員名簿!I36,\"\")","v":""},"",{"$f":"T(男子部員名簿!E36)","v":""},{"$f":"T(男子部員名簿!F36)","v":""},{"$f":"PHONETIC(男子部員名簿!G36)","v":""},{"$f":"PHONETIC(男子部員名簿!H36)","v":""},null,null,null,null,null,{"$f":"IF(H36<>\"\",学校情報入力!$B$1,\"\")","v":""},{"$f":"IF(男子部員名簿!C36=\"\",\"\",N(男子部員名簿!C36))","v":""}]
[{"$f":"IF(E37=\"\",\"\",INDEX(昨年度登録データ!$A$2:$A$1000,MATCH(E37,昨年度登録データ!$E$2:$E$1000,0)))","v":""},{"$f":"IF(H37<>\"\",VLOOKUP(学校情報入力!$B$1,青森県高等学校住所一覧!$A$2:$G$79,7,0),\"\")","v":""},"","",{"$f":"IF(男子部員名簿!B37=\"\",\"\",N(男子部員名簿!B37))","v":""},{"$f":"IF(H37<>\"\",男子部員名簿!I37,\"\")","v":""},"",{"$f":"T(男子部員名簿!E37)","v":""},{"$f":"T(男子部員名簿!F37)","v":""},{"$f":"PHONETIC(男子部員名簿!G37)","v":""},{"$f":"PHONETIC(男子部員名簿!H37)","v":""},null,null,null,null,null,{"$f":"IF(H37<>\"\",学校情報入力!$B$1,\"\")","v":""},{"$f":"IF(男子部員名簿!C37=\"\",\"\",N(男子部員名簿!C37))","v":""}]
[{"$f":"IF(E38=\"\",\"\",INDEX(昨年度登録データ!$A$2:$A$1000,MATCH(E38,昨年度登録データ!$E$2:$E$1000,0)))","v":""},{"$f":"IF(H38<>\"\",VLOOKUP(学校情報入力!$B$1,青森県高等学校住所一覧!$A$2:$G$79,7,0),\"\")","v":""},"","",{"$f":"IF(男子部員名簿!B38=\"\",\"\",N(男子部員名簿!B38))","v":""},{"$f":"IF(H38<>\"\",男子部員名簿!I38,\"\")","v":""},"",{"$f":"T(男子部員名簿!E38)","v":""},{"$f":"T(男子部員名簿!F38)","v":""},{"$f":"PHONETIC(男子部員名簿!G38)","v":""},{"$f":"PHONETIC(男子部員名簿!H38)","v":""},null,null,null,null,null,{"$f":"IF(H38<>\"\",学校情報入力!$B$1,\"\")","v":""},{"$f":"IF(男子部員名簿!C38=\"\",\"\",N(男子部員名簿!C38))","v":""}]
[{"$f":"IF(E39=\"\",\"\",INDEX(昨年度登録データ!$A$2:$A$1000,MATCH(E39,昨年度登録データ!$E$2:$E$1000,0)))","v":""},{"$f":"IF(H39<>\"\",VLOOKUP(学校情報入力!$B$1,青森県高等学校住所一覧!$A$2:$G$79,7,0),\"\")","v":""},"","",{"$f":"IF(男子部員名簿!B39=\"\",\"\",N(男子部員名簿!B39))","v":""},{"$f":"IF(H39<>\"\",男子部員名簿!I39,\"\")","v":""},"",{"$f":"T(男子部員名簿!E39)","v":""},{"$f":"T(男子部員名簿!F39)","v":""},{"$f":"PHONETIC(男子部員名簿!G39)","v":""},{"$f":"PHONETIC(男子部員名簿!H39)","v":""},null,null,null,null,null,{"$f":"IF(H39<>\"\",学校情報入力!$B$1,\"\")","v":""},{"$f":"IF(男子部員名簿!C39=\"\",\"\",N(男子部員名簿!C39))","v":""}]
[{"$f":"IF(E40=\"\",\"\",INDEX(昨年度登録データ!$A$2:$A$1000,MATCH(E40,昨年度登録データ!$E$2:$E$1000,0)))","v":""},{"$f":"IF(H40<>\"\",VLOOKUP(学校情報入力!$B$1,青森県高等学校住所一覧!$A$2:$G$79,7,0),\"\")","v":""},"","",{"$f":"IF(男子部員名簿!B40=\"\",\"\",N(男子部員名簿!B40))","v":""},{"$f":"IF(H40<>\"\",男子部員名簿!I40,\"\")","v":""},"",{"$f":"T(男子部員名簿!E40)","v":""},{"$f":"T(男子部員名簿!F40)","v":""},{"$f":"PHONETIC(男子部員名簿!G40)","v":""},{"$f":"PHONETIC(男子部員名簿!H40)","v":""},null,null,null,null,null,{"$f":"IF(H40<>\"\",学校情報入力!$B$1,\"\")","v":""},{"$f":"IF(男子部員名簿!C40=\"\",\"\",N(男子部員名簿!C40))","v":""}]
[{"$f":"IF(E41=\"\",\"\",INDEX(昨年度登録データ!$A$2:$A$1000,MATCH(E41,昨年度登録データ!$E$2:$E$1000,0)))","v":""},{"$f":"IF(H41<>\"\",VLOOKUP(学校情報入力!$B$1,青森県高等学校住所一覧!$A$2:$G$79,7,0),\"\")","v":""},"","",{"$f":"IF(男子部員名簿!B41=\"\",\"\",N(男子部員名簿!B41))","v":""},{"$f":"IF(H41<>\"\",男子部員名簿!I41,\"\")","v":""},"",{"$f":"T(男子部員名簿!E41)","v":""},{"$f":"T(男子部員名簿!F41)","v":""},{"$f":"PHONETIC(男子部員名簿!G41)","v":""},{"$f":"PHONETIC(男子部員名簿!H41)","v":""},null,null,null,null,null,{"$f":"IF(H41<>\"\",学校情報入力!$B$1,\"\")","v":""},{"$f":"IF(男子部員名簿!C41=\"\",\"\",N(男子部員名簿!C41))","v":""}]
[{"$f":"IF(E42=\"\",\"\",INDEX(昨年度登録データ!$A$2:$A$1000,MATCH(E42,昨年度登録データ!$E$2:$E$1000,0)))","v":""},{"$f":"IF(H42<>\"\",VLOOKUP(学校情報入力!$B$1,青森県高等学校住所一覧!$A$2:$G$79,7,0),\"\")","v":""},"","",{"$f":"IF(男子部員名簿!B42=\"\",\"\",N(男子部員名簿!B42))","v":""},{"$f":"IF(H42<>\"\",男子部員名簿!I42,\"\")","v":""},"",{"$f":"T(男子部員名簿!E42)","v":""},{"$f":"T(男子部員名簿!F42)","v":""},{"$f":"PHONETIC(男子部員名簿!G42)","v":""},{"$f":"PHONETIC(男子部員名簿!H42)","v":""},null,null,null,null,null,{"$f":"IF(H42<>\"\",学校情報入力!$B$1,\"\")","v":""},{"$f":"IF(男子部員名簿!C42=\"\",\"\",N(男子部員名簿!C42))","v":""}]
[{"$f":"IF(E43=\"\",\"\",INDEX(昨年度登録データ!$A$2:$A$1000,MATCH(E43,昨年度登録データ!$E$2:$E$1000,0)))","v":""},{"$f":"IF(H43<>\"\",VLOOKUP(学校情報入力!$B$1,青森県高等学校住所一覧!$A$2:$G$79,7,0),\"\")","v":""},"","",{"$f":"IF(男子部員名簿!B43=\"\",\"\",N(男子部員名簿!B43))","v":""},{"$f":"IF(H43<>\"\",男子部員名簿!I43,\"\")","v":""},"",{"$f":"T(男子部員名簿!E43)","v":""},{"$f":"T(男子部員名簿!F43)","v":""},{"$f":"PHONETIC(男子部員名簿!G43)","v":""},{"$f":"PHONETIC(男子部員名簿!H43)","v":""},null,null,null,null,null,{"$f":"IF(H43<>\"\",学校情報入力!$B$1,\"\")","v":""},{"$f":"IF(男子部員名簿!C43=\"\",\"\",N(男子部員名簿!C43))","v":""}]
[{"$f":"IF(E44=\"\",\"\",INDEX(昨年度登録データ!$A$2:$A$1000,MATCH(E44,昨年度登録データ!$E$2:$E$1000,0)))","v":""},{"$f":"IF(H44<>\"\",VLOOKUP(学校情報入力!$B$1,青森県高等学校住所一覧!$A$2:$G$79,7,0),\"\")","v":""},"","",{"$f":"IF(男子部員名簿!B44=\"\",\"\",N(男子部員名簿!B44))","v":""},{"$f":"IF(H44<>\"\",男子部員名簿!I44,\"\")","v":""},"",{"$f":"T(男子部員名簿!E44)","v":""},{"$f":"T(男子部員名簿!F44)","v":""},{"$f":"PHONETIC(男子部員名簿!G44)","v":""},{"$f":"PHONETIC(男子部員名簿!H44)","v":""},null,null,null,null,null,{"$f":"IF(H44<>\"\",学校情報入力!$B$1,\"\")","v":""},{"$f":"IF(男子部員名簿!C44=\"\",\"\",N(男子部員名簿!C44))","v":""}]
[{"$f":"IF(E45=\"\",\"\",INDEX(昨年度登録データ!$A$2:$A$1000,MATCH(E45,昨年度登録データ!$E$2:$E$1000,0)))","v":""},{"$f":"IF(H45<>\"\",VLOOKUP(学校情報入力!$B$1,青森県高等学校住所一覧!$A$2:$G$79,7,0),\"\")","v":""},"","",{"$f":"IF(男子部員名簿!B45=\"\",\"\",N(男子部員名簿!B45))","v":""},{"$f":"IF(H45<>\"\",男子部員名簿!I45,\"\")","v":""},"",{"$f":"T(男子部員名簿!E45)","v":""},{"$f":"T(男子部員名簿!F45)","v":""},{"$f":"PHONETIC(男子部員名簿!G45)","v":""},{"$f":"PHONETIC(男子部員名簿!H45)","v":""},null,null,null,null,null,{"$f":"IF(H45<>\"\",学校情報入力!$B$1,\"\")","v":""},{"$f":"IF(男子部員名簿!C45=\"\",\"\",N(男子部員名簿!C45))","v":""}]
[{"$f":"IF(E46=\"\",\"\",INDEX(昨年度登録データ!$A$2:$A$1000,MATCH(E46,昨年度登録データ!$E$2:$E$1000,0)))","v":""},{"$f":"IF(H46<>\"\",VLOOKUP(学校情報入力!$B$1,青森県高等学校住所一覧!$A$2:$G$79,7,0),\"\")","v":""},"","",{"$f":"IF(男子部員名簿!B46=\"\",\"\",N(男子部員名簿!B46))","v":""},{"$f":"IF(H46<>\"\",男子部員名簿!I46,\"\")","v":""},"",{"$f":"T(男子部員名簿!E46)","v":""},{"$f":"T(男子部員名簿!F46)","v":""},{"$f":"PHONETIC(男子部員名簿!G46)","v":""},{"$f":"PHONETIC(男子部員名簿!H46)","v":""},null,null,null,null,null,{"$f":"IF(H46<>\"\",学校情報入力!$B$1,\"\")","v":""},{"$f":"IF(男子部員名簿!C46=\"\",\"\",N(男子部員名簿!C46))","v":""}]
[{"$f":"IF(E47=\"\",\"\",INDEX(昨年度登録データ!$A$2:$A$1000,MATCH(E47,昨年度登録データ!$E$2:$E$1000,0)))","v":""},{"$f":"IF(H47<>\"\",VLOOKUP(学校情報入力!$B$1,青森県高等学校住所一覧!$A$2:$G$79,7,0),\"\")","v":""},"","",{"$f":"IF(男子部員名簿!B47=\"\",\"\",N(男子部員名簿!B47))","v":""},{"$f":"IF(H47<>\"\",男子部員名簿!I47,\"\")","v":""},"",{"$f":"T(男子部員名簿!E47)","v":""},{"$f":"T(男子部員名簿!F47)","v":""},{"$f":"PHONETIC(男子部員名簿!G47)","v":""},{"$f":"PHONETIC(男子部員名簿!H47)","v":""},null,null,null,null,null,{"$f":"IF(H47<>\"\",学校情報入力!$B$1,\"\")","v":""},{"$f":"IF(男子部員名簿!C47=\"\",\"\",N(男子部員名簿!C47))","v":""}]
[{"$f":"IF(E48=\"\",\"\",INDEX(昨年度登録データ!$A$2:$A$1000,MATCH(E48,昨年度登録データ!$E$2:$E$1000,0)))","v":""},{"$f":"IF(H48<>\"\",VLOOKUP(学校情報入力!$B$1,青森県高等学校住所一覧!$A$2:$G$79,7,0),\"\")","v":""},"","",{"$f":"IF(男子部員名簿!B48=\"\",\"\",N(男子部員名簿!B48))","v":""},{"$f":"IF(H48<>\"\",男子部員名簿!I48,\"\")","v":""},"",{"$f":"T(男子部員名簿!E48)","v":""},{"$f":"T(男子部員名簿!F48)","v":""},{"$f":"PHONETIC(男子部員名簿!G48)","v":""},{"$f":"PHONETIC(男子部員名簿!H48)","v":""},null,null,null,null,null,{"$f":"IF(H48<>\"\",学校情報入力!$B$1,\"\")","v":""},{"$f":"IF(男子部員名簿!C48=\"\",\"\",N(男子部員名簿!C48))","v":""}]
[{"$f":"IF(E49=\"\",\"\",INDEX(昨年度登録データ!$A$2:$A$1000,MATCH(E49,昨年度登録データ!$E$2:$E$1000,0)))","v":""},{"$f":"IF(H49<>\"\",VLOOKUP(学校情報入力!$B$1,青森県高等学校住所一覧!$A$2:$G$79,7,0),\"\")","v":""},"","",{"$f":"IF(男子部員名簿!B49=\"\",\"\",N(男子部員名簿!B49))","v":""},{"$f":"IF(H49<>\"\",男子部員名簿!I49,\"\")","v":""},"",{"$f":"T(男子部員名簿!E49)","v":""},{"$f":"T(男子部員名簿!F49)","v":""},{"$f":"PHONETIC(男子部員名簿!G49)","v":""},{"$f":"PHONETIC(男子部員名簿!H49)","v":""},null,null,null,null,null,{"$f":"IF(H49<>\"\",学校情報入力!$B$1,\"\")","v":""},{"$f":"IF(男子部員名簿!C49=\"\",\"\",N(男子部員名簿!C49))","v":""}]
[{"$f":"IF(E50=\"\",\"\",INDEX(昨年度登録データ!$A$2:$A$1000,MATCH(E50,昨年度登録データ!$E$2:$E$1000,0)))","v":""},{"$f":"IF(H50<>\"\",VLOOKUP(学校情報入力!$B$1,青森県高等学校住所一覧!$A$2:$G$79,7,0),\"\")","v":""},"","",{"$f":"IF(男子部員名簿!B50=\"\",\"\",N(男子部員名簿!B50))","v":""},{"$f":"IF(H50<>\"\",男子部員名簿!I50,\"\")","v":""},"",{"$f":"T(男子部員名簿!E50)","v":""},{"$f":"T(男子部員名簿!F50)","v":""},{"$f":"PHONETIC(男子部員名簿!G50)","v":""},{"$f":"PHONETIC(男子部員名簿!H50)","v":""},null,null,null,null,null,{"$f":"IF(H50<>\"\",学校情報入力!$B$1,\"\")","v":""},{"$f":"IF(男子部員名簿!C50=\"\",\"\",N(男子部員名簿!C50))","v":""}]
[{"$f":"IF(E51=\"\",\"\",INDEX(昨年度登録データ!$A$2:$A$1000,MATCH(E51,昨年度登録データ!$E$2:$E$1000,0)))","v":""},{"$f":"IF(H51<>\"\",VLOOKUP(学校情報入力!$B$1,青森県高等学校住所一覧!$A$2:$G$79,7,0),\"\")","v":""},"","",{"$f":"IF(男子部員名簿!B51=\"\",\"\",N(男子部員名簿!B51))","v":""},{"$f":"IF(H51<>\"\",男子部員名簿!I51,\"\")","v":""},"",{"$f":"T(男子部員名簿!E51)","v":""},{"$f":"T(男子部員名簿!F51)","v":""},{"$f":"PHONETIC(男子部員名簿!G51)","v":""},{"$f":"PHONETIC(男子部員名簿!H51)","v":""},null,null,null,null,null,{"$f":"IF(H51<>\"\",学校情報入力!$B$1,\"\")","v":""},{"$f":"IF(男子部員名簿!C51=\"\",\"\",N(男子部員名簿!C51))","v":""}]
[{"$f":"IF(E52=\"\",\"\",INDEX(昨年度登録データ!$A$2:$A$1000,MATCH(E52,昨年度登録データ!$E$2:$E$1000,0)))","v":""},{"$f":"IF(H52<>\"\",VLOOKUP(学校情報入力!$B$1,青森県高等学校住所一覧!$A$2:$G$79,7,0),\"\")","v":""},"","",{"$f":"IF(男子部員名簿!B52=\"\",\"\",N(男子部員名簿!B52))","v":""},{"$f":"IF(H52<>\"\",男子部員名簿!I52,\"\")","v":""},"",{"$f":"T(男子部員名簿!E52)","v":""},{"$f":"T(男子部員名簿!F52)","v":""},{"$f":"PHONETIC(男子部員名簿!G52)","v":""},{"$f":"PHONETIC(男子部員名簿!H52)","v":""},null,null,null,null,null,{"$f":"IF(H52<>\"\",学校情報入力!$B$1,\"\")","v":""},{"$f":"IF(男子部員名簿!C52=\"\",\"\",N(男子部員名簿!C52))","v":""}]
[{"$f":"IF(E53=\"\",\"\",INDEX(昨年度登録データ!$A$2:$A$1000,MATCH(E53,昨年度登録データ!$E$2:$E$1000,0)))","v":""},{"$f":"IF(H53<>\"\",VLOOKUP(学校情報入力!$B$1,青森県高等学校住所一覧!$A$2:$G$79,7,0),\"\")","v":""},"","",{"$f":"IF(男子部員名簿!B53=\"\",\"\",N(男子部員名簿!B53))","v":""},{"$f":"IF(H53<>\"\",男子部員名簿!I53,\"\")","v":""},"",{"$f":"T(男子部員名簿!E53)","v":""},{"$f":"T(男子部員名簿!F53)","v":""},{"$f":"PHONETIC(男子部員名簿!G53)","v":""},{"$f":"PHONETIC(男子部員名簿!H53)","v":""},null,null,null,null,null,{"$f":"IF(H53<>\"\",学校情報入力!$B$1,\"\")","v":""},{"$f":"IF(男子部員名簿!C53=\"\",\"\",N(男子部員名簿!C53))","v":""}]
[{"$f":"IF(E54=\"\",\"\",INDEX(昨年度登録データ!$A$2:$A$1000,MATCH(E54,昨年度登録データ!$E$2:$E$1000,0)))","v":""},{"$f":"IF(H54<>\"\",VLOOKUP(学校情報入力!$B$1,青森県高等学校住所一覧!$A$2:$G$79,7,0),\"\")","v":""},"","",{"$f":"IF(男子部員名簿!B54=\"\",\"\",N(男子部員名簿!B54))","v":""},{"$f":"IF(H54<>\"\",男子部員名簿!I54,\"\")","v":""},"",{"$f":"T(男子部員名簿!E54)","v":""},{"$f":"T(男子部員名簿!F54)","v":""},{"$f":"PHONETIC(男子部員名簿!G54)","v":""},{"$f":"PHONETIC(男子部員名簿!H54)","v":""},null,null,null,null,null,{"$f":"IF(H54<>\"\",学校情報入力!$B$1,\"\")","v":""},{"$f":"IF(男子部員名簿!C54=\"\",\"\",N(男子部員名簿!C54))","v":""}]
[{"$f":"IF(E55=\"\",\"\",INDEX(昨年度登録データ!$A$2:$A$1000,MATCH(E55,昨年度登録データ!$E$2:$E$1000,0)))","v":""},{"$f":"IF(H55<>\"\",VLOOKUP(学校情報入力!$B$1,青森県高等学校住所一覧!$A$2:$G$79,7,0),\"\")","v":""},"","",{"$f":"IF(男子部員名簿!B55=\"\",\"\",N(男子部員名簿!B55))","v":""},{"$f":"IF(H55<>\"\",男子部員名簿!I55,\"\")","v":""},"",{"$f":"T(男子部員名簿!E55)","v":""},{"$f":"T(男子部員名簿!F55)","v":""},{"$f":"PHONETIC(男子部員名簿!G55)","v":""},{"$f":"PHONETIC(男子部員名簿!H55)","v":""},null,null,null,null,null,{"$f":"IF(H55<>\"\",学校情報入力!$B$1,\"\")","v":""},{"$f":"IF(男子部員名簿!C55=\"\",\"\",N(男子部員名簿!C55))","v":""}]
[{"$f":"IF(E56=\"\",\"\",INDEX(昨年度登録データ!$A$2:$A$1000,MATCH(E56,昨年度登録データ!$E$2:$E$1000,0)))","v":""},{"$f":"IF(H56<>\"\",VLOOKUP(学校情報入力!$B$1,青森県高等学校住所一覧!$A$2:$G$79,7,0),\"\")","v":""},"","",{"$f":"IF(男子部員名簿!B56=\"\",\"\",N(男子部員名簿!B56))","v":""},{"$f":"IF(H56<>\"\",男子部員名簿!I56,\"\")","v":""},"",{"$f":"T(男子部員名簿!E56)","v":""},{"$f":"T(男子部員名簿!F56)","v":""},{"$f":"PHONETIC(男子部員名簿!G56)","v":""},{"$f":"PHONETIC(男子部員名簿!H56)","v":""},null,null,null,null,null,{"$f":"IF(H56<>\"\",学校情報入力!$B$1,\"\")","v":""},{"$f":"IF(男子部員名簿!C56=\"\",\"\",N(男子部員名簿!C56))","v":""}]
[{"$f":"IF(E57=\"\",\"\",INDEX(昨年度登録データ!$A$2:$A$1000,MATCH(E57,昨年度登録データ!$E$2:$E$1000,0)))","v":""},{"$f":"IF(H57<>\"\",VLOOKUP(学校情報入力!$B$1,青森県高等学校住所一覧!$A$2:$G$79,7,0),\"\")","v":""},"","",{"$f":"IF(男子部員名簿!B57=\"\",\"\",N(男子部員名簿!B57))","v":""},{"$f":"IF(H57<>\"\",男子部員名簿!I57,\"\")","v":""},"",{"$f":"T(男子部員名簿!E57)","v":""},{"$f":"T(男子部員名簿!F57)","v":""},{"$f":"PHONETIC(男子部員名簿!G57)","v":""},{"$f":"PHONETIC(男子部員名簿!H57)","v":""},null,null,null,null,null,{"$f":"IF(H57<>\"\",学校情報入力!$B$1,\"\")","v":""},{"$f":"IF(男子部員名簿!C57=\"\",\"\",N(男子部員名簿!C57))","v":""}]
[{"$f":"IF(E58=\"\",\"\",INDEX(昨年度登録データ!$A$2:$A$1000,MATCH(E58,昨年度登録データ!$E$2:$E$1000,0)))","v":""},{"$f":"IF(H58<>\"\",VLOOKUP(学校情報入力!$B$1,青森県高等学校住所一覧!$A$2:$G$79,7,0),\"\")","v":""},"","",{"$f":"IF(男子部員名簿!B58=\"\",\"\",N(男子部員名簿!B58))","v":""},{"$f":"IF(H58<>\"\",男子部員名簿!I58,\"\")","v":""},"",{"$f":"T(男子部員名簿!E58)","v":""},{"$f":"T(男子部員名簿!F58)","v":""},{"$f":"PHONETIC(男子部員名簿!G58)","v":""},{"$f":"PHONETIC(男子部員名簿!H58)","v":""},null,null,null,null,null,{"$f":"IF(H58<>\"\",学校情報入力!$B$1,\"\")","v":""},{"$f":"IF(男子部員名簿!C58=\"\",\"\",N(男子部員名簿!C58))","v":""}]
[{"$f":"IF(E59=\"\",\"\",INDEX(昨年度登録データ!$A$2:$A$1000,MATCH(E59,昨年度登録データ!$E$2:$E$1000,0)))","v":""},{"$f":"IF(H59<>\"\",VLOOKUP(学校情報入力!$B$1,青森県高等学校住所一覧!$A$2:$G$79,7,0),\"\")","v":""},"","",{"$f":"IF(男子部員名簿!B59=\"\",\"\",N(男子部員名簿!B59))","v":""},{"$f":"IF(H59<>\"\",男子部員名簿!I59,\"\")","v":""},"",{"$f":"T(男子部員名簿!E59)","v":""},{"$f":"T(男子部員名簿!F59)","v":""},{"$f":"PHONETIC(男子部員名簿!G59)","v":""},{"$f":"PHONETIC(男子部員名簿!H59)","v":""},null,null,null,null,null,{"$f":"IF(H59<>\"\",学校情報入力!$B$1,\"\")","v":""},{"$f":"IF(男子部員名簿!C59=\"\",\"\",N(男子部員名簿!C59))","v":""}]
[{"$f":"IF(E60=\"\",\"\",INDEX(昨年度登録データ!$A$2:$A$1000,MATCH(E60,昨年度登録データ!$E$2:$E$1000,0)))","v":""},{"$f":"IF(H60<>\"\",VLOOKUP(学校情報入力!$B$1,青森県高等学校住所一覧!$A$2:$G$79,7,0),\"\")","v":""},"","",{"$f":"IF(男子部員名簿!B60=\"\",\"\",N(男子部員名簿!B60))","v":""},{"$f":"IF(H60<>\"\",男子部員名簿!I60,\"\")","v":""},"",{"$f":"T(男子部員名簿!E60)","v":""},{"$f":"T(男子部員名簿!F60)","v":""},{"$f":"PHONETIC(男子部員名簿!G60)","v":""},{"$f":"PHONETIC(男子部員名簿!H60)","v":""},null,null,null,null,null,{"$f":"IF(H60<>\"\",学校情報入力!$B$1,\"\")","v":""},{"$f":"IF(男子部員名簿!C60=\"\",\"\",N(男子部員名簿!C60))","v":""}]
[{"$f":"IF(E61=\"\",\"\",INDEX(昨年度登録データ!$A$2:$A$1000,MATCH(E61,昨年度登録データ!$E$2:$E$1000,0)))","v":""},{"$f":"IF(H61<>\"\",VLOOKUP(学校情報入力!$B$1,青森県高等学校住所一覧!$A$2:$G$79,7,0),\"\")","v":""},"","",{"$f":"IF(男子部員名簿!B61=\"\",\"\",N(男子部員名簿!B61))","v":""},{"$f":"IF(H61<>\"\",男子部員名簿!I61,\"\")","v":""},"",{"$f":"T(男子部員名簿!E61)","v":""},{"$f":"T(男子部員名簿!F61)","v":""},{"$f":"PHONETIC(男子部員名簿!G61)","v":""},{"$f":"PHONETIC(男子部員名簿!H61)","v":""},null,null,null,null,null,{"$f":"IF(H61<>\"\",学校情報入力!$B$1,\"\")","v":""},{"$f":"IF(男子部員名簿!C61=\"\",\"\",N(男子部員名簿!C61))","v":""}]
[{"$f":"IF(E62=\"\",\"\",INDEX(昨年度登録データ!$A$2:$A$1000,MATCH(E62,昨年度登録データ!$E$2:$E$1000,0)))","v":""},{"$f":"IF(H62<>\"\",VLOOKUP(学校情報入力!$B$1,青森県高等学校住所一覧!$A$2:$G$79,7,0),\"\")","v":""},"","",{"$f":"IF(男子部員名簿!B62=\"\",\"\",N(男子部員名簿!B62))","v":""},{"$f":"IF(H62<>\"\",男子部員名簿!I62,\"\")","v":""},"",{"$f":"T(男子部員名簿!E62)","v":""},{"$f":"T(男子部員名簿!F62)","v":""},{"$f":"PHONETIC(男子部員名簿!G62)","v":""},{"$f":"PHONETIC(男子部員名簿!H62)","v":""},null,null,null,null,null,{"$f":"IF(H62<>\"\",学校情報入力!$B$1,\"\")","v":""},{"$f":"IF(男子部員名簿!C62=\"\",\"\",N(男子部員名簿!C62))","v":""}]
[{"$f":"IF(E63=\"\",\"\",INDEX(昨年度登録データ!$A$2:$A$1000,MATCH(E63,昨年度登録データ!$E$2:$E$1000,0)))","v":""},{"$f":"IF(H63<>\"\",VLOOKUP(学校情報入力!$B$1,青森県高等学校住所一覧!$A$2:$G$79,7,0),\"\")","v":""},"","",{"$f":"IF(男子部員名簿!B63=\"\",\"\",N(男子部員名簿!B63))","v":""},{"$f":"IF(H63<>\"\",男子部員名簿!I63,\"\")","v":""},"",{"$f":"T(男子部員名簿!E63)","v":""},{"$f":"T(男子部員名簿!F63)","v":""},{"$f":"PHONETIC(男子部員名簿!G63)","v":""},{"$f":"PHONETIC(男子部員名簿!H63)","v":""},null,null,null,null,null,{"$f":"IF(H63<>\"\",学校情報入力!$B$1,\"\")","v":""},{"$f":"IF(男子部員名簿!C63=\"\",\"\",N(男子部員名簿!C63))","v":""}]
[{"$f":"IF(E64=\"\",\"\",INDEX(昨年度登録データ!$A$2:$A$1000,MATCH(E64,昨年度登録データ!$E$2:$E$1000,0)))","v":""},{"$f":"IF(H64<>\"\",VLOOKUP(学校情報入力!$B$1,青森県高等学校住所一覧!$A$2:$G$79,7,0),\"\")","v":""},"","",{"$f":"IF(男子部員名簿!B64=\"\",\"\",N(男子部員名簿!B64))","v":""},{"$f":"IF(H64<>\"\",男子部員名簿!I64,\"\")","v":""},"",{"$f":"T(男子部員名簿!E64)","v":""},{"$f":"T(男子部員名簿!F64)","v":""},{"$f":"PHONETIC(男子部員名簿!G64)","v":""},{"$f":"PHONETIC(男子部員名簿!H64)","v":""},null,null,null,null,null,{"$f":"IF(H64<>\"\",学校情報入力!$B$1,\"\")","v":""},{"$f":"IF(男子部員名簿!C64=\"\",\"\",N(男子部員名簿!C64))","v":""}]
[{"$f":"IF(E65=\"\",\"\",INDEX(昨年度登録データ!$A$2:$A$1000,MATCH(E65,昨年度登録データ!$E$2:$E$1000,0)))","v":""},{"$f":"IF(H65<>\"\",VLOOKUP(学校情報入力!$B$1,青森県高等学校住所一覧!$A$2:$G$79,7,0),\"\")","v":""},"","",{"$f":"IF(男子部員名簿!B65=\"\",\"\",N(男子部員名簿!B65))","v":""},{"$f":"IF(H65<>\"\",男子部員名簿!I65,\"\")","v":""},"",{"$f":"T(男子部員名簿!E65)","v":""},{"$f":"T(男子部員名簿!F65)","v":""},{"$f":"PHONETIC(男子部員名簿!G65)","v":""},{"$f":"PHONETIC(男子部員名簿!H65)","v":""},null,null,null,null,null,{"$f":"IF(H65<>\"\",学校情報入力!$B$1,\"\")","v":""},{"$f":"IF(男子部員名簿!C65=\"\",\"\",N(男子部員名簿!C65))","v":""}]
[{"$f":"IF(E66=\"\",\"\",INDEX(昨年度登録データ!$A$2:$A$1000,MATCH(E66,昨年度登録データ!$E$2:$E$1000,0)))","v":""},{"$f":"IF(H66<>\"\",VLOOKUP(学校情報入力!$B$1,青森県高等学校住所一覧!$A$2:$G$79,7,0),\"\")","v":""},"","",{"$f":"IF(男子部員名簿!B66=\"\",\"\",N(男子部員名簿!B66))","v":""},{"$f":"IF(H66<>\"\",男子部員名簿!I66,\"\")","v":""},{"$f":"IF(H66<>\"\",\"M\",\"\")","v":""},{"$f":"T(男子部員名簿!E66)","v":""},{"$f":"T(男子部員名簿!F66)","v":""},{"$f":"PHONETIC(男子部員名簿!G66)","v":""},{"$f":"PHONETIC(男子部員名簿!H66)","v":""},null,null,null,null,null,{"$f":"IF(H66<>\"\",学校情報入力!$B$1,\"\")","v":""},{"$f":"IF(男子部員名簿!C66=\"\",\"\",N(男子部員名簿!C66))","v":""}]
[{"$f":"IF(E67=\"\",\"\",INDEX(昨年度登録データ!$A$2:$A$1000,MATCH(E67,昨年度登録データ!$E$2:$E$1000,0)))","v":""},{"$f":"IF(H67<>\"\",VLOOKUP(学校情報入力!$B$1,青森県高等学校住所一覧!$A$2:$G$79,7,0),\"\")","v":""},{"$f":"IF(H67<>\"\",\"JTAジュニア選手登録\",\"\")","v":""},{"$f":"IF(H67<>\"\",\"PF02\",\"\")","v":""},{"$f":"IF(男子部員名簿!B67=\"\",\"\",N(男子部員名簿!B67))","v":""},{"$f":"IF(H67<>\"\",男子部員名簿!I67,\"\")","v":""},"",{"$f":"T(男子部員名簿!E67)","v":""},{"$f":"T(男子部員名簿!F67)","v":""},{"$f":"PHONETIC(男子部員名簿!G67)","v":""},{"$f":"PHONETIC(男子部員名簿!H67)","v":""},null,null,null,null,null,{"$f":"IF(H67<>\"\",学校情報入力!$B$1,\"\")","v":""},{"$f":"IF(男子部員名簿!C67=\"\",\"\",N(男子部員名簿!C67))","v":""}]
[{"$f":"IF(E68=\"\",\"\",INDEX(昨年度登録データ!$A$2:$A$1000,MATCH(E68,昨年度登録データ!$E$2:$E$1000,0)))","v":""},{"$f":"IF(H68<>\"\",VLOOKUP(学校情報入力!$B$1,青森県高等学校住所一覧!$A$2:$G$79,7,0),\"\")","v":""},"","",{"$f":"IF(男子部員名簿!B68=\"\",\"\",N(男子部員名簿!B68))","v":""},{"$f":"IF(H68<>\"\",男子部員名簿!I68,\"\")","v":""},"",{"$f":"T(男子部員名簿!E68)","v":""},{"$f":"T(男子部員名簿!F68)","v":""},{"$f":"PHONETIC(男子部員名簿!G68)","v":""},{"$f":"PHONETIC(男子部員名簿!H68)","v":""},null,null,null,null,null,{"$f":"IF(H68<>\"\",学校情報入力!$B$1,\"\")","v":""},{"$f":"IF(男子部員名簿!C68=\"\",\"\",N(男子部員名簿!C68))","v":""}]
[{"$f":"IF(E69=\"\",\"\",INDEX(昨年度登録データ!$A$2:$A$1000,MATCH(E69,昨年度登録データ!$E$2:$E$1000,0)))","v":""},{"$f":"IF(H69<>\"\",VLOOKUP(学校情報入力!$B$1,青森県高等学校住所一覧!$A$2:$G$79,7,0),\"\")","v":""},"","",{"$f":"IF(男子部員名簿!B69=\"\",\"\",N(男子部員名簿!B69))","v":""},{"$f":"IF(H69<>\"\",男子部員名簿!I69,\"\")","v":""},"",{"$f":"T(男子部員名簿!E69)","v":""},{"$f":"T(男子部員名簿!F69)","v":""},{"$f":"PHONETIC(男子部員名簿!G69)","v":""},{"$f":"PHONETIC(男子部員名簿!H69)","v":""},null,null,null,null,null,{"$f":"IF(H69<>\"\",学校情報入力!$B$1,\"\")","v":""},{"$f":"IF(男子部員名簿!C69=\"\",\"\",N(男子部員名簿!C69))","v":""}]
[{"$f":"IF(E70=\"\",\"\",INDEX(昨年度登録データ!$A$2:$A$1000,MATCH(E70,昨年度登録データ!$E$2:$E$1000,0)))","v":""},{"$f":"IF(H70<>\"\",VLOOKUP(学校情報入力!$B$1,青森県高等学校住所一覧!$A$2:$G$79,7,0),\"\")","v":""},"","",{"$f":"IF(男子部員名簿!B70=\"\",\"\",N(男子部員名簿!B70))","v":""},{"$f":"IF(H70<>\"\",男子部員名簿!I70,\"\")","v":""},"",{"$f":"T(男子部員名簿!E70)","v":""},{"$f":"T(男子部員名簿!F70)","v":""},{"$f":"PHONETIC(男子部員名簿!G70)","v":""},{"$f":"PHONETIC(男子部員名簿!H70)","v":""},null,null,null,null,null,{"$f":"IF(H70<>\"\",学校情報入力!$B$1,\"\")","v":""},{"$f":"IF(男子部員名簿!C70=\"\",\"\",N(男子部員名簿!C70))","v":""}]
[{"$f":"IF(E71=\"\",\"\",INDEX(昨年度登録データ!$A$2:$A$1000,MATCH(E71,昨年度登録データ!$E$2:$E$1000,0)))","v":""},{"$f":"IF(H71<>\"\",VLOOKUP(学校情報入力!$B$1,青森県高等学校住所一覧!$A$2:$G$79,7,0),\"\")","v":""},"","",{"$f":"IF(男子部員名簿!B71=\"\",\"\",N(男子部員名簿!B71))","v":""},{"$f":"IF(H71<>\"\",男子部員名簿!I71,\"\")","v":""},"",{"$f":"T(男子部員名簿!E71)","v":""},{"$f":"T(男子部員名簿!F71)","v":""},{"$f":"PHONETIC(男子部員名簿!G71)","v":""},{"$f":"PHONETIC(男子部員名簿!H71)","v":""},null,null,null,null,null,{"$f":"IF(H71<>\"\",学校情報入力!$B$1,\"\")","v":""},{"$f":"IF(男子部員名簿!C71=\"\",\"\",N(男子部員名簿!C71))","v":""}]
[{"$f":"IF(E72=\"\",\"\",INDEX(昨年度登録データ!$A$2:$A$1000,MATCH(E72,昨年度登録データ!$E$2:$E$1000,0)))","v":""},{"$f":"IF(H72<>\"\",VLOOKUP(学校情報入力!$B$1,青森県高等学校住所一覧!$A$2:$G$79,7,0),\"\")","v":""},"","",{"$f":"IF(男子部員名簿!B72=\"\",\"\",N(男子部員名簿!B72))","v":""},{"$f":"IF(H72<>\"\",男子部員名簿!I72,\"\")","v":""},"",{"$f":"T(男子部員名簿!E72)","v":""},{"$f":"T(男子部員名簿!F72)","v":""},{"$f":"PHONETIC(男子部員名簿!G72)","v":""},{"$f":"PHONETIC(男子部員名簿!H72)","v":""},null,null,null,null,null,{"$f":"IF(H72<>\"\",学校情報入力!$B$1,\"\")","v":""},{"$f":"IF(男子部員名簿!C72=\"\",\"\",N(男子部員名簿!C72))","v":""}]
[{"$f":"IF(E73=\"\",\"\",INDEX(昨年度登録データ!$A$2:$A$1000,MATCH(E73,昨年度登録データ!$E$2:$E$1000,0)))","v":""},{"$f":"IF(H73<>\"\",VLOOKUP(学校情報入力!$B$1,青森県高等学校住所一覧!$A$2:$G$79,7,0),\"\")","v":""},"","",{"$f":"IF(男子部員名簿!B73=\"\",\"\",N(男子部員名簿!B73))","v":""},{"$f":"IF(H73<>\"\",男子部員名簿!I73,\"\")","v":""},"",{"$f":"T(男子部員名簿!E73)","v":""},{"$f":"T(男子部員名簿!F73)","v":""},{"$f":"PHONETIC(男子部員名簿!G73)","v":""},{"$f":"PHONETIC(男子部員名簿!H73)","v":""},null,null,null,null,null,{"$f":"IF(H73<>\"\",学校情報入力!$B$1,\"\")","v":""},{"$f":"IF(男子部員名簿!C73=\"\",\"\",N(男子部員名簿!C73))","v":""}]
[{"$f":"IF(E74=\"\",\"\",INDEX(昨年度登録データ!$A$2:$A$1000,MATCH(E74,昨年度登録データ!$E$2:$E$1000,0)))","v":""},{"$f":"IF(H74<>\"\",VLOOKUP(学校情報入力!$B$1,青森県高等学校住所一覧!$A$2:$G$79,7,0),\"\")","v":""},"","",{"$f":"IF(男子部員名簿!B74=\"\",\"\",N(男子部員名簿!B74))","v":""},{"$f":"IF(H74<>\"\",男子部員名簿!I74,\"\")","v":""},"",{"$f":"T(男子部員名簿!E74)","v":""},{"$f":"T(男子部員名簿!F74)","v":""},{"$f":"PHONETIC(男子部員名簿!G74)","v":""},{"$f":"PHONETIC(男子部員名簿!H74)","v":""},null,null,null,null,null,{"$f":"IF(H74<>\"\",学校情報入力!$B$1,\"\")","v":""},{"$f":"IF(男子部員名簿!C74=\"\",\"\",N(男子部員名簿!C74))","v":""}]
[{"$f":"IF(E75=\"\",\"\",INDEX(昨年度登録データ!$A$2:$A$1000,MATCH(E75,昨年度登録データ!$E$2:$E$1000,0)))","v":""},{"$f":"IF(H75<>\"\",VLOOKUP(学校情報入力!$B$1,青森県高等学校住所一覧!$A$2:$G$79,7,0),\"\")","v":""},"","",{"$f":"IF(男子部員名簿!B75=\"\",\"\",N(男子部員名簿!B75))","v":""},{"$f":"IF(H75<>\"\",男子部員名簿!I75,\"\")","v":""},"",{"$f":"T(男子部員名簿!E75)","v":""},{"$f":"T(男子部員名簿!F75)","v":""},{"$f":"PHONETIC(男子部員名簿!G75)","v":""},{"$f":"PHONETIC(男子部員名簿!H75)","v":""},null,null,null,null,null,{"$f":"IF(H75<>\"\",学校情報入力!$B$1,\"\")","v":""},{"$f":"IF(男子部員名簿!C75=\"\",\"\",N(男子部員名簿!C75))","v":""}]
[{"$f":"IF(E76=\"\",\"\",INDEX(昨年度登録データ!$A$2:$A$1000,MATCH(E76,昨年度登録データ!$E$2:$E$1000,0)))","v":""},{"$f":"IF(H76<>\"\",VLOOKUP(学校情報入力!$B$1,青森県高等学校住所一覧!$A$2:$G$79,7,0),\"\")","v":""},"","",{"$f":"IF(男子部員名簿!B76=\"\",\"\",N(男子部員名簿!B76))","v":""},{"$f":"IF(H76<>\"\",男子部員名簿!I76,\"\")","v":""},"",{"$f":"T(男子部員名簿!E76)","v":""},{"$f":"T(男子部員名簿!F76)","v":""},{"$f":"PHONETIC(男子部員名簿!G76)","v":""},{"$f":"PHONETIC(男子部員名簿!H76)","v":""},null,null,null,null,null,{"$f":"IF(H76<>\"\",学校情報入力!$B$1,\"\")","v":""},{"$f":"IF(男子部員名簿!C76=\"\",\"\",N(男子部員名簿!C76))","v":""}]
[{"$f":"IF(E77=\"\",\"\",INDEX(昨年度登録データ!$A$2:$A$1000,MATCH(E77,昨年度登録データ!$E$2:$E$1000,0)))","v":""},{"$f":"IF(H77<>\"\",VLOOKUP(学校情報入力!$B$1,青森県高等学校住所一覧!$A$2:$G$79,7,0),\"\")","v":""},"","",{"$f":"IF(男子部員名簿!B77=\"\",\"\",N(男子部員名簿!B77))","v":""},{"$f":"IF(H77<>\"\",男子部員名簿!I77,\"\")","v":""},"",{"$f":"T(男子部員名簿!E77)","v":""},{"$f":"T(男子部員名簿!F77)","v":""},{"$f":"PHONETIC(男子部員名簿!G77)","v":""},{"$f":"PHONETIC(男子部員名簿!H77)","v":""},null,null,null,null,null,{"$f":"IF(H77<>\"\",学校情報入力!$B$1,\"\")","v":""},{"$f":"IF(男子部員名簿!C77=\"\",\"\",N(男子部員名簿!C77))","v":""}]
[{"$f":"IF(E78=\"\",\"\",INDEX(昨年度登録データ!$A$2:$A$1000,MATCH(E78,昨年度登録データ!$E$2:$E$1000,0)))","v":""},{"$f":"IF(H78<>\"\",VLOOKUP(学校情報入力!$B$1,青森県高等学校住所一覧!$A$2:$G$79,7,0),\"\")","v":""},"","",{"$f":"IF(男子部員名簿!B78=\"\",\"\",N(男子部員名簿!B78))","v":""},{"$f":"IF(H78<>\"\",男子部員名簿!I78,\"\")","v":""},"",{"$f":"T(男子部員名簿!E78)","v":""},{"$f":"T(男子部員名簿!F78)","v":""},{"$f":"PHONETIC(男子部員名簿!G78)","v":""},{"$f":"PHONETIC(男子部員名簿!H78)","v":""},null,null,null,null,null,{"$f":"IF(H78<>\"\",学校情報入力!$B$1,\"\")","v":""},{"$f":"IF(男子部員名簿!C78=\"\",\"\",N(男子部員名簿!C78))","v":""}]
[{"$f":"IF(E79=\"\",\"\",INDEX(昨年度登録データ!$A$2:$A$1000,MATCH(E79,昨年度登録データ!$E$2:$E$1000,0)))","v":""},{"$f":"IF(H79<>\"\",VLOOKUP(学校情報入力!$B$1,青森県高等学校住所一覧!$A$2:$G$79,7,0),\"\")","v":""},"","",{"$f":"IF(男子部員名簿!B79=\"\",\"\",N(男子部員名簿!B79))","v":""},{"$f":"IF(H79<>\"\",男子部員名簿!I79,\"\")","v":""},"",{"$f":"T(男子部員名簿!E79)","v":""},{"$f":"T(男子部員名簿!F79)","v":""},{"$f":"PHONETIC(男子部員名簿!G79)","v":""},{"$f":"PHONETIC(男子部員名簿!H79)","v":""},null,null,null,null,null,{"$f":"IF(H79<>\"\",学校情報入力!$B$1,\"\")","v":""},{"$f":"IF(男子部員名簿!C79=\"\",\"\",N(男子部員名簿!C79))","v":""}]
[{"$f":"IF(E80=\"\",\"\",INDEX(昨年度登録データ!$A$2:$A$1000,MATCH(E80,昨年度登録データ!$E$2:$E$1000,0)))","v":""},{"$f":"IF(H80<>\"\",VLOOKUP(学校情報入力!$B$1,青森県高等学校住所一覧!$A$2:$G$79,7,0),\"\")","v":""},"","",{"$f":"IF(男子部員名簿!B80=\"\",\"\",N(男子部員名簿!B80))","v":""},{"$f":"IF(H80<>\"\",男子部員名簿!I80,\"\")","v":""},"",{"$f":"T(男子部員名簿!E80)","v":""},{"$f":"T(男子部員名簿!F80)","v":""},{"$f":"PHONETIC(男子部員名簿!G80)","v":""},{"$f":"PHONETIC(男子部員名簿!H80)","v":""},null,null,null,null,null,{"$f":"IF(H80<>\"\",学校情報入力!$B$1,\"\")","v":""},{"$f":"IF(男子部員名簿!C80=\"\",\"\",N(男子部員名簿!C80))","v":""}]
[{"$f":"IF(E81=\"\",\"\",INDEX(昨年度登録データ!$A$2:$A$1000,MATCH(E81,昨年度登録データ!$E$2:$E$1000,0)))","v":""},{"$f":"IF(H81<>\"\",VLOOKUP(学校情報入力!$B$1,青森県高等学校住所一覧!$A$2:$G$79,7,0),\"\")","v":""},"","",{"$f":"IF(男子部員名簿!B81=\"\",\"\",N(男子部員名簿!B81))","v":""},{"$f":"IF(H81<>\"\",男子部員名簿!I81,\"\")","v":""},"",{"$f":"T(男子部員名簿!E81)","v":""},{"$f":"T(男子部員名簿!F81)","v":""},{"$f":"PHONETIC(男子部員名簿!G81)","v":""},{"$f":"PHONETIC(男子部員名簿!H81)","v":""},null,null,null,null,null,{"$f":"IF(H81<>\"\",学校情報入力!$B$1,\"\")","v":""},{"$f":"IF(男子部員名簿!C81=\"\",\"\",N(男子部員名簿!C81))","v":""}]
[{"$f":"IF(E82=\"\",\"\",INDEX(昨年度登録データ!$A$2:$A$1000,MATCH(E82,昨年度登録データ!$E$2:$E$1000,0)))","v":""},{"$f":"IF(H82<>\"\",VLOOKUP(学校情報入力!$B$1,青森県高等学校住所一覧!$A$2:$G$79,7,0),\"\")","v":""},"","",{"$f":"IF(男子部員名簿!B82=\"\",\"\",N(男子部員名簿!B82))","v":""},{"$f":"IF(H82<>\"\",男子部員名簿!I82,\"\")","v":""},"",{"$f":"T(男子部員名簿!E82)","v":""},{"$f":"T(男子部員名簿!F82)","v":""},{"$f":"PHONETIC(男子部員名簿!G82)","v":""},{"$f":"PHONETIC(男子部員名簿!H82)","v":""},null,null,null,null,null,{"$f":"IF(H82<>\"\",学校情報入力!$B$1,\"\")","v":""},{"$f":"IF(男子部員名簿!C82=\"\",\"\",N(男子部員名簿!C82))","v":""}]
[{"$f":"IF(E83=\"\",\"\",INDEX(昨年度登録データ!$A$2:$A$1000,MATCH(E83,昨年度登録データ!$E$2:$E$1000,0)))","v":""},{"$f":"IF(H83<>\"\",VLOOKUP(学校情報入力!$B$1,青森県高等学校住所一覧!$A$2:$G$79,7,0),\"\")","v":""},"","",{"$f":"IF(男子部員名簿!B83=\"\",\"\",N(男子部員名簿!B83))","v":""},{"$f":"IF(H83<>\"\",男子部員名簿!I83,\"\")","v":""},"",{"$f":"T(男子部員名簿!E83)","v":""},{"$f":"T(男子部員名簿!F83)","v":""},{"$f":"PHONETIC(男子部員名簿!G83)","v":""},{"$f":"PHONETIC(男子部員名簿!H83)","v":""},null,null,null,null,null,{"$f":"IF(H83<>\"\",学校情報入力!$B$1,\"\")","v":""},{"$f":"IF(男子部員名簿!C83=\"\",\"\",N(男子部員名簿!C83))","v":""}]
[{"$f":"IF(E84=\"\",\"\",INDEX(昨年度登録データ!$A$2:$A$1000,MATCH(E84,昨年度登録データ!$E$2:$E$1000,0)))","v":""},{"$f":"IF(H84<>\"\",VLOOKUP(学校情報入力!$B$1,青森県高等学校住所一覧!$A$2:$G$79,7,0),\"\")","v":""},"","",{"$f":"IF(男子部員名簿!B84=\"\",\"\",N(男子部員名簿!B84))","v":""},{"$f":"IF(H84<>\"\",男子部員名簿!I84,\"\")","v":""},"",{"$f":"T(男子部員名簿!E84)","v":""},{"$f":"T(男子部員名簿!F84)","v":""},{"$f":"PHONETIC(男子部員名簿!G84)","v":""},{"$f":"PHONETIC(男子部員名簿!H84)","v":""},null,null,null,null,null,{"$f":"IF(H84<>\"\",学校情報入力!$B$1,\"\")","v":""},{"$f":"IF(男子部員名簿!C84=\"\",\"\",N(男子部員名簿!C84))","v":""}]
[{"$f":"IF(E85=\"\",\"\",INDEX(昨年度登録データ!$A$2:$A$1000,MATCH(E85,昨年度登録データ!$E$2:$E$1000,0)))","v":""},{"$f":"IF(H85<>\"\",VLOOKUP(学校情報入力!$B$1,青森県高等学校住所一覧!$A$2:$G$79,7,0),\"\")","v":""},"","",{"$f":"IF(男子部員名簿!B85=\"\",\"\",N(男子部員名簿!B85))","v":""},{"$f":"IF(H85<>\"\",男子部員名簿!I85,\"\")","v":""},"",{"$f":"T(男子部員名簿!E85)","v":""},{"$f":"T(男子部員名簿!F85)","v":""},{"$f":"PHONETIC(男子部員名簿!G85)","v":""},{"$f":"PHONETIC(男子部員名簿!H85)","v":""},null,null,null,null,null,{"$f":"IF(H85<>\"\",学校情報入力!$B$1,\"\")","v":""},{"$f":"IF(男子部員名簿!C85=\"\",\"\",N(男子部員名簿!C85))","v":""}]
[{"$f":"IF(E86=\"\",\"\",INDEX(昨年度登録データ!$A$2:$A$1000,MATCH(E86,昨年度登録データ!$E$2:$E$1000,0)))","v":""},{"$f":"IF(H86<>\"\",VLOOKUP(学校情報入力!$B$1,青森県高等学校住所一覧!$A$2:$G$79,7,0),\"\")","v":""},"","",{"$f":"IF(男子部員名簿!B86=\"\",\"\",N(男子部員名簿!B86))","v":""},{"$f":"IF(H86<>\"\",男子部員名簿!I86,\"\")","v":""},"",{"$f":"T(男子部員名簿!E86)","v":""},{"$f":"T(男子部員名簿!F86)","v":""},{"$f":"PHONETIC(男子部員名簿!G86)","v":""},{"$f":"PHONETIC(男子部員名簿!H86)","v":""},null,null,null,null,null,{"$f":"IF(H86<>\"\",学校情報入力!$B$1,\"\")","v":""},{"$f":"IF(男子部員名簿!C86=\"\",\"\",N(男子部員名簿!C86))","v":""}]
[{"$f":"IF(E87=\"\",\"\",INDEX(昨年度登録データ!$A$2:$A$1000,MATCH(E87,昨年度登録データ!$E$2:$E$1000,0)))","v":""},{"$f":"IF(H87<>\"\",VLOOKUP(学校情報入力!$B$1,青森県高等学校住所一覧!$A$2:$G$79,7,0),\"\")","v":""},"","",{"$f":"IF(男子部員名簿!B87=\"\",\"\",N(男子部員名簿!B87))","v":""},{"$f":"IF(H87<>\"\",男子部員名簿!I87,\"\")","v":""},"",{"$f":"T(男子部員名簿!E87)","v":""},{"$f":"T(男子部員名簿!F87)","v":""},{"$f":"PHONETIC(男子部員名簿!G87)","v":""},{"$f":"PHONETIC(男子部員名簿!H87)","v":""},null,null,null,null,null,{"$f":"IF(H87<>\"\",学校情報入力!$B$1,\"\")","v":""},{"$f":"IF(男子部員名簿!C87=\"\",\"\",N(男子部員名簿!C87))","v":""}]
[{"$f":"IF(E88=\"\",\"\",INDEX(昨年度登録データ!$A$2:$A$1000,MATCH(E88,昨年度登録データ!$E$2:$E$1000,0)))","v":""},{"$f":"IF(H88<>\"\",VLOOKUP(学校情報入力!$B$1,青森県高等学校住所一覧!$A$2:$G$79,7,0),\"\")","v":""},"","",{"$f":"IF(男子部員名簿!B88=\"\",\"\",N(男子部員名簿!B88))","v":""},{"$f":"IF(H88<>\"\",男子部員名簿!I88,\"\")","v":""},"",{"$f":"T(男子部員名簿!E88)","v":""},{"$f":"T(男子部員名簿!F88)","v":""},{"$f":"PHONETIC(男子部員名簿!G88)","v":""},{"$f":"PHONETIC(男子部員名簿!H88)","v":""},null,null,null,null,null,{"$f":"IF(H88<>\"\",学校情報入力!$B$1,\"\")","v":""},{"$f":"IF(男子部員名簿!C88=\"\",\"\",N(男子部員名簿!C88))","v":""}]
[{"$f":"IF(E89=\"\",\"\",INDEX(昨年度登録データ!$A$2:$A$1000,MATCH(E89,昨年度登録データ!$E$2:$E$1000,0)))","v":""},{"$f":"IF(H89<>\"\",VLOOKUP(学校情報入力!$B$1,青森県高等学校住所一覧!$A$2:$G$79,7,0),\"\")","v":""},"","",{"$f":"IF(男子部員名簿!B89=\"\",\"\",N(男子部員名簿!B89))","v":""},{"$f":"IF(H89<>\"\",男子部員名簿!I89,\"\")","v":""},"",{"$f":"T(男子部員名簿!E89)","v":""},{"$f":"T(男子部員名簿!F89)","v":""},{"$f":"PHONETIC(男子部員名簿!G89)","v":""},{"$f":"PHONETIC(男子部員名簿!H89)","v":""},null,null,null,null,null,{"$f":"IF(H89<>\"\",学校情報入力!$B$1,\"\")","v":""},{"$f":"IF(男子部員名簿!C89=\"\",\"\",N(男子部員名簿!C89))","v":""}]
[{"$f":"IF(E90=\"\",\"\",INDEX(昨年度登録データ!$A$2:$A$1000,MATCH(E90,昨年度登録データ!$E$2:$E$1000,0)))","v":""},{"$f":"IF(H90<>\"\",VLOOKUP(学校情報入力!$B$1,青森県高等学校住所一覧!$A$2:$G$79,7,0),\"\")","v":""},"","",{"$f":"IF(男子部員名簿!B90=\"\",\"\",N(男子部員名簿!B90))","v":""},{"$f":"IF(H90<>\"\",男子部員名簿!I90,\"\")","v":""},"",{"$f":"T(男子部員名簿!E90)","v":""},{"$f":"T(男子部員名簿!F90)","v":""},{"$f":"PHONETIC(男子部員名簿!G90)","v":""},{"$f":"PHONETIC(男子部員名簿!H90)","v":""},null,null,null,null,null,{"$f":"IF(H90<>\"\",学校情報入力!$B$1,\"\")","v":""},{"$f":"IF(男子部員名簿!C90=\"\",\"\",N(男子部員名簿!C90))","v":""}]
[{"$f":"IF(E91=\"\",\"\",INDEX(昨年度登録データ!$A$2:$A$1000,MATCH(E91,昨年度登録データ!$E$2:$E$1000,0)))","v":""},{"$f":"IF(H91<>\"\",VLOOKUP(学校情報入力!$B$1,青森県高等学校住所一覧!$A$2:$G$79,7,0),\"\")","v":""},"","",{"$f":"IF(男子部員名簿!B91=\"\",\"\",N(男子部員名簿!B91))","v":""},{"$f":"IF(H91<>\"\",男子部員名簿!I91,\"\")","v":""},"",{"$f":"T(男子部員名簿!E91)","v":""},{"$f":"T(男子部員名簿!F91)","v":""},{"$f":"PHONETIC(男子部員名簿!G91)","v":""},{"$f":"PHONETIC(男子部員名簿!H91)","v":""},null,null,null,null,null,{"$f":"IF(H91<>\"\",学校情報入力!$B$1,\"\")","v":""},{"$f":"IF(男子部員名簿!C91=\"\",\"\",N(男子部員名簿!C91))","v":""}]
[{"$f":"IF(E92=\"\",\"\",INDEX(昨年度登録データ!$A$2:$A$1000,MATCH(E92,昨年度登録データ!$E$2:$E$1000,0)))","v":""},{"$f":"IF(H92<>\"\",VLOOKUP(学校情報入力!$B$1,青森県高等学校住所一覧!$A$2:$G$79,7,0),\"\")","v":""},"","",{"$f":"IF(男子部員名簿!B92=\"\",\"\",N(男子部員名簿!B92))","v":""},{"$f":"IF(H92<>\"\",男子部員名簿!I92,\"\")","v":""},"",{"$f":"T(男子部員名簿!E92)","v":""},{"$f":"T(男子部員名簿!F92)","v":""},{"$f":"PHONETIC(男子部員名簿!G92)","v":""},{"$f":"PHONETIC(男子部員名簿!H92)","v":""},null,null,null,null,null,{"$f":"IF(H92<>\"\",学校情報入力!$B$1,\"\")","v":""},{"$f":"IF(男子部員名簿!C92=\"\",\"\",N(男子部員名簿!C92))","v":""}]
[{"$f":"IF(E93=\"\",\"\",INDEX(昨年度登録データ!$A$2:$A$1000,MATCH(E93,昨年度登録データ!$E$2:$E$1000,0)))","v":""},{"$f":"IF(H93<>\"\",VLOOKUP(学校情報入力!$B$1,青森県高等学校住所一覧!$A$2:$G$79,7,0),\"\")","v":""},"","",{"$f":"IF(男子部員名簿!B93=\"\",\"\",N(男子部員名簿!B93))","v":""},{"$f":"IF(H93<>\"\",男子部員名簿!I93,\"\")","v":""},"",{"$f":"T(男子部員名簿!E93)","v":""},{"$f":"T(男子部員名簿!F93)","v":""},{"$f":"PHONETIC(男子部員名簿!G93)","v":""},{"$f":"PHONETIC(男子部員名簿!H93)","v":""},null,null,null,null,null,{"$f":"IF(H93<>\"\",学校情報入力!$B$1,\"\")","v":""},{"$f":"IF(男子部員名簿!C93=\"\",\"\",N(男子部員名簿!C93))","v":""}]
[{"$f":"IF(E94=\"\",\"\",INDEX(昨年度登録データ!$A$2:$A$1000,MATCH(E94,昨年度登録データ!$E$2:$E$1000,0)))","v":""},{"$f":"IF(H94<>\"\",VLOOKUP(学校情報入力!$B$1,青森県高等学校住所一覧!$A$2:$G$79,7,0),\"\")","v":""},"","",{"$f":"IF(男子部員名簿!B94=\"\",\"\",N(男子部員名簿!B94))","v":""},{"$f":"IF(H94<>\"\",男子部員名簿!I94,\"\")","v":""},"",{"$f":"T(男子部員名簿!E94)","v":""},{"$f":"T(男子部員名簿!F94)","v":""},{"$f":"PHONETIC(男子部員名簿!G94)","v":""},{"$f":"PHONETIC(男子部員名簿!H94)","v":""},null,null,null,null,null,{"$f":"IF(H94<>\"\",学校情報入力!$B$1,\"\")","v":""},{"$f":"IF(男子部員名簿!C94=\"\",\"\",N(男子部員名簿!C94))","v":""}]
[{"$f":"IF(E95=\"\",\"\",INDEX(昨年度登録データ!$A$2:$A$1000,MATCH(E95,昨年度登録データ!$E$2:$E$1000,0)))","v":""},{"$f":"IF(H95<>\"\",VLOOKUP(学校情報入力!$B$1,青森県高等学校住所一覧!$A$2:$G$79,7,0),\"\")","v":""},"","",{"$f":"IF(男子部員名簿!B95=\"\",\"\",N(男子部員名簿!B95))","v":""},{"$f":"IF(H95<>\"\",男子部員名簿!I95,\"\")","v":""},"",{"$f":"T(男子部員名簿!E95)","v":""},{"$f":"T(男子部員名簿!F95)","v":""},{"$f":"PHONETIC(男子部員名簿!G95)","v":""},{"$f":"PHONETIC(男子部員名簿!H95)","v":""},null,null,null,null,null,{"$f":"IF(H95<>\"\",学校情報入力!$B$1,\"\")","v":""},{"$f":"IF(男子部員名簿!C95=\"\",\"\",N(男子部員名簿!C95))","v":""}]
[{"$f":"IF(E96=\"\",\"\",INDEX(昨年度登録データ!$A$2:$A$1000,MATCH(E96,昨年度登録データ!$E$2:$E$1000,0)))","v":""},{"$f":"IF(H96<>\"\",VLOOKUP(学校情報入力!$B$1,青森県高等学校住所一覧!$A$2:$G$79,7,0),\"\")","v":""},"","",{"$f":"IF(男子部員名簿!B96=\"\",\"\",N(男子部員名簿!B96))","v":""},{"$f":"IF(H96<>\"\",男子部員名簿!I96,\"\")","v":""},"",{"$f":"T(男子部員名簿!E96)","v":""},{"$f":"T(男子部員名簿!F96)","v":""},{"$f":"PHONETIC(男子部員名簿!G96)","v":""},{"$f":"PHONETIC(男子部員名簿!H96)","v":""},null,null,null,null,null,{"$f":"IF(H96<>\"\",学校情報入力!$B$1,\"\")","v":""},{"$f":"IF(男子部員名簿!C96=\"\",\"\",N(男子部員名簿!C96))","v":""}]
[{"$f":"IF(E97=\"\",\"\",INDEX(昨年度登録データ!$A$2:$A$1000,MATCH(E97,昨年度登録データ!$E$2:$E$1000,0)))","v":""},{"$f":"IF(H97<>\"\",VLOOKUP(学校情報入力!$B$1,青森県高等学校住所一覧!$A$2:$G$79,7,0),\"\")","v":""},"","",{"$f":"IF(男子部員名簿!B97=\"\",\"\",N(男子部員名簿!B97))","v":""},{"$f":"IF(H97<>\"\",男子部員名簿!I97,\"\")","v":""},"",{"$f":"T(男子部員名簿!E97)","v":""},{"$f":"T(男子部員名簿!F97)","v":""},{"$f":"PHONETIC(男子部員名簿!G97)","v":""},{"$f":"PHONETIC(男子部員名簿!H97)","v":""},null,null,null,null,null,{"$f":"IF(H97<>\"\",学校情報入力!$B$1,\"\")","v":""},{"$f":"IF(男子部員名簿!C97=\"\",\"\",N(男子部員名簿!C97))","v":""}]
[{"$f":"IF(E98=\"\",\"\",INDEX(昨年度登録データ!$A$2:$A$1000,MATCH(E98,昨年度登録データ!$E$2:$E$1000,0)))","v":""},{"$f":"IF(H98<>\"\",VLOOKUP(学校情報入力!$B$1,青森県高等学校住所一覧!$A$2:$G$79,7,0),\"\")","v":""},"","",{"$f":"IF(男子部員名簿!B98=\"\",\"\",N(男子部員名簿!B98))","v":""},{"$f":"IF(H98<>\"\",男子部員名簿!I98,\"\")","v":""},{"$f":"IF(H98<>\"\",\"M\",\"\")","v":""},{"$f":"T(男子部員名簿!E98)","v":""},{"$f":"T(男子部員名簿!F98)","v":""},{"$f":"PHONETIC(男子部員名簿!G98)","v":""},{"$f":"PHONETIC(男子部員名簿!H98)","v":""},null,null,null,null,null,{"$f":"IF(H98<>\"\",学校情報入力!$B$1,\"\")","v":""},{"$f":"IF(男子部員名簿!C98=\"\",\"\",N(男子部員名簿!C98))","v":""}]
[{"$f":"IF(E99=\"\",\"\",INDEX(昨年度登録データ!$A$2:$A$1000,MATCH(E99,昨年度登録データ!$E$2:$E$1000,0)))","v":""},{"$f":"IF(H99<>\"\",VLOOKUP(学校情報入力!$B$1,青森県高等学校住所一覧!$A$2:$G$79,7,0),\"\")","v":""},"","",{"$f":"IF(男子部員名簿!B99=\"\",\"\",N(男子部員名簿!B99))","v":""},{"$f":"IF(H99<>\"\",男子部員名簿!I99,\"\")","v":""},"",{"$f":"T(男子部員名簿!E99)","v":""},{"$f":"T(男子部員名簿!F99)","v":""},{"$f":"PHONETIC(男子部員名簿!G99)","v":""},{"$f":"PHONETIC(男子部員名簿!H99)","v":""},null,null,null,null,null,{"$f":"IF(H99<>\"\",学校情報入力!$B$1,\"\")","v":""},{"$f":"IF(男子部員名簿!C99=\"\",\"\",N(男子部員名簿!C99))","v":""}]
[{"$f":"IF(E100=\"\",\"\",INDEX(昨年度登録データ!$A$2:$A$1000,MATCH(E100,昨年度登録データ!$E$2:$E$1000,0)))","v":""},{"$f":"IF(H100<>\"\",VLOOKUP(学校情報入力!$B$1,青森県高等学校住所一覧!$A$2:$G$79,7,0),\"\")","v":""},{"$f":"IF(H100<>\"\",\"JTAジュニア選手登録\",\"\")","v":""},{"$f":"IF(H100<>\"\",\"PF02\",\"\")","v":""},{"$f":"IF(男子部員名簿!B100=\"\",\"\",N(男子部員名簿!B100))","v":""},{"$f":"IF(H100<>\"\",男子部員名簿!I100,\"\")","v":""},{"$f":"IF(H100<>\"\",\"M\",\"\")","v":""},{"$f":"T(男子部員名簿!E100)","v":""},{"$f":"T(男子部員名簿!F100)","v":""},{"$f":"PHONETIC(男子部員名簿!G100)","v":""},{"$f":"PHONETIC(男子部員名簿!H100)","v":""},null,null,null,null,null,{"$f":"IF(H100<>\"\",学校情報入力!$B$1,\"\")","v":""},{"$f":"IF(男子部員名簿!C100=\"\",\"\",N(男子部員名簿!C100))","v":""}]
[{"$f":"IF(E101=\"\",\"\",INDEX(昨年度登録データ!$A$2:$A$1000,MATCH(E101,昨年度登録データ!$E$2:$E$1000,0)))","v":""},{"$f":"IF(H101<>\"\",VLOOKUP(学校情報入力!$B$1,青森県高等学校住所一覧!$A$2:$G$79,7,0),\"\")","v":""},"","",{"$f":"IF(男子部員名簿!B101=\"\",\"\",N(男子部員名簿!B101))","v":""},{"$f":"IF(H101<>\"\",男子部員名簿!I101,\"\")","v":""},"",{"$f":"T(男子部員名簿!E101)","v":""},{"$f":"T(男子部員名簿!F101)","v":""},{"$f":"PHONETIC(男子部員名簿!G101)","v":""},{"$f":"PHONETIC(男子部員名簿!H101)","v":""},null,null,null,null,null,{"$f":"IF(H101<>\"\",学校情報入力!$B$1,\"\")","v":""},{"$f":"IF(男子部員名簿!C101=\"\",\"\",N(男子部員名簿!C101))","v":""}]
[]
[]
[]
[]
[]
[]
[]
[]
[]
[]
[]
[]
[]
[]
[]
[]
[]
[]
[]
[]
[]
[]
[]
[]
[]
[]
[]
[]
[]
[]
[]
[]
[]
[]
[]
[]
[]
[]
[]
[]
[]
[]
[]
[]
[]
[]
[]
[]
[]
[]
[]
[]
[]
[]
[]
[]
[]
[]
[]
[]
[]
[]
[]
[]
[]
[]
[]
[]
[]
[]
[]
[]
[]
[]
[]
[]
[]
[]
[]
[]
[]
[]
[]
[]
[]
[]
[]
[]
[]
[]
[]
[]
[]
[]
[]
[]
[]
[]
[]
[]
[]
[]
[]
[]
[]
[]
[]
[]
[]
[]
[]
[]
[]
[]
[]
[]
[]
[]
[]
[]
[]
[]
[]
[null,null,null,null,null,null,null,null,null,{"$f":"PHONETIC(男子部員名簿!G225)","v":""},{"$f":"PHONETIC(男子部員名簿!H225)","v":""}]
[null,null,null,null,null,null,null,null,null,{"$f":"PHONETIC(男子部員名簿!G226)","v":""},{"$f":"PHONETIC(男子部員名簿!H226)","v":""}]
[null,null,null,null,null,null,null,null,null,{"$f":"PHONETIC(男子部員名簿!G227)","v":""},{"$f":"PHONETIC(男子部員名簿!H227)","v":""}]
[null,null,null,null,null,null,null,null,null,{"$f":"PHONETIC(男子部員名簿!G228)","v":""},{"$f":"PHONETIC(男子部員名簿!H228)","v":""}]

{"sheet":"女子登録票（協会用）","index":9,"n_rows":228,"n_cols":18,"rows_kept":228,"cut":false,"hidden":true,"merged":[]}
["Memberid","Clubnumber","MembershipType","Prefecture","Prefecturememberid","Birthdate","Gender","Lastname","Firstname","Lastname_kana","Firstname_kana","Lastname_alphabet","Firstname_alphabet","Country","IPIN","Email","Teamname","Grade"]
[{"$f":"IF(E2=\"\",\"\",INDEX(昨年度登録データ!$A$2:$A$1000,MATCH(E2,昨年度登録データ!$E$2:$E$1000,0)))","v":""},{"$f":"IF(H2<>\"\",VLOOKUP(学校情報入力!$B$1,青森県高等学校住所一覧!$A$2:$G$79,7,0),\"\")","v":""},{"$f":"IF(H2<>\"\",\"JTAジュニア選手登録\",\"\")","v":""},{"$f":"IF(H2<>\"\",\"PF02\",\"\")","v":""},{"$f":"IF(女子部員名簿!B2=\"\",\"\",N(女子部員名簿!B2))","v":""},{"$f":"IF(H2<>\"\",女子部員名簿!I2,\"\")","v":""},{"$f":"IF(H2<>\"\",\"F\",\"\")","v":""},{"$f":"T(女子部員名簿!E2)","v":""},{"$f":"T(女子部員名簿!F2)","v":""},{"$f":"PHONETIC(女子部員名簿!G2)","v":""},{"$f":"PHONETIC(女子部員名簿!H2)","v":""},null,null,null,null,null,{"$f":"IF(H2<>\"\",学校情報入力!$B$1,\"\")","v":""},{"$f":"IF(女子部員名簿!C2=\"\",\"\",N(女子部員名簿!C2))","v":""}]
[{"$f":"IF(E3=\"\",\"\",INDEX(昨年度登録データ!$A$2:$A$1000,MATCH(E3,昨年度登録データ!$E$2:$E$1000,0)))","v":""},{"$f":"IF(H3<>\"\",VLOOKUP(学校情報入力!$B$1,青森県高等学校住所一覧!$A$2:$G$79,7,0),\"\")","v":""},{"$f":"IF(H3<>\"\",\"JTAジュニア選手登録\",\"\")","v":""},{"$f":"IF(H3<>\"\",\"PF02\",\"\")","v":""},{"$f":"IF(女子部員名簿!B3=\"\",\"\",N(女子部員名簿!B3))","v":""},{"$f":"IF(H3<>\"\",女子部員名簿!I3,\"\")","v":""},"",{"$f":"T(女子部員名簿!E3)","v":""},{"$f":"T(女子部員名簿!F3)","v":""},{"$f":"PHONETIC(女子部員名簿!G3)","v":""},{"$f":"PHONETIC(女子部員名簿!H3)","v":""},null,null,null,null,null,{"$f":"IF(H3<>\"\",学校情報入力!$B$1,\"\")","v":""},{"$f":"IF(女子部員名簿!C3=\"\",\"\",N(女子部員名簿!C3))","v":""}]
[{"$f":"IF(E4=\"\",\"\",INDEX(昨年度登録データ!$A$2:$A$1000,MATCH(E4,昨年度登録データ!$E$2:$E$1000,0)))","v":""},{"$f":"IF(H4<>\"\",VLOOKUP(学校情報入力!$B$1,青森県高等学校住所一覧!$A$2:$G$79,7,0),\"\")","v":""},"","",{"$f":"IF(女子部員名簿!B4=\"\",\"\",N(女子部員名簿!B4))","v":""},{"$f":"IF(H4<>\"\",女子部員名簿!I4,\"\")","v":""},"",{"$f":"T(女子部員名簿!E4)","v":""},{"$f":"T(女子部員名簿!F4)","v":""},{"$f":"PHONETIC(女子部員名簿!G4)","v":""},{"$f":"PHONETIC(女子部員名簿!H4)","v":""},null,null,null,null,null,{"$f":"IF(H4<>\"\",学校情報入力!$B$1,\"\")","v":""},{"$f":"IF(女子部員名簿!C4=\"\",\"\",N(女子部員名簿!C4))","v":""}]
[{"$f":"IF(E5=\"\",\"\",INDEX(昨年度登録データ!$A$2:$A$1000,MATCH(E5,昨年度登録データ!$E$2:$E$1000,0)))","v":""},{"$f":"IF(H5<>\"\",VLOOKUP(学校情報入力!$B$1,青森県高等学校住所一覧!$A$2:$G$79,7,0),\"\")","v":""},"","",{"$f":"IF(女子部員名簿!B5=\"\",\"\",N(女子部員名簿!B5))","v":""},{"$f":"IF(H5<>\"\",女子部員名簿!I5,\"\")","v":""},"",{"$f":"T(女子部員名簿!E5)","v":""},{"$f":"T(女子部員名簿!F5)","v":""},{"$f":"PHONETIC(女子部員名簿!G5)","v":""},{"$f":"PHONETIC(女子部員名簿!H5)","v":""},null,null,null,null,null,{"$f":"IF(H5<>\"\",学校情報入力!$B$1,\"\")","v":""},{"$f":"IF(女子部員名簿!C5=\"\",\"\",N(女子部員名簿!C5))","v":""}]
[{"$f":"IF(E6=\"\",\"\",INDEX(昨年度登録データ!$A$2:$A$1000,MATCH(E6,昨年度登録データ!$E$2:$E$1000,0)))","v":""},{"$f":"IF(H6<>\"\",VLOOKUP(学校情報入力!$B$1,青森県高等学校住所一覧!$A$2:$G$79,7,0),\"\")","v":""},"","",{"$f":"IF(女子部員名簿!B6=\"\",\"\",N(女子部員名簿!B6))","v":""},{"$f":"IF(H6<>\"\",女子部員名簿!I6,\"\")","v":""},"",{"$f":"T(女子部員名簿!E6)","v":""},{"$f":"T(女子部員名簿!F6)","v":""},{"$f":"PHONETIC(女子部員名簿!G6)","v":""},{"$f":"PHONETIC(女子部員名簿!H6)","v":""},null,null,null,null,null,{"$f":"IF(H6<>\"\",学校情報入力!$B$1,\"\")","v":""},{"$f":"IF(女子部員名簿!C6=\"\",\"\",N(女子部員名簿!C6))","v":""}]
[{"$f":"IF(E7=\"\",\"\",INDEX(昨年度登録データ!$A$2:$A$1000,MATCH(E7,昨年度登録データ!$E$2:$E$1000,0)))","v":""},{"$f":"IF(H7<>\"\",VLOOKUP(学校情報入力!$B$1,青森県高等学校住所一覧!$A$2:$G$79,7,0),\"\")","v":""},"","",{"$f":"IF(女子部員名簿!B7=\"\",\"\",N(女子部員名簿!B7))","v":""},{"$f":"IF(H7<>\"\",女子部員名簿!I7,\"\")","v":""},"",{"$f":"T(女子部員名簿!E7)","v":""},{"$f":"T(女子部員名簿!F7)","v":""},{"$f":"PHONETIC(女子部員名簿!G7)","v":""},{"$f":"PHONETIC(女子部員名簿!H7)","v":""},null,null,null,null,null,{"$f":"IF(H7<>\"\",学校情報入力!$B$1,\"\")","v":""},{"$f":"IF(女子部員名簿!C7=\"\",\"\",N(女子部員名簿!C7))","v":""}]
[{"$f":"IF(E8=\"\",\"\",INDEX(昨年度登録データ!$A$2:$A$1000,MATCH(E8,昨年度登録データ!$E$2:$E$1000,0)))","v":""},{"$f":"IF(H8<>\"\",VLOOKUP(学校情報入力!$B$1,青森県高等学校住所一覧!$A$2:$G$79,7,0),\"\")","v":""},"","",{"$f":"IF(女子部員名簿!B8=\"\",\"\",N(女子部員名簿!B8))","v":""},{"$f":"IF(H8<>\"\",女子部員名簿!I8,\"\")","v":""},"",{"$f":"T(女子部員名簿!E8)","v":""},{"$f":"T(女子部員名簿!F8)","v":""},{"$f":"PHONETIC(女子部員名簿!G8)","v":""},{"$f":"PHONETIC(女子部員名簿!H8)","v":""},null,null,null,null,null,{"$f":"IF(H8<>\"\",学校情報入力!$B$1,\"\")","v":""},{"$f":"IF(女子部員名簿!C8=\"\",\"\",N(女子部員名簿!C8))","v":""}]
[{"$f":"IF(E9=\"\",\"\",INDEX(昨年度登録データ!$A$2:$A$1000,MATCH(E9,昨年度登録データ!$E$2:$E$1000,0)))","v":""},{"$f":"IF(H9<>\"\",VLOOKUP(学校情報入力!$B$1,青森県高等学校住所一覧!$A$2:$G$79,7,0),\"\")","v":""},"","",{"$f":"IF(女子部員名簿!B9=\"\",\"\",N(女子部員名簿!B9))","v":""},{"$f":"IF(H9<>\"\",女子部員名簿!I9,\"\")","v":""},"",{"$f":"T(女子部員名簿!E9)","v":""},{"$f":"T(女子部員名簿!F9)","v":""},{"$f":"PHONETIC(女子部員名簿!G9)","v":""},{"$f":"PHONETIC(女子部員名簿!H9)","v":""},null,null,null,null,null,{"$f":"IF(H9<>\"\",学校情報入力!$B$1,\"\")","v":""},{"$f":"IF(女子部員名簿!C9=\"\",\"\",N(女子部員名簿!C9))","v":""}]
[{"$f":"IF(E10=\"\",\"\",INDEX(昨年度登録データ!$A$2:$A$1000,MATCH(E10,昨年度登録データ!$E$2:$E$1000,0)))","v":""},{"$f":"IF(H10<>\"\",VLOOKUP(学校情報入力!$B$1,青森県高等学校住所一覧!$A$2:$G$79,7,0),\"\")","v":""},"","",{"$f":"IF(女子部員名簿!B10=\"\",\"\",N(女子部員名簿!B10))","v":""},{"$f":"IF(H10<>\"\",女子部員名簿!I10,\"\")","v":""},"",{"$f":"T(女子部員名簿!E10)","v":""},{"$f":"T(女子部員名簿!F10)","v":""},{"$f":"PHONETIC(女子部員名簿!G10)","v":""},{"$f":"PHONETIC(女子部員名簿!H10)","v":""},null,null,null,null,null,{"$f":"IF(H10<>\"\",学校情報入力!$B$1,\"\")","v":""},{"$f":"IF(女子部員名簿!C10=\"\",\"\",N(女子部員名簿!C10))","v":""}]
[{"$f":"IF(E11=\"\",\"\",INDEX(昨年度登録データ!$A$2:$A$1000,MATCH(E11,昨年度登録データ!$E$2:$E$1000,0)))","v":""},{"$f":"IF(H11<>\"\",VLOOKUP(学校情報入力!$B$1,青森県高等学校住所一覧!$A$2:$G$79,7,0),\"\")","v":""},"","",{"$f":"IF(女子部員名簿!B11=\"\",\"\",N(女子部員名簿!B11))","v":""},{"$f":"IF(H11<>\"\",女子部員名簿!I11,\"\")","v":""},"",{"$f":"T(女子部員名簿!E11)","v":""},{"$f":"T(女子部員名簿!F11)","v":""},{"$f":"PHONETIC(女子部員名簿!G11)","v":""},{"$f":"PHONETIC(女子部員名簿!H11)","v":""},null,null,null,null,null,{"$f":"IF(H11<>\"\",学校情報入力!$B$1,\"\")","v":""},{"$f":"IF(女子部員名簿!C11=\"\",\"\",N(女子部員名簿!C11))","v":""}]
[{"$f":"IF(E12=\"\",\"\",INDEX(昨年度登録データ!$A$2:$A$1000,MATCH(E12,昨年度登録データ!$E$2:$E$1000,0)))","v":""},{"$f":"IF(H12<>\"\",VLOOKUP(学校情報入力!$B$1,青森県高等学校住所一覧!$A$2:$G$79,7,0),\"\")","v":""},"","",{"$f":"IF(女子部員名簿!B12=\"\",\"\",N(女子部員名簿!B12))","v":""},{"$f":"IF(H12<>\"\",女子部員名簿!I12,\"\")","v":""},"",{"$f":"T(女子部員名簿!E12)","v":""},{"$f":"T(女子部員名簿!F12)","v":""},{"$f":"PHONETIC(女子部員名簿!G12)","v":""},{"$f":"PHONETIC(女子部員名簿!H12)","v":""},null,null,null,null,null,{"$f":"IF(H12<>\"\",学校情報入力!$B$1,\"\")","v":""},{"$f":"IF(女子部員名簿!C12=\"\",\"\",N(女子部員名簿!C12))","v":""}]
[{"$f":"IF(E13=\"\",\"\",INDEX(昨年度登録データ!$A$2:$A$1000,MATCH(E13,昨年度登録データ!$E$2:$E$1000,0)))","v":""},{"$f":"IF(H13<>\"\",VLOOKUP(学校情報入力!$B$1,青森県高等学校住所一覧!$A$2:$G$79,7,0),\"\")","v":""},"","",{"$f":"IF(女子部員名簿!B13=\"\",\"\",N(女子部員名簿!B13))","v":""},{"$f":"IF(H13<>\"\",女子部員名簿!I13,\"\")","v":""},"",{"$f":"T(女子部員名簿!E13)","v":""},{"$f":"T(女子部員名簿!F13)","v":""},{"$f":"PHONETIC(女子部員名簿!G13)","v":""},{"$f":"PHONETIC(女子部員名簿!H13)","v":""},null,null,null,null,null,{"$f":"IF(H13<>\"\",学校情報入力!$B$1,\"\")","v":""},{"$f":"IF(女子部員名簿!C13=\"\",\"\",N(女子部員名簿!C13))","v":""}]
[{"$f":"IF(E14=\"\",\"\",INDEX(昨年度登録データ!$A$2:$A$1000,MATCH(E14,昨年度登録データ!$E$2:$E$1000,0)))","v":""},{"$f":"IF(H14<>\"\",VLOOKUP(学校情報入力!$B$1,青森県高等学校住所一覧!$A$2:$G$79,7,0),\"\")","v":""},"","",{"$f":"IF(女子部員名簿!B14=\"\",\"\",N(女子部員名簿!B14))","v":""},{"$f":"IF(H14<>\"\",女子部員名簿!I14,\"\")","v":""},"",{"$f":"T(女子部員名簿!E14)","v":""},{"$f":"T(女子部員名簿!F14)","v":""},{"$f":"PHONETIC(女子部員名簿!G14)","v":""},{"$f":"PHONETIC(女子部員名簿!H14)","v":""},null,null,null,null,null,{"$f":"IF(H14<>\"\",学校情報入力!$B$1,\"\")","v":""},{"$f":"IF(女子部員名簿!C14=\"\",\"\",N(女子部員名簿!C14))","v":""}]
[{"$f":"IF(E15=\"\",\"\",INDEX(昨年度登録データ!$A$2:$A$1000,MATCH(E15,昨年度登録データ!$E$2:$E$1000,0)))","v":""},{"$f":"IF(H15<>\"\",VLOOKUP(学校情報入力!$B$1,青森県高等学校住所一覧!$A$2:$G$79,7,0),\"\")","v":""},"","",{"$f":"IF(女子部員名簿!B15=\"\",\"\",N(女子部員名簿!B15))","v":""},{"$f":"IF(H15<>\"\",女子部員名簿!I15,\"\")","v":""},"",{"$f":"T(女子部員名簿!E15)","v":""},{"$f":"T(女子部員名簿!F15)","v":""},{"$f":"PHONETIC(女子部員名簿!G15)","v":""},{"$f":"PHONETIC(女子部員名簿!H15)","v":""},null,null,null,null,null,{"$f":"IF(H15<>\"\",学校情報入力!$B$1,\"\")","v":""},{"$f":"IF(女子部員名簿!C15=\"\",\"\",N(女子部員名簿!C15))","v":""}]
[{"$f":"IF(E16=\"\",\"\",INDEX(昨年度登録データ!$A$2:$A$1000,MATCH(E16,昨年度登録データ!$E$2:$E$1000,0)))","v":""},{"$f":"IF(H16<>\"\",VLOOKUP(学校情報入力!$B$1,青森県高等学校住所一覧!$A$2:$G$79,7,0),\"\")","v":""},"","",{"$f":"IF(女子部員名簿!B16=\"\",\"\",N(女子部員名簿!B16))","v":""},{"$f":"IF(H16<>\"\",女子部員名簿!I16,\"\")","v":""},"",{"$f":"T(女子部員名簿!E16)","v":""},{"$f":"T(女子部員名簿!F16)","v":""},{"$f":"PHONETIC(女子部員名簿!G16)","v":""},{"$f":"PHONETIC(女子部員名簿!H16)","v":""},null,null,null,null,null,{"$f":"IF(H16<>\"\",学校情報入力!$B$1,\"\")","v":""},{"$f":"IF(女子部員名簿!C16=\"\",\"\",N(女子部員名簿!C16))","v":""}]
[{"$f":"IF(E17=\"\",\"\",INDEX(昨年度登録データ!$A$2:$A$1000,MATCH(E17,昨年度登録データ!$E$2:$E$1000,0)))","v":""},{"$f":"IF(H17<>\"\",VLOOKUP(学校情報入力!$B$1,青森県高等学校住所一覧!$A$2:$G$79,7,0),\"\")","v":""},"","",{"$f":"IF(女子部員名簿!B17=\"\",\"\",N(女子部員名簿!B17))","v":""},{"$f":"IF(H17<>\"\",女子部員名簿!I17,\"\")","v":""},"",{"$f":"T(女子部員名簿!E17)","v":""},{"$f":"T(女子部員名簿!F17)","v":""},{"$f":"PHONETIC(女子部員名簿!G17)","v":""},{"$f":"PHONETIC(女子部員名簿!H17)","v":""},null,null,null,null,null,{"$f":"IF(H17<>\"\",学校情報入力!$B$1,\"\")","v":""},{"$f":"IF(女子部員名簿!C17=\"\",\"\",N(女子部員名簿!C17))","v":""}]
[{"$f":"IF(E18=\"\",\"\",INDEX(昨年度登録データ!$A$2:$A$1000,MATCH(E18,昨年度登録データ!$E$2:$E$1000,0)))","v":""},{"$f":"IF(H18<>\"\",VLOOKUP(学校情報入力!$B$1,青森県高等学校住所一覧!$A$2:$G$79,7,0),\"\")","v":""},"","",{"$f":"IF(女子部員名簿!B18=\"\",\"\",N(女子部員名簿!B18))","v":""},{"$f":"IF(H18<>\"\",女子部員名簿!I18,\"\")","v":""},"",{"$f":"T(女子部員名簿!E18)","v":""},{"$f":"T(女子部員名簿!F18)","v":""},{"$f":"PHONETIC(女子部員名簿!G18)","v":""},{"$f":"PHONETIC(女子部員名簿!H18)","v":""},null,null,null,null,null,{"$f":"IF(H18<>\"\",学校情報入力!$B$1,\"\")","v":""},{"$f":"IF(女子部員名簿!C18=\"\",\"\",N(女子部員名簿!C18))","v":""}]
[{"$f":"IF(E19=\"\",\"\",INDEX(昨年度登録データ!$A$2:$A$1000,MATCH(E19,昨年度登録データ!$E$2:$E$1000,0)))","v":""},{"$f":"IF(H19<>\"\",VLOOKUP(学校情報入力!$B$1,青森県高等学校住所一覧!$A$2:$G$79,7,0),\"\")","v":""},"","",{"$f":"IF(女子部員名簿!B19=\"\",\"\",N(女子部員名簿!B19))","v":""},{"$f":"IF(H19<>\"\",女子部員名簿!I19,\"\")","v":""},"",{"$f":"T(女子部員名簿!E19)","v":""},{"$f":"T(女子部員名簿!F19)","v":""},{"$f":"PHONETIC(女子部員名簿!G19)","v":""},{"$f":"PHONETIC(女子部員名簿!H19)","v":""},null,null,null,null,null,{"$f":"IF(H19<>\"\",学校情報入力!$B$1,\"\")","v":""},{"$f":"IF(女子部員名簿!C19=\"\",\"\",N(女子部員名簿!C19))","v":""}]
[{"$f":"IF(E20=\"\",\"\",INDEX(昨年度登録データ!$A$2:$A$1000,MATCH(E20,昨年度登録データ!$E$2:$E$1000,0)))","v":""},{"$f":"IF(H20<>\"\",VLOOKUP(学校情報入力!$B$1,青森県高等学校住所一覧!$A$2:$G$79,7,0),\"\")","v":""},"","",{"$f":"IF(女子部員名簿!B20=\"\",\"\",N(女子部員名簿!B20))","v":""},{"$f":"IF(H20<>\"\",女子部員名簿!I20,\"\")","v":""},"",{"$f":"T(女子部員名簿!E20)","v":""},{"$f":"T(女子部員名簿!F20)","v":""},{"$f":"PHONETIC(女子部員名簿!G20)","v":""},{"$f":"PHONETIC(女子部員名簿!H20)","v":""},null,null,null,null,null,{"$f":"IF(H20<>\"\",学校情報入力!$B$1,\"\")","v":""},{"$f":"IF(女子部員名簿!C20=\"\",\"\",N(女子部員名簿!C20))","v":""}]
[{"$f":"IF(E21=\"\",\"\",INDEX(昨年度登録データ!$A$2:$A$1000,MATCH(E21,昨年度登録データ!$E$2:$E$1000,0)))","v":""},{"$f":"IF(H21<>\"\",VLOOKUP(学校情報入力!$B$1,青森県高等学校住所一覧!$A$2:$G$79,7,0),\"\")","v":""},"","",{"$f":"IF(女子部員名簿!B21=\"\",\"\",N(女子部員名簿!B21))","v":""},{"$f":"IF(H21<>\"\",女子部員名簿!I21,\"\")","v":""},"",{"$f":"T(女子部員名簿!E21)","v":""},{"$f":"T(女子部員名簿!F21)","v":""},{"$f":"PHONETIC(女子部員名簿!G21)","v":""},{"$f":"PHONETIC(女子部員名簿!H21)","v":""},null,null,null,null,null,{"$f":"IF(H21<>\"\",学校情報入力!$B$1,\"\")","v":""},{"$f":"IF(女子部員名簿!C21=\"\",\"\",N(女子部員名簿!C21))","v":""}]
[{"$f":"IF(E22=\"\",\"\",INDEX(昨年度登録データ!$A$2:$A$1000,MATCH(E22,昨年度登録データ!$E$2:$E$1000,0)))","v":""},{"$f":"IF(H22<>\"\",VLOOKUP(学校情報入力!$B$1,青森県高等学校住所一覧!$A$2:$G$79,7,0),\"\")","v":""},"","",{"$f":"IF(女子部員名簿!B22=\"\",\"\",N(女子部員名簿!B22))","v":""},{"$f":"IF(H22<>\"\",女子部員名簿!I22,\"\")","v":""},"",{"$f":"T(女子部員名簿!E22)","v":""},{"$f":"T(女子部員名簿!F22)","v":""},{"$f":"PHONETIC(女子部員名簿!G22)","v":""},{"$f":"PHONETIC(女子部員名簿!H22)","v":""},null,null,null,null,null,{"$f":"IF(H22<>\"\",学校情報入力!$B$1,\"\")","v":""},{"$f":"IF(女子部員名簿!C22=\"\",\"\",N(女子部員名簿!C22))","v":""}]
[{"$f":"IF(E23=\"\",\"\",INDEX(昨年度登録データ!$A$2:$A$1000,MATCH(E23,昨年度登録データ!$E$2:$E$1000,0)))","v":""},{"$f":"IF(H23<>\"\",VLOOKUP(学校情報入力!$B$1,青森県高等学校住所一覧!$A$2:$G$79,7,0),\"\")","v":""},"","",{"$f":"IF(女子部員名簿!B23=\"\",\"\",N(女子部員名簿!B23))","v":""},{"$f":"IF(H23<>\"\",女子部員名簿!I23,\"\")","v":""},"",{"$f":"T(女子部員名簿!E23)","v":""},{"$f":"T(女子部員名簿!F23)","v":""},{"$f":"PHONETIC(女子部員名簿!G23)","v":""},{"$f":"PHONETIC(女子部員名簿!H23)","v":""},null,null,null,null,null,{"$f":"IF(H23<>\"\",学校情報入力!$B$1,\"\")","v":""},{"$f":"IF(女子部員名簿!C23=\"\",\"\",N(女子部員名簿!C23))","v":""}]
[{"$f":"IF(E24=\"\",\"\",INDEX(昨年度登録データ!$A$2:$A$1000,MATCH(E24,昨年度登録データ!$E$2:$E$1000,0)))","v":""},{"$f":"IF(H24<>\"\",VLOOKUP(学校情報入力!$B$1,青森県高等学校住所一覧!$A$2:$G$79,7,0),\"\")","v":""},"","",{"$f":"IF(女子部員名簿!B24=\"\",\"\",N(女子部員名簿!B24))","v":""},{"$f":"IF(H24<>\"\",女子部員名簿!I24,\"\")","v":""},"",{"$f":"T(女子部員名簿!E24)","v":""},{"$f":"T(女子部員名簿!F24)","v":""},{"$f":"PHONETIC(女子部員名簿!G24)","v":""},{"$f":"PHONETIC(女子部員名簿!H24)","v":""},null,null,null,null,null,{"$f":"IF(H24<>\"\",学校情報入力!$B$1,\"\")","v":""},{"$f":"IF(女子部員名簿!C24=\"\",\"\",N(女子部員名簿!C24))","v":""}]
[{"$f":"IF(E25=\"\",\"\",INDEX(昨年度登録データ!$A$2:$A$1000,MATCH(E25,昨年度登録データ!$E$2:$E$1000,0)))","v":""},{"$f":"IF(H25<>\"\",VLOOKUP(学校情報入力!$B$1,青森県高等学校住所一覧!$A$2:$G$79,7,0),\"\")","v":""},"","",{"$f":"IF(女子部員名簿!B25=\"\",\"\",N(女子部員名簿!B25))","v":""},{"$f":"IF(H25<>\"\",女子部員名簿!I25,\"\")","v":""},"",{"$f":"T(女子部員名簿!E25)","v":""},{"$f":"T(女子部員名簿!F25)","v":""},{"$f":"PHONETIC(女子部員名簿!G25)","v":""},{"$f":"PHONETIC(女子部員名簿!H25)","v":""},null,null,null,null,null,{"$f":"IF(H25<>\"\",学校情報入力!$B$1,\"\")","v":""},{"$f":"IF(女子部員名簿!C25=\"\",\"\",N(女子部員名簿!C25))","v":""}]
[{"$f":"IF(E26=\"\",\"\",INDEX(昨年度登録データ!$A$2:$A$1000,MATCH(E26,昨年度登録データ!$E$2:$E$1000,0)))","v":""},{"$f":"IF(H26<>\"\",VLOOKUP(学校情報入力!$B$1,青森県高等学校住所一覧!$A$2:$G$79,7,0),\"\")","v":""},"","",{"$f":"IF(女子部員名簿!B26=\"\",\"\",N(女子部員名簿!B26))","v":""},{"$f":"IF(H26<>\"\",女子部員名簿!I26,\"\")","v":""},"",{"$f":"T(女子部員名簿!E26)","v":""},{"$f":"T(女子部員名簿!F26)","v":""},{"$f":"PHONETIC(女子部員名簿!G26)","v":""},{"$f":"PHONETIC(女子部員名簿!H26)","v":""},null,null,null,null,null,{"$f":"IF(H26<>\"\",学校情報入力!$B$1,\"\")","v":""},{"$f":"IF(女子部員名簿!C26=\"\",\"\",N(女子部員名簿!C26))","v":""}]
[{"$f":"IF(E27=\"\",\"\",INDEX(昨年度登録データ!$A$2:$A$1000,MATCH(E27,昨年度登録データ!$E$2:$E$1000,0)))","v":""},{"$f":"IF(H27<>\"\",VLOOKUP(学校情報入力!$B$1,青森県高等学校住所一覧!$A$2:$G$79,7,0),\"\")","v":""},"","",{"$f":"IF(女子部員名簿!B27=\"\",\"\",N(女子部員名簿!B27))","v":""},{"$f":"IF(H27<>\"\",女子部員名簿!I27,\"\")","v":""},"",{"$f":"T(女子部員名簿!E27)","v":""},{"$f":"T(女子部員名簿!F27)","v":""},{"$f":"PHONETIC(女子部員名簿!G27)","v":""},{"$f":"PHONETIC(女子部員名簿!H27)","v":""},null,null,null,null,null,{"$f":"IF(H27<>\"\",学校情報入力!$B$1,\"\")","v":""},{"$f":"IF(女子部員名簿!C27=\"\",\"\",N(女子部員名簿!C27))","v":""}]
[{"$f":"IF(E28=\"\",\"\",INDEX(昨年度登録データ!$A$2:$A$1000,MATCH(E28,昨年度登録データ!$E$2:$E$1000,0)))","v":""},{"$f":"IF(H28<>\"\",VLOOKUP(学校情報入力!$B$1,青森県高等学校住所一覧!$A$2:$G$79,7,0),\"\")","v":""},"","",{"$f":"IF(女子部員名簿!B28=\"\",\"\",N(女子部員名簿!B28))","v":""},{"$f":"IF(H28<>\"\",女子部員名簿!I28,\"\")","v":""},"",{"$f":"T(女子部員名簿!E28)","v":""},{"$f":"T(女子部員名簿!F28)","v":""},{"$f":"PHONETIC(女子部員名簿!G28)","v":""},{"$f":"PHONETIC(女子部員名簿!H28)","v":""},null,null,null,null,null,{"$f":"IF(H28<>\"\",学校情報入力!$B$1,\"\")","v":""},{"$f":"IF(女子部員名簿!C28=\"\",\"\",N(女子部員名簿!C28))","v":""}]
[{"$f":"IF(E29=\"\",\"\",INDEX(昨年度登録データ!$A$2:$A$1000,MATCH(E29,昨年度登録データ!$E$2:$E$1000,0)))","v":""},{"$f":"IF(H29<>\"\",VLOOKUP(学校情報入力!$B$1,青森県高等学校住所一覧!$A$2:$G$79,7,0),\"\")","v":""},"","",{"$f":"IF(女子部員名簿!B29=\"\",\"\",N(女子部員名簿!B29))","v":""},{"$f":"IF(H29<>\"\",女子部員名簿!I29,\"\")","v":""},"",{"$f":"T(女子部員名簿!E29)","v":""},{"$f":"T(女子部員名簿!F29)","v":""},{"$f":"PHONETIC(女子部員名簿!G29)","v":""},{"$f":"PHONETIC(女子部員名簿!H29)","v":""},null,null,null,null,null,{"$f":"IF(H29<>\"\",学校情報入力!$B$1,\"\")","v":""},{"$f":"IF(女子部員名簿!C29=\"\",\"\",N(女子部員名簿!C29))","v":""}]
[{"$f":"IF(E30=\"\",\"\",INDEX(昨年度登録データ!$A$2:$A$1000,MATCH(E30,昨年度登録データ!$E$2:$E$1000,0)))","v":""},{"$f":"IF(H30<>\"\",VLOOKUP(学校情報入力!$B$1,青森県高等学校住所一覧!$A$2:$G$79,7,0),\"\")","v":""},"","",{"$f":"IF(女子部員名簿!B30=\"\",\"\",N(女子部員名簿!B30))","v":""},{"$f":"IF(H30<>\"\",女子部員名簿!I30,\"\")","v":""},"",{"$f":"T(女子部員名簿!E30)","v":""},{"$f":"T(女子部員名簿!F30)","v":""},{"$f":"PHONETIC(女子部員名簿!G30)","v":""},{"$f":"PHONETIC(女子部員名簿!H30)","v":""},null,null,null,null,null,{"$f":"IF(H30<>\"\",学校情報入力!$B$1,\"\")","v":""},{"$f":"IF(女子部員名簿!C30=\"\",\"\",N(女子部員名簿!C30))","v":""}]
[{"$f":"IF(E31=\"\",\"\",INDEX(昨年度登録データ!$A$2:$A$1000,MATCH(E31,昨年度登録データ!$E$2:$E$1000,0)))","v":""},{"$f":"IF(H31<>\"\",VLOOKUP(学校情報入力!$B$1,青森県高等学校住所一覧!$A$2:$G$79,7,0),\"\")","v":""},"","",{"$f":"IF(女子部員名簿!B31=\"\",\"\",N(女子部員名簿!B31))","v":""},{"$f":"IF(H31<>\"\",女子部員名簿!I31,\"\")","v":""},"",{"$f":"T(女子部員名簿!E31)","v":""},{"$f":"T(女子部員名簿!F31)","v":""},{"$f":"PHONETIC(女子部員名簿!G31)","v":""},{"$f":"PHONETIC(女子部員名簿!H31)","v":""},null,null,null,null,null,{"$f":"IF(H31<>\"\",学校情報入力!$B$1,\"\")","v":""},{"$f":"IF(女子部員名簿!C31=\"\",\"\",N(女子部員名簿!C31))","v":""}]
[{"$f":"IF(E32=\"\",\"\",INDEX(昨年度登録データ!$A$2:$A$1000,MATCH(E32,昨年度登録データ!$E$2:$E$1000,0)))","v":""},{"$f":"IF(H32<>\"\",VLOOKUP(学校情報入力!$B$1,青森県高等学校住所一覧!$A$2:$G$79,7,0),\"\")","v":""},"","",{"$f":"IF(女子部員名簿!B32=\"\",\"\",N(女子部員名簿!B32))","v":""},{"$f":"IF(H32<>\"\",女子部員名簿!I32,\"\")","v":""},"",{"$f":"T(女子部員名簿!E32)","v":""},{"$f":"T(女子部員名簿!F32)","v":""},{"$f":"PHONETIC(女子部員名簿!G32)","v":""},{"$f":"PHONETIC(女子部員名簿!H32)","v":""},null,null,null,null,null,{"$f":"IF(H32<>\"\",学校情報入力!$B$1,\"\")","v":""},{"$f":"IF(女子部員名簿!C32=\"\",\"\",N(女子部員名簿!C32))","v":""}]
[{"$f":"IF(E33=\"\",\"\",INDEX(昨年度登録データ!$A$2:$A$1000,MATCH(E33,昨年度登録データ!$E$2:$E$1000,0)))","v":""},{"$f":"IF(H33<>\"\",VLOOKUP(学校情報入力!$B$1,青森県高等学校住所一覧!$A$2:$G$79,7,0),\"\")","v":""},"","",{"$f":"IF(女子部員名簿!B33=\"\",\"\",N(女子部員名簿!B33))","v":""},{"$f":"IF(H33<>\"\",女子部員名簿!I33,\"\")","v":""},"",{"$f":"T(女子部員名簿!E33)","v":""},{"$f":"T(女子部員名簿!F33)","v":""},{"$f":"PHONETIC(女子部員名簿!G33)","v":""},{"$f":"PHONETIC(女子部員名簿!H33)","v":""},null,null,null,null,null,{"$f":"IF(H33<>\"\",学校情報入力!$B$1,\"\")","v":""},{"$f":"IF(女子部員名簿!C33=\"\",\"\",N(女子部員名簿!C33))","v":""}]
[{"$f":"IF(E34=\"\",\"\",INDEX(昨年度登録データ!$A$2:$A$1000,MATCH(E34,昨年度登録データ!$E$2:$E$1000,0)))","v":""},{"$f":"IF(H34<>\"\",VLOOKUP(学校情報入力!$B$1,青森県高等学校住所一覧!$A$2:$G$79,7,0),\"\")","v":""},"","",{"$f":"IF(女子部員名簿!B34=\"\",\"\",N(女子部員名簿!B34))","v":""},{"$f":"IF(H34<>\"\",女子部員名簿!I34,\"\")","v":""},{"$f":"IF(H34<>\"\",\"F\",\"\")","v":""},{"$f":"T(女子部員名簿!E34)","v":""},{"$f":"T(女子部員名簿!F34)","v":""},{"$f":"PHONETIC(女子部員名簿!G34)","v":""},{"$f":"PHONETIC(女子部員名簿!H34)","v":""},null,null,null,null,null,{"$f":"IF(H34<>\"\",学校情報入力!$B$1,\"\")","v":""},{"$f":"IF(女子部員名簿!C34=\"\",\"\",N(女子部員名簿!C34))","v":""}]
[{"$f":"IF(E35=\"\",\"\",INDEX(昨年度登録データ!$A$2:$A$1000,MATCH(E35,昨年度登録データ!$E$2:$E$1000,0)))","v":""},{"$f":"IF(H35<>\"\",VLOOKUP(学校情報入力!$B$1,青森県高等学校住所一覧!$A$2:$G$79,7,0),\"\")","v":""},"","",{"$f":"IF(女子部員名簿!B35=\"\",\"\",N(女子部員名簿!B35))","v":""},{"$f":"IF(H35<>\"\",女子部員名簿!I35,\"\")","v":""},"",{"$f":"T(女子部員名簿!E35)","v":""},{"$f":"T(女子部員名簿!F35)","v":""},{"$f":"PHONETIC(女子部員名簿!G35)","v":""},{"$f":"PHONETIC(女子部員名簿!H35)","v":""},null,null,null,null,null,{"$f":"IF(H35<>\"\",学校情報入力!$B$1,\"\")","v":""},{"$f":"IF(女子部員名簿!C35=\"\",\"\",N(女子部員名簿!C35))","v":""}]
[{"$f":"IF(E36=\"\",\"\",INDEX(昨年度登録データ!$A$2:$A$1000,MATCH(E36,昨年度登録データ!$E$2:$E$1000,0)))","v":""},{"$f":"IF(H36<>\"\",VLOOKUP(学校情報入力!$B$1,青森県高等学校住所一覧!$A$2:$G$79,7,0),\"\")","v":""},"","",{"$f":"IF(女子部員名簿!B36=\"\",\"\",N(女子部員名簿!B36))","v":""},{"$f":"IF(H36<>\"\",女子部員名簿!I36,\"\")","v":""},"",{"$f":"T(女子部員名簿!E36)","v":""},{"$f":"T(女子部員名簿!F36)","v":""},{"$f":"PHONETIC(女子部員名簿!G36)","v":""},{"$f":"PHONETIC(女子部員名簿!H36)","v":""},null,null,null,null,null,{"$f":"IF(H36<>\"\",学校情報入力!$B$1,\"\")","v":""},{"$f":"IF(女子部員名簿!C36=\"\",\"\",N(女子部員名簿!C36))","v":""}]
[{"$f":"IF(E37=\"\",\"\",INDEX(昨年度登録データ!$A$2:$A$1000,MATCH(E37,昨年度登録データ!$E$2:$E$1000,0)))","v":""},{"$f":"IF(H37<>\"\",VLOOKUP(学校情報入力!$B$1,青森県高等学校住所一覧!$A$2:$G$79,7,0),\"\")","v":""},"","",{"$f":"IF(女子部員名簿!B37=\"\",\"\",N(女子部員名簿!B37))","v":""},{"$f":"IF(H37<>\"\",女子部員名簿!I37,\"\")","v":""},"",{"$f":"T(女子部員名簿!E37)","v":""},{"$f":"T(女子部員名簿!F37)","v":""},{"$f":"PHONETIC(女子部員名簿!G37)","v":""},{"$f":"PHONETIC(女子部員名簿!H37)","v":""},null,null,null,null,null,{"$f":"IF(H37<>\"\",学校情報入力!$B$1,\"\")","v":""},{"$f":"IF(女子部員名簿!C37=\"\",\"\",N(女子部員名簿!C37))","v":""}]
[{"$f":"IF(E38=\"\",\"\",INDEX(昨年度登録データ!$A$2:$A$1000,MATCH(E38,昨年度登録データ!$E$2:$E$1000,0)))","v":""},{"$f":"IF(H38<>\"\",VLOOKUP(学校情報入力!$B$1,青森県高等学校住所一覧!$A$2:$G$79,7,0),\"\")","v":""},"","",{"$f":"IF(女子部員名簿!B38=\"\",\"\",N(女子部員名簿!B38))","v":""},{"$f":"IF(H38<>\"\",女子部員名簿!I38,\"\")","v":""},"",{"$f":"T(女子部員名簿!E38)","v":""},{"$f":"T(女子部員名簿!F38)","v":""},{"$f":"PHONETIC(女子部員名簿!G38)","v":""},{"$f":"PHONETIC(女子部員名簿!H38)","v":""},null,null,null,null,null,{"$f":"IF(H38<>\"\",学校情報入力!$B$1,\"\")","v":""},{"$f":"IF(女子部員名簿!C38=\"\",\"\",N(女子部員名簿!C38))","v":""}]
[{"$f":"IF(E39=\"\",\"\",INDEX(昨年度登録データ!$A$2:$A$1000,MATCH(E39,昨年度登録データ!$E$2:$E$1000,0)))","v":""},{"$f":"IF(H39<>\"\",VLOOKUP(学校情報入力!$B$1,青森県高等学校住所一覧!$A$2:$G$79,7,0),\"\")","v":""},"","",{"$f":"IF(女子部員名簿!B39=\"\",\"\",N(女子部員名簿!B39))","v":""},{"$f":"IF(H39<>\"\",女子部員名簿!I39,\"\")","v":""},"",{"$f":"T(女子部員名簿!E39)","v":""},{"$f":"T(女子部員名簿!F39)","v":""},{"$f":"PHONETIC(女子部員名簿!G39)","v":""},{"$f":"PHONETIC(女子部員名簿!H39)","v":""},null,null,null,null,null,{"$f":"IF(H39<>\"\",学校情報入力!$B$1,\"\")","v":""},{"$f":"IF(女子部員名簿!C39=\"\",\"\",N(女子部員名簿!C39))","v":""}]
[{"$f":"IF(E40=\"\",\"\",INDEX(昨年度登録データ!$A$2:$A$1000,MATCH(E40,昨年度登録データ!$E$2:$E$1000,0)))","v":""},{"$f":"IF(H40<>\"\",VLOOKUP(学校情報入力!$B$1,青森県高等学校住所一覧!$A$2:$G$79,7,0),\"\")","v":""},"","",{"$f":"IF(女子部員名簿!B40=\"\",\"\",N(女子部員名簿!B40))","v":""},{"$f":"IF(H40<>\"\",女子部員名簿!I40,\"\")","v":""},"",{"$f":"T(女子部員名簿!E40)","v":""},{"$f":"T(女子部員名簿!F40)","v":""},{"$f":"PHONETIC(女子部員名簿!G40)","v":""},{"$f":"PHONETIC(女子部員名簿!H40)","v":""},null,null,null,null,null,{"$f":"IF(H40<>\"\",学校情報入力!$B$1,\"\")","v":""},{"$f":"IF(女子部員名簿!C40=\"\",\"\",N(女子部員名簿!C40))","v":""}]
[{"$f":"IF(E41=\"\",\"\",INDEX(昨年度登録データ!$A$2:$A$1000,MATCH(E41,昨年度登録データ!$E$2:$E$1000,0)))","v":""},{"$f":"IF(H41<>\"\",VLOOKUP(学校情報入力!$B$1,青森県高等学校住所一覧!$A$2:$G$79,7,0),\"\")","v":""},"","",{"$f":"IF(女子部員名簿!B41=\"\",\"\",N(女子部員名簿!B41))","v":""},{"$f":"IF(H41<>\"\",女子部員名簿!I41,\"\")","v":""},"",{"$f":"T(女子部員名簿!E41)","v":""},{"$f":"T(女子部員名簿!F41)","v":""},{"$f":"PHONETIC(女子部員名簿!G41)","v":""},{"$f":"PHONETIC(女子部員名簿!H41)","v":""},null,null,null,null,null,{"$f":"IF(H41<>\"\",学校情報入力!$B$1,\"\")","v":""},{"$f":"IF(女子部員名簿!C41=\"\",\"\",N(女子部員名簿!C41))","v":""}]
[{"$f":"IF(E42=\"\",\"\",INDEX(昨年度登録データ!$A$2:$A$1000,MATCH(E42,昨年度登録データ!$E$2:$E$1000,0)))","v":""},{"$f":"IF(H42<>\"\",VLOOKUP(学校情報入力!$B$1,青森県高等学校住所一覧!$A$2:$G$79,7,0),\"\")","v":""},"","",{"$f":"IF(女子部員名簿!B42=\"\",\"\",N(女子部員名簿!B42))","v":""},{"$f":"IF(H42<>\"\",女子部員名簿!I42,\"\")","v":""},"",{"$f":"T(女子部員名簿!E42)","v":""},{"$f":"T(女子部員名簿!F42)","v":""},{"$f":"PHONETIC(女子部員名簿!G42)","v":""},{"$f":"PHONETIC(女子部員名簿!H42)","v":""},null,null,null,null,null,{"$f":"IF(H42<>\"\",学校情報入力!$B$1,\"\")","v":""},{"$f":"IF(女子部員名簿!C42=\"\",\"\",N(女子部員名簿!C42))","v":""}]
[{"$f":"IF(E43=\"\",\"\",INDEX(昨年度登録データ!$A$2:$A$1000,MATCH(E43,昨年度登録データ!$E$2:$E$1000,0)))","v":""},{"$f":"IF(H43<>\"\",VLOOKUP(学校情報入力!$B$1,青森県高等学校住所一覧!$A$2:$G$79,7,0),\"\")","v":""},"","",{"$f":"IF(女子部員名簿!B43=\"\",\"\",N(女子部員名簿!B43))","v":""},{"$f":"IF(H43<>\"\",女子部員名簿!I43,\"\")","v":""},"",{"$f":"T(女子部員名簿!E43)","v":""},{"$f":"T(女子部員名簿!F43)","v":""},{"$f":"PHONETIC(女子部員名簿!G43)","v":""},{"$f":"PHONETIC(女子部員名簿!H43)","v":""},null,null,null,null,null,{"$f":"IF(H43<>\"\",学校情報入力!$B$1,\"\")","v":""},{"$f":"IF(女子部員名簿!C43=\"\",\"\",N(女子部員名簿!C43))","v":""}]
[{"$f":"IF(E44=\"\",\"\",INDEX(昨年度登録データ!$A$2:$A$1000,MATCH(E44,昨年度登録データ!$E$2:$E$1000,0)))","v":""},{"$f":"IF(H44<>\"\",VLOOKUP(学校情報入力!$B$1,青森県高等学校住所一覧!$A$2:$G$79,7,0),\"\")","v":""},"","",{"$f":"IF(女子部員名簿!B44=\"\",\"\",N(女子部員名簿!B44))","v":""},{"$f":"IF(H44<>\"\",女子部員名簿!I44,\"\")","v":""},"",{"$f":"T(女子部員名簿!E44)","v":""},{"$f":"T(女子部員名簿!F44)","v":""},{"$f":"PHONETIC(女子部員名簿!G44)","v":""},{"$f":"PHONETIC(女子部員名簿!H44)","v":""},null,null,null,null,null,{"$f":"IF(H44<>\"\",学校情報入力!$B$1,\"\")","v":""},{"$f":"IF(女子部員名簿!C44=\"\",\"\",N(女子部員名簿!C44))","v":""}]
[{"$f":"IF(E45=\"\",\"\",INDEX(昨年度登録データ!$A$2:$A$1000,MATCH(E45,昨年度登録データ!$E$2:$E$1000,0)))","v":""},{"$f":"IF(H45<>\"\",VLOOKUP(学校情報入力!$B$1,青森県高等学校住所一覧!$A$2:$G$79,7,0),\"\")","v":""},"","",{"$f":"IF(女子部員名簿!B45=\"\",\"\",N(女子部員名簿!B45))","v":""},{"$f":"IF(H45<>\"\",女子部員名簿!I45,\"\")","v":""},"",{"$f":"T(女子部員名簿!E45)","v":""},{"$f":"T(女子部員名簿!F45)","v":""},{"$f":"PHONETIC(女子部員名簿!G45)","v":""},{"$f":"PHONETIC(女子部員名簿!H45)","v":""},null,null,null,null,null,{"$f":"IF(H45<>\"\",学校情報入力!$B$1,\"\")","v":""},{"$f":"IF(女子部員名簿!C45=\"\",\"\",N(女子部員名簿!C45))","v":""}]
[{"$f":"IF(E46=\"\",\"\",INDEX(昨年度登録データ!$A$2:$A$1000,MATCH(E46,昨年度登録データ!$E$2:$E$1000,0)))","v":""},{"$f":"IF(H46<>\"\",VLOOKUP(学校情報入力!$B$1,青森県高等学校住所一覧!$A$2:$G$79,7,0),\"\")","v":""},"","",{"$f":"IF(女子部員名簿!B46=\"\",\"\",N(女子部員名簿!B46))","v":""},{"$f":"IF(H46<>\"\",女子部員名簿!I46,\"\")","v":""},"",{"$f":"T(女子部員名簿!E46)","v":""},{"$f":"T(女子部員名簿!F46)","v":""},{"$f":"PHONETIC(女子部員名簿!G46)","v":""},{"$f":"PHONETIC(女子部員名簿!H46)","v":""},null,null,null,null,null,{"$f":"IF(H46<>\"\",学校情報入力!$B$1,\"\")","v":""},{"$f":"IF(女子部員名簿!C46=\"\",\"\",N(女子部員名簿!C46))","v":""}]
[{"$f":"IF(E47=\"\",\"\",INDEX(昨年度登録データ!$A$2:$A$1000,MATCH(E47,昨年度登録データ!$E$2:$E$1000,0)))","v":""},{"$f":"IF(H47<>\"\",VLOOKUP(学校情報入力!$B$1,青森県高等学校住所一覧!$A$2:$G$79,7,0),\"\")","v":""},"","",{"$f":"IF(女子部員名簿!B47=\"\",\"\",N(女子部員名簿!B47))","v":""},{"$f":"IF(H47<>\"\",女子部員名簿!I47,\"\")","v":""},"",{"$f":"T(女子部員名簿!E47)","v":""},{"$f":"T(女子部員名簿!F47)","v":""},{"$f":"PHONETIC(女子部員名簿!G47)","v":""},{"$f":"PHONETIC(女子部員名簿!H47)","v":""},null,null,null,null,null,{"$f":"IF(H47<>\"\",学校情報入力!$B$1,\"\")","v":""},{"$f":"IF(女子部員名簿!C47=\"\",\"\",N(女子部員名簿!C47))","v":""}]
[{"$f":"IF(E48=\"\",\"\",INDEX(昨年度登録データ!$A$2:$A$1000,MATCH(E48,昨年度登録データ!$E$2:$E$1000,0)))","v":""},{"$f":"IF(H48<>\"\",VLOOKUP(学校情報入力!$B$1,青森県高等学校住所一覧!$A$2:$G$79,7,0),\"\")","v":""},"","",{"$f":"IF(女子部員名簿!B48=\"\",\"\",N(女子部員名簿!B48))","v":""},{"$f":"IF(H48<>\"\",女子部員名簿!I48,\"\")","v":""},"",{"$f":"T(女子部員名簿!E48)","v":""},{"$f":"T(女子部員名簿!F48)","v":""},{"$f":"PHONETIC(女子部員名簿!G48)","v":""},{"$f":"PHONETIC(女子部員名簿!H48)","v":""},null,null,null,null,null,{"$f":"IF(H48<>\"\",学校情報入力!$B$1,\"\")","v":""},{"$f":"IF(女子部員名簿!C48=\"\",\"\",N(女子部員名簿!C48))","v":""}]
[{"$f":"IF(E49=\"\",\"\",INDEX(昨年度登録データ!$A$2:$A$1000,MATCH(E49,昨年度登録データ!$E$2:$E$1000,0)))","v":""},{"$f":"IF(H49<>\"\",VLOOKUP(学校情報入力!$B$1,青森県高等学校住所一覧!$A$2:$G$79,7,0),\"\")","v":""},"","",{"$f":"IF(女子部員名簿!B49=\"\",\"\",N(女子部員名簿!B49))","v":""},{"$f":"IF(H49<>\"\",女子部員名簿!I49,\"\")","v":""},"",{"$f":"T(女子部員名簿!E49)","v":""},{"$f":"T(女子部員名簿!F49)","v":""},{"$f":"PHONETIC(女子部員名簿!G49)","v":""},{"$f":"PHONETIC(女子部員名簿!H49)","v":""},null,null,null,null,null,{"$f":"IF(H49<>\"\",学校情報入力!$B$1,\"\")","v":""},{"$f":"IF(女子部員名簿!C49=\"\",\"\",N(女子部員名簿!C49))","v":""}]
[{"$f":"IF(E50=\"\",\"\",INDEX(昨年度登録データ!$A$2:$A$1000,MATCH(E50,昨年度登録データ!$E$2:$E$1000,0)))","v":""},{"$f":"IF(H50<>\"\",VLOOKUP(学校情報入力!$B$1,青森県高等学校住所一覧!$A$2:$G$79,7,0),\"\")","v":""},"","",{"$f":"IF(女子部員名簿!B50=\"\",\"\",N(女子部員名簿!B50))","v":""},{"$f":"IF(H50<>\"\",女子部員名簿!I50,\"\")","v":""},"",{"$f":"T(女子部員名簿!E50)","v":""},{"$f":"T(女子部員名簿!F50)","v":""},{"$f":"PHONETIC(女子部員名簿!G50)","v":""},{"$f":"PHONETIC(女子部員名簿!H50)","v":""},null,null,null,null,null,{"$f":"IF(H50<>\"\",学校情報入力!$B$1,\"\")","v":""},{"$f":"IF(女子部員名簿!C50=\"\",\"\",N(女子部員名簿!C50))","v":""}]
[{"$f":"IF(E51=\"\",\"\",INDEX(昨年度登録データ!$A$2:$A$1000,MATCH(E51,昨年度登録データ!$E$2:$E$1000,0)))","v":""},{"$f":"IF(H51<>\"\",VLOOKUP(学校情報入力!$B$1,青森県高等学校住所一覧!$A$2:$G$79,7,0),\"\")","v":""},"","",{"$f":"IF(女子部員名簿!B51=\"\",\"\",N(女子部員名簿!B51))","v":""},{"$f":"IF(H51<>\"\",女子部員名簿!I51,\"\")","v":""},"",{"$f":"T(女子部員名簿!E51)","v":""},{"$f":"T(女子部員名簿!F51)","v":""},{"$f":"PHONETIC(女子部員名簿!G51)","v":""},{"$f":"PHONETIC(女子部員名簿!H51)","v":""},null,null,null,null,null,{"$f":"IF(H51<>\"\",学校情報入力!$B$1,\"\")","v":""},{"$f":"IF(女子部員名簿!C51=\"\",\"\",N(女子部員名簿!C51))","v":""}]
[{"$f":"IF(E52=\"\",\"\",INDEX(昨年度登録データ!$A$2:$A$1000,MATCH(E52,昨年度登録データ!$E$2:$E$1000,0)))","v":""},{"$f":"IF(H52<>\"\",VLOOKUP(学校情報入力!$B$1,青森県高等学校住所一覧!$A$2:$G$79,7,0),\"\")","v":""},"","",{"$f":"IF(女子部員名簿!B52=\"\",\"\",N(女子部員名簿!B52))","v":""},{"$f":"IF(H52<>\"\",女子部員名簿!I52,\"\")","v":""},"",{"$f":"T(女子部員名簿!E52)","v":""},{"$f":"T(女子部員名簿!F52)","v":""},{"$f":"PHONETIC(女子部員名簿!G52)","v":""},{"$f":"PHONETIC(女子部員名簿!H52)","v":""},null,null,null,null,null,{"$f":"IF(H52<>\"\",学校情報入力!$B$1,\"\")","v":""},{"$f":"IF(女子部員名簿!C52=\"\",\"\",N(女子部員名簿!C52))","v":""}]
[{"$f":"IF(E53=\"\",\"\",INDEX(昨年度登録データ!$A$2:$A$1000,MATCH(E53,昨年度登録データ!$E$2:$E$1000,0)))","v":""},{"$f":"IF(H53<>\"\",VLOOKUP(学校情報入力!$B$1,青森県高等学校住所一覧!$A$2:$G$79,7,0),\"\")","v":""},"","",{"$f":"IF(女子部員名簿!B53=\"\",\"\",N(女子部員名簿!B53))","v":""},{"$f":"IF(H53<>\"\",女子部員名簿!I53,\"\")","v":""},"",{"$f":"T(女子部員名簿!E53)","v":""},{"$f":"T(女子部員名簿!F53)","v":""},{"$f":"PHONETIC(女子部員名簿!G53)","v":""},{"$f":"PHONETIC(女子部員名簿!H53)","v":""},null,null,null,null,null,{"$f":"IF(H53<>\"\",学校情報入力!$B$1,\"\")","v":""},{"$f":"IF(女子部員名簿!C53=\"\",\"\",N(女子部員名簿!C53))","v":""}]
[{"$f":"IF(E54=\"\",\"\",INDEX(昨年度登録データ!$A$2:$A$1000,MATCH(E54,昨年度登録データ!$E$2:$E$1000,0)))","v":""},{"$f":"IF(H54<>\"\",VLOOKUP(学校情報入力!$B$1,青森県高等学校住所一覧!$A$2:$G$79,7,0),\"\")","v":""},"","",{"$f":"IF(女子部員名簿!B54=\"\",\"\",N(女子部員名簿!B54))","v":""},{"$f":"IF(H54<>\"\",女子部員名簿!I54,\"\")","v":""},"",{"$f":"T(女子部員名簿!E54)","v":""},{"$f":"T(女子部員名簿!F54)","v":""},{"$f":"PHONETIC(女子部員名簿!G54)","v":""},{"$f":"PHONETIC(女子部員名簿!H54)","v":""},null,null,null,null,null,{"$f":"IF(H54<>\"\",学校情報入力!$B$1,\"\")","v":""},{"$f":"IF(女子部員名簿!C54=\"\",\"\",N(女子部員名簿!C54))","v":""}]
[{"$f":"IF(E55=\"\",\"\",INDEX(昨年度登録データ!$A$2:$A$1000,MATCH(E55,昨年度登録データ!$E$2:$E$1000,0)))","v":""},{"$f":"IF(H55<>\"\",VLOOKUP(学校情報入力!$B$1,青森県高等学校住所一覧!$A$2:$G$79,7,0),\"\")","v":""},"","",{"$f":"IF(女子部員名簿!B55=\"\",\"\",N(女子部員名簿!B55))","v":""},{"$f":"IF(H55<>\"\",女子部員名簿!I55,\"\")","v":""},"",{"$f":"T(女子部員名簿!E55)","v":""},{"$f":"T(女子部員名簿!F55)","v":""},{"$f":"PHONETIC(女子部員名簿!G55)","v":""},{"$f":"PHONETIC(女子部員名簿!H55)","v":""},null,null,null,null,null,{"$f":"IF(H55<>\"\",学校情報入力!$B$1,\"\")","v":""},{"$f":"IF(女子部員名簿!C55=\"\",\"\",N(女子部員名簿!C55))","v":""}]
[{"$f":"IF(E56=\"\",\"\",INDEX(昨年度登録データ!$A$2:$A$1000,MATCH(E56,昨年度登録データ!$E$2:$E$1000,0)))","v":""},{"$f":"IF(H56<>\"\",VLOOKUP(学校情報入力!$B$1,青森県高等学校住所一覧!$A$2:$G$79,7,0),\"\")","v":""},"","",{"$f":"IF(女子部員名簿!B56=\"\",\"\",N(女子部員名簿!B56))","v":""},{"$f":"IF(H56<>\"\",女子部員名簿!I56,\"\")","v":""},"",{"$f":"T(女子部員名簿!E56)","v":""},{"$f":"T(女子部員名簿!F56)","v":""},{"$f":"PHONETIC(女子部員名簿!G56)","v":""},{"$f":"PHONETIC(女子部員名簿!H56)","v":""},null,null,null,null,null,{"$f":"IF(H56<>\"\",学校情報入力!$B$1,\"\")","v":""},{"$f":"IF(女子部員名簿!C56=\"\",\"\",N(女子部員名簿!C56))","v":""}]
[{"$f":"IF(E57=\"\",\"\",INDEX(昨年度登録データ!$A$2:$A$1000,MATCH(E57,昨年度登録データ!$E$2:$E$1000,0)))","v":""},{"$f":"IF(H57<>\"\",VLOOKUP(学校情報入力!$B$1,青森県高等学校住所一覧!$A$2:$G$79,7,0),\"\")","v":""},"","",{"$f":"IF(女子部員名簿!B57=\"\",\"\",N(女子部員名簿!B57))","v":""},{"$f":"IF(H57<>\"\",女子部員名簿!I57,\"\")","v":""},"",{"$f":"T(女子部員名簿!E57)","v":""},{"$f":"T(女子部員名簿!F57)","v":""},{"$f":"PHONETIC(女子部員名簿!G57)","v":""},{"$f":"PHONETIC(女子部員名簿!H57)","v":""},null,null,null,null,null,{"$f":"IF(H57<>\"\",学校情報入力!$B$1,\"\")","v":""},{"$f":"IF(女子部員名簿!C57=\"\",\"\",N(女子部員名簿!C57))","v":""}]
[{"$f":"IF(E58=\"\",\"\",INDEX(昨年度登録データ!$A$2:$A$1000,MATCH(E58,昨年度登録データ!$E$2:$E$1000,0)))","v":""},{"$f":"IF(H58<>\"\",VLOOKUP(学校情報入力!$B$1,青森県高等学校住所一覧!$A$2:$G$79,7,0),\"\")","v":""},"","",{"$f":"IF(女子部員名簿!B58=\"\",\"\",N(女子部員名簿!B58))","v":""},{"$f":"IF(H58<>\"\",女子部員名簿!I58,\"\")","v":""},"",{"$f":"T(女子部員名簿!E58)","v":""},{"$f":"T(女子部員名簿!F58)","v":""},{"$f":"PHONETIC(女子部員名簿!G58)","v":""},{"$f":"PHONETIC(女子部員名簿!H58)","v":""},null,null,null,null,null,{"$f":"IF(H58<>\"\",学校情報入力!$B$1,\"\")","v":""},{"$f":"IF(女子部員名簿!C58=\"\",\"\",N(女子部員名簿!C58))","v":""}]
[{"$f":"IF(E59=\"\",\"\",INDEX(昨年度登録データ!$A$2:$A$1000,MATCH(E59,昨年度登録データ!$E$2:$E$1000,0)))","v":""},{"$f":"IF(H59<>\"\",VLOOKUP(学校情報入力!$B$1,青森県高等学校住所一覧!$A$2:$G$79,7,0),\"\")","v":""},"","",{"$f":"IF(女子部員名簿!B59=\"\",\"\",N(女子部員名簿!B59))","v":""},{"$f":"IF(H59<>\"\",女子部員名簿!I59,\"\")","v":""},"",{"$f":"T(女子部員名簿!E59)","v":""},{"$f":"T(女子部員名簿!F59)","v":""},{"$f":"PHONETIC(女子部員名簿!G59)","v":""},{"$f":"PHONETIC(女子部員名簿!H59)","v":""},null,null,null,null,null,{"$f":"IF(H59<>\"\",学校情報入力!$B$1,\"\")","v":""},{"$f":"IF(女子部員名簿!C59=\"\",\"\",N(女子部員名簿!C59))","v":""}]
[{"$f":"IF(E60=\"\",\"\",INDEX(昨年度登録データ!$A$2:$A$1000,MATCH(E60,昨年度登録データ!$E$2:$E$1000,0)))","v":""},{"$f":"IF(H60<>\"\",VLOOKUP(学校情報入力!$B$1,青森県高等学校住所一覧!$A$2:$G$79,7,0),\"\")","v":""},"","",{"$f":"IF(女子部員名簿!B60=\"\",\"\",N(女子部員名簿!B60))","v":""},{"$f":"IF(H60<>\"\",女子部員名簿!I60,\"\")","v":""},"",{"$f":"T(女子部員名簿!E60)","v":""},{"$f":"T(女子部員名簿!F60)","v":""},{"$f":"PHONETIC(女子部員名簿!G60)","v":""},{"$f":"PHONETIC(女子部員名簿!H60)","v":""},null,null,null,null,null,{"$f":"IF(H60<>\"\",学校情報入力!$B$1,\"\")","v":""},{"$f":"IF(女子部員名簿!C60=\"\",\"\",N(女子部員名簿!C60))","v":""}]
[{"$f":"IF(E61=\"\",\"\",INDEX(昨年度登録データ!$A$2:$A$1000,MATCH(E61,昨年度登録データ!$E$2:$E$1000,0)))","v":""},{"$f":"IF(H61<>\"\",VLOOKUP(学校情報入力!$B$1,青森県高等学校住所一覧!$A$2:$G$79,7,0),\"\")","v":""},"","",{"$f":"IF(女子部員名簿!B61=\"\",\"\",N(女子部員名簿!B61))","v":""},{"$f":"IF(H61<>\"\",女子部員名簿!I61,\"\")","v":""},"",{"$f":"T(女子部員名簿!E61)","v":""},{"$f":"T(女子部員名簿!F61)","v":""},{"$f":"PHONETIC(女子部員名簿!G61)","v":""},{"$f":"PHONETIC(女子部員名簿!H61)","v":""},null,null,null,null,null,{"$f":"IF(H61<>\"\",学校情報入力!$B$1,\"\")","v":""},{"$f":"IF(女子部員名簿!C61=\"\",\"\",N(女子部員名簿!C61))","v":""}]
[{"$f":"IF(E62=\"\",\"\",INDEX(昨年度登録データ!$A$2:$A$1000,MATCH(E62,昨年度登録データ!$E$2:$E$1000,0)))","v":""},{"$f":"IF(H62<>\"\",VLOOKUP(学校情報入力!$B$1,青森県高等学校住所一覧!$A$2:$G$79,7,0),\"\")","v":""},"","",{"$f":"IF(女子部員名簿!B62=\"\",\"\",N(女子部員名簿!B62))","v":""},{"$f":"IF(H62<>\"\",女子部員名簿!I62,\"\")","v":""},"",{"$f":"T(女子部員名簿!E62)","v":""},{"$f":"T(女子部員名簿!F62)","v":""},{"$f":"PHONETIC(女子部員名簿!G62)","v":""},{"$f":"PHONETIC(女子部員名簿!H62)","v":""},null,null,null,null,null,{"$f":"IF(H62<>\"\",学校情報入力!$B$1,\"\")","v":""},{"$f":"IF(女子部員名簿!C62=\"\",\"\",N(女子部員名簿!C62))","v":""}]
[{"$f":"IF(E63=\"\",\"\",INDEX(昨年度登録データ!$A$2:$A$1000,MATCH(E63,昨年度登録データ!$E$2:$E$1000,0)))","v":""},{"$f":"IF(H63<>\"\",VLOOKUP(学校情報入力!$B$1,青森県高等学校住所一覧!$A$2:$G$79,7,0),\"\")","v":""},"","",{"$f":"IF(女子部員名簿!B63=\"\",\"\",N(女子部員名簿!B63))","v":""},{"$f":"IF(H63<>\"\",女子部員名簿!I63,\"\")","v":""},"",{"$f":"T(女子部員名簿!E63)","v":""},{"$f":"T(女子部員名簿!F63)","v":""},{"$f":"PHONETIC(女子部員名簿!G63)","v":""},{"$f":"PHONETIC(女子部員名簿!H63)","v":""},null,null,null,null,null,{"$f":"IF(H63<>\"\",学校情報入力!$B$1,\"\")","v":""},{"$f":"IF(女子部員名簿!C63=\"\",\"\",N(女子部員名簿!C63))","v":""}]
[{"$f":"IF(E64=\"\",\"\",INDEX(昨年度登録データ!$A$2:$A$1000,MATCH(E64,昨年度登録データ!$E$2:$E$1000,0)))","v":""},{"$f":"IF(H64<>\"\",VLOOKUP(学校情報入力!$B$1,青森県高等学校住所一覧!$A$2:$G$79,7,0),\"\")","v":""},"","",{"$f":"IF(女子部員名簿!B64=\"\",\"\",N(女子部員名簿!B64))","v":""},{"$f":"IF(H64<>\"\",女子部員名簿!I64,\"\")","v":""},"",{"$f":"T(女子部員名簿!E64)","v":""},{"$f":"T(女子部員名簿!F64)","v":""},{"$f":"PHONETIC(女子部員名簿!G64)","v":""},{"$f":"PHONETIC(女子部員名簿!H64)","v":""},null,null,null,null,null,{"$f":"IF(H64<>\"\",学校情報入力!$B$1,\"\")","v":""},{"$f":"IF(女子部員名簿!C64=\"\",\"\",N(女子部員名簿!C64))","v":""}]
[{"$f":"IF(E65=\"\",\"\",INDEX(昨年度登録データ!$A$2:$A$1000,MATCH(E65,昨年度登録データ!$E$2:$E$1000,0)))","v":""},{"$f":"IF(H65<>\"\",VLOOKUP(学校情報入力!$B$1,青森県高等学校住所一覧!$A$2:$G$79,7,0),\"\")","v":""},"","",{"$f":"IF(女子部員名簿!B65=\"\",\"\",N(女子部員名簿!B65))","v":""},{"$f":"IF(H65<>\"\",女子部員名簿!I65,\"\")","v":""},"",{"$f":"T(女子部員名簿!E65)","v":""},{"$f":"T(女子部員名簿!F65)","v":""},{"$f":"PHONETIC(女子部員名簿!G65)","v":""},{"$f":"PHONETIC(女子部員名簿!H65)","v":""},null,null,null,null,null,{"$f":"IF(H65<>\"\",学校情報入力!$B$1,\"\")","v":""},{"$f":"IF(女子部員名簿!C65=\"\",\"\",N(女子部員名簿!C65))","v":""}]
[{"$f":"IF(E66=\"\",\"\",INDEX(昨年度登録データ!$A$2:$A$1000,MATCH(E66,昨年度登録データ!$E$2:$E$1000,0)))","v":""},{"$f":"IF(H66<>\"\",VLOOKUP(学校情報入力!$B$1,青森県高等学校住所一覧!$A$2:$G$79,7,0),\"\")","v":""},"","",{"$f":"IF(女子部員名簿!B66=\"\",\"\",N(女子部員名簿!B66))","v":""},{"$f":"IF(H66<>\"\",女子部員名簿!I66,\"\")","v":""},{"$f":"IF(H66<>\"\",\"F\",\"\")","v":""},{"$f":"T(女子部員名簿!E66)","v":""},{"$f":"T(女子部員名簿!F66)","v":""},{"$f":"PHONETIC(女子部員名簿!G66)","v":""},{"$f":"PHONETIC(女子部員名簿!H66)","v":""},null,null,null,null,null,{"$f":"IF(H66<>\"\",学校情報入力!$B$1,\"\")","v":""},{"$f":"IF(女子部員名簿!C66=\"\",\"\",N(女子部員名簿!C66))","v":""}]
[{"$f":"IF(E67=\"\",\"\",INDEX(昨年度登録データ!$A$2:$A$1000,MATCH(E67,昨年度登録データ!$E$2:$E$1000,0)))","v":""},{"$f":"IF(H67<>\"\",VLOOKUP(学校情報入力!$B$1,青森県高等学校住所一覧!$A$2:$G$79,7,0),\"\")","v":""},{"$f":"IF(H67<>\"\",\"JTAジュニア選手登録\",\"\")","v":""},{"$f":"IF(H67<>\"\",\"PF02\",\"\")","v":""},{"$f":"IF(女子部員名簿!B67=\"\",\"\",N(女子部員名簿!B67))","v":""},{"$f":"IF(H67<>\"\",女子部員名簿!I67,\"\")","v":""},"",{"$f":"T(女子部員名簿!E67)","v":""},{"$f":"T(女子部員名簿!F67)","v":""},{"$f":"PHONETIC(女子部員名簿!G67)","v":""},{"$f":"PHONETIC(女子部員名簿!H67)","v":""},null,null,null,null,null,{"$f":"IF(H67<>\"\",学校情報入力!$B$1,\"\")","v":""},{"$f":"IF(女子部員名簿!C67=\"\",\"\",N(女子部員名簿!C67))","v":""}]
[{"$f":"IF(E68=\"\",\"\",INDEX(昨年度登録データ!$A$2:$A$1000,MATCH(E68,昨年度登録データ!$E$2:$E$1000,0)))","v":""},{"$f":"IF(H68<>\"\",VLOOKUP(学校情報入力!$B$1,青森県高等学校住所一覧!$A$2:$G$79,7,0),\"\")","v":""},"","",{"$f":"IF(女子部員名簿!B68=\"\",\"\",N(女子部員名簿!B68))","v":""},{"$f":"IF(H68<>\"\",女子部員名簿!I68,\"\")","v":""},"",{"$f":"T(女子部員名簿!E68)","v":""},{"$f":"T(女子部員名簿!F68)","v":""},{"$f":"PHONETIC(女子部員名簿!G68)","v":""},{"$f":"PHONETIC(女子部員名簿!H68)","v":""},null,null,null,null,null,{"$f":"IF(H68<>\"\",学校情報入力!$B$1,\"\")","v":""},{"$f":"IF(女子部員名簿!C68=\"\",\"\",N(女子部員名簿!C68))","v":""}]
[{"$f":"IF(E69=\"\",\"\",INDEX(昨年度登録データ!$A$2:$A$1000,MATCH(E69,昨年度登録データ!$E$2:$E$1000,0)))","v":""},{"$f":"IF(H69<>\"\",VLOOKUP(学校情報入力!$B$1,青森県高等学校住所一覧!$A$2:$G$79,7,0),\"\")","v":""},"","",{"$f":"IF(女子部員名簿!B69=\"\",\"\",N(女子部員名簿!B69))","v":""},{"$f":"IF(H69<>\"\",女子部員名簿!I69,\"\")","v":""},"",{"$f":"T(女子部員名簿!E69)","v":""},{"$f":"T(女子部員名簿!F69)","v":""},{"$f":"PHONETIC(女子部員名簿!G69)","v":""},{"$f":"PHONETIC(女子部員名簿!H69)","v":""},null,null,null,null,null,{"$f":"IF(H69<>\"\",学校情報入力!$B$1,\"\")","v":""},{"$f":"IF(女子部員名簿!C69=\"\",\"\",N(女子部員名簿!C69))","v":""}]
[{"$f":"IF(E70=\"\",\"\",INDEX(昨年度登録データ!$A$2:$A$1000,MATCH(E70,昨年度登録データ!$E$2:$E$1000,0)))","v":""},{"$f":"IF(H70<>\"\",VLOOKUP(学校情報入力!$B$1,青森県高等学校住所一覧!$A$2:$G$79,7,0),\"\")","v":""},"","",{"$f":"IF(女子部員名簿!B70=\"\",\"\",N(女子部員名簿!B70))","v":""},{"$f":"IF(H70<>\"\",女子部員名簿!I70,\"\")","v":""},"",{"$f":"T(女子部員名簿!E70)","v":""},{"$f":"T(女子部員名簿!F70)","v":""},{"$f":"PHONETIC(女子部員名簿!G70)","v":""},{"$f":"PHONETIC(女子部員名簿!H70)","v":""},null,null,null,null,null,{"$f":"IF(H70<>\"\",学校情報入力!$B$1,\"\")","v":""},{"$f":"IF(女子部員名簿!C70=\"\",\"\",N(女子部員名簿!C70))","v":""}]
[{"$f":"IF(E71=\"\",\"\",INDEX(昨年度登録データ!$A$2:$A$1000,MATCH(E71,昨年度登録データ!$E$2:$E$1000,0)))","v":""},{"$f":"IF(H71<>\"\",VLOOKUP(学校情報入力!$B$1,青森県高等学校住所一覧!$A$2:$G$79,7,0),\"\")","v":""},"","",{"$f":"IF(女子部員名簿!B71=\"\",\"\",N(女子部員名簿!B71))","v":""},{"$f":"IF(H71<>\"\",女子部員名簿!I71,\"\")","v":""},"",{"$f":"T(女子部員名簿!E71)","v":""},{"$f":"T(女子部員名簿!F71)","v":""},{"$f":"PHONETIC(女子部員名簿!G71)","v":""},{"$f":"PHONETIC(女子部員名簿!H71)","v":""},null,null,null,null,null,{"$f":"IF(H71<>\"\",学校情報入力!$B$1,\"\")","v":""},{"$f":"IF(女子部員名簿!C71=\"\",\"\",N(女子部員名簿!C71))","v":""}]
[{"$f":"IF(E72=\"\",\"\",INDEX(昨年度登録データ!$A$2:$A$1000,MATCH(E72,昨年度登録データ!$E$2:$E$1000,0)))","v":""},{"$f":"IF(H72<>\"\",VLOOKUP(学校情報入力!$B$1,青森県高等学校住所一覧!$A$2:$G$79,7,0),\"\")","v":""},"","",{"$f":"IF(女子部員名簿!B72=\"\",\"\",N(女子部員名簿!B72))","v":""},{"$f":"IF(H72<>\"\",女子部員名簿!I72,\"\")","v":""},"",{"$f":"T(女子部員名簿!E72)","v":""},{"$f":"T(女子部員名簿!F72)","v":""},{"$f":"PHONETIC(女子部員名簿!G72)","v":""},{"$f":"PHONETIC(女子部員名簿!H72)","v":""},null,null,null,null,null,{"$f":"IF(H72<>\"\",学校情報入力!$B$1,\"\")","v":""},{"$f":"IF(女子部員名簿!C72=\"\",\"\",N(女子部員名簿!C72))","v":""}]
[{"$f":"IF(E73=\"\",\"\",INDEX(昨年度登録データ!$A$2:$A$1000,MATCH(E73,昨年度登録データ!$E$2:$E$1000,0)))","v":""},{"$f":"IF(H73<>\"\",VLOOKUP(学校情報入力!$B$1,青森県高等学校住所一覧!$A$2:$G$79,7,0),\"\")","v":""},"","",{"$f":"IF(女子部員名簿!B73=\"\",\"\",N(女子部員名簿!B73))","v":""},{"$f":"IF(H73<>\"\",女子部員名簿!I73,\"\")","v":""},"",{"$f":"T(女子部員名簿!E73)","v":""},{"$f":"T(女子部員名簿!F73)","v":""},{"$f":"PHONETIC(女子部員名簿!G73)","v":""},{"$f":"PHONETIC(女子部員名簿!H73)","v":""},null,null,null,null,null,{"$f":"IF(H73<>\"\",学校情報入力!$B$1,\"\")","v":""},{"$f":"IF(女子部員名簿!C73=\"\",\"\",N(女子部員名簿!C73))","v":""}]
[{"$f":"IF(E74=\"\",\"\",INDEX(昨年度登録データ!$A$2:$A$1000,MATCH(E74,昨年度登録データ!$E$2:$E$1000,0)))","v":""},{"$f":"IF(H74<>\"\",VLOOKUP(学校情報入力!$B$1,青森県高等学校住所一覧!$A$2:$G$79,7,0),\"\")","v":""},"","",{"$f":"IF(女子部員名簿!B74=\"\",\"\",N(女子部員名簿!B74))","v":""},{"$f":"IF(H74<>\"\",女子部員名簿!I74,\"\")","v":""},"",{"$f":"T(女子部員名簿!E74)","v":""},{"$f":"T(女子部員名簿!F74)","v":""},{"$f":"PHONETIC(女子部員名簿!G74)","v":""},{"$f":"PHONETIC(女子部員名簿!H74)","v":""},null,null,null,null,null,{"$f":"IF(H74<>\"\",学校情報入力!$B$1,\"\")","v":""},{"$f":"IF(女子部員名簿!C74=\"\",\"\",N(女子部員名簿!C74))","v":""}]
[{"$f":"IF(E75=\"\",\"\",INDEX(昨年度登録データ!$A$2:$A$1000,MATCH(E75,昨年度登録データ!$E$2:$E$1000,0)))","v":""},{"$f":"IF(H75<>\"\",VLOOKUP(学校情報入力!$B$1,青森県高等学校住所一覧!$A$2:$G$79,7,0),\"\")","v":""},"","",{"$f":"IF(女子部員名簿!B75=\"\",\"\",N(女子部員名簿!B75))","v":""},{"$f":"IF(H75<>\"\",女子部員名簿!I75,\"\")","v":""},"",{"$f":"T(女子部員名簿!E75)","v":""},{"$f":"T(女子部員名簿!F75)","v":""},{"$f":"PHONETIC(女子部員名簿!G75)","v":""},{"$f":"PHONETIC(女子部員名簿!H75)","v":""},null,null,null,null,null,{"$f":"IF(H75<>\"\",学校情報入力!$B$1,\"\")","v":""},{"$f":"IF(女子部員名簿!C75=\"\",\"\",N(女子部員名簿!C75))","v":""}]
[{"$f":"IF(E76=\"\",\"\",INDEX(昨年度登録データ!$A$2:$A$1000,MATCH(E76,昨年度登録データ!$E$2:$E$1000,0)))","v":""},{"$f":"IF(H76<>\"\",VLOOKUP(学校情報入力!$B$1,青森県高等学校住所一覧!$A$2:$G$79,7,0),\"\")","v":""},"","",{"$f":"IF(女子部員名簿!B76=\"\",\"\",N(女子部員名簿!B76))","v":""},{"$f":"IF(H76<>\"\",女子部員名簿!I76,\"\")","v":""},"",{"$f":"T(女子部員名簿!E76)","v":""},{"$f":"T(女子部員名簿!F76)","v":""},{"$f":"PHONETIC(女子部員名簿!G76)","v":""},{"$f":"PHONETIC(女子部員名簿!H76)","v":""},null,null,null,null,null,{"$f":"IF(H76<>\"\",学校情報入力!$B$1,\"\")","v":""},{"$f":"IF(女子部員名簿!C76=\"\",\"\",N(女子部員名簿!C76))","v":""}]
[{"$f":"IF(E77=\"\",\"\",INDEX(昨年度登録データ!$A$2:$A$1000,MATCH(E77,昨年度登録データ!$E$2:$E$1000,0)))","v":""},{"$f":"IF(H77<>\"\",VLOOKUP(学校情報入力!$B$1,青森県高等学校住所一覧!$A$2:$G$79,7,0),\"\")","v":""},"","",{"$f":"IF(女子部員名簿!B77=\"\",\"\",N(女子部員名簿!B77))","v":""},{"$f":"IF(H77<>\"\",女子部員名簿!I77,\"\")","v":""},"",{"$f":"T(女子部員名簿!E77)","v":""},{"$f":"T(女子部員名簿!F77)","v":""},{"$f":"PHONETIC(女子部員名簿!G77)","v":""},{"$f":"PHONETIC(女子部員名簿!H77)","v":""},null,null,null,null,null,{"$f":"IF(H77<>\"\",学校情報入力!$B$1,\"\")","v":""},{"$f":"IF(女子部員名簿!C77=\"\",\"\",N(女子部員名簿!C77))","v":""}]
[{"$f":"IF(E78=\"\",\"\",INDEX(昨年度登録データ!$A$2:$A$1000,MATCH(E78,昨年度登録データ!$E$2:$E$1000,0)))","v":""},{"$f":"IF(H78<>\"\",VLOOKUP(学校情報入力!$B$1,青森県高等学校住所一覧!$A$2:$G$79,7,0),\"\")","v":""},"","",{"$f":"IF(女子部員名簿!B78=\"\",\"\",N(女子部員名簿!B78))","v":""},{"$f":"IF(H78<>\"\",女子部員名簿!I78,\"\")","v":""},"",{"$f":"T(女子部員名簿!E78)","v":""},{"$f":"T(女子部員名簿!F78)","v":""},{"$f":"PHONETIC(女子部員名簿!G78)","v":""},{"$f":"PHONETIC(女子部員名簿!H78)","v":""},null,null,null,null,null,{"$f":"IF(H78<>\"\",学校情報入力!$B$1,\"\")","v":""},{"$f":"IF(女子部員名簿!C78=\"\",\"\",N(女子部員名簿!C78))","v":""}]
[{"$f":"IF(E79=\"\",\"\",INDEX(昨年度登録データ!$A$2:$A$1000,MATCH(E79,昨年度登録データ!$E$2:$E$1000,0)))","v":""},{"$f":"IF(H79<>\"\",VLOOKUP(学校情報入力!$B$1,青森県高等学校住所一覧!$A$2:$G$79,7,0),\"\")","v":""},"","",{"$f":"IF(女子部員名簿!B79=\"\",\"\",N(女子部員名簿!B79))","v":""},{"$f":"IF(H79<>\"\",女子部員名簿!I79,\"\")","v":""},"",{"$f":"T(女子部員名簿!E79)","v":""},{"$f":"T(女子部員名簿!F79)","v":""},{"$f":"PHONETIC(女子部員名簿!G79)","v":""},{"$f":"PHONETIC(女子部員名簿!H79)","v":""},null,null,null,null,null,{"$f":"IF(H79<>\"\",学校情報入力!$B$1,\"\")","v":""},{"$f":"IF(女子部員名簿!C79=\"\",\"\",N(女子部員名簿!C79))","v":""}]
[{"$f":"IF(E80=\"\",\"\",INDEX(昨年度登録データ!$A$2:$A$1000,MATCH(E80,昨年度登録データ!$E$2:$E$1000,0)))","v":""},{"$f":"IF(H80<>\"\",VLOOKUP(学校情報入力!$B$1,青森県高等学校住所一覧!$A$2:$G$79,7,0),\"\")","v":""},"","",{"$f":"IF(女子部員名簿!B80=\"\",\"\",N(女子部員名簿!B80))","v":""},{"$f":"IF(H80<>\"\",女子部員名簿!I80,\"\")","v":""},"",{"$f":"T(女子部員名簿!E80)","v":""},{"$f":"T(女子部員名簿!F80)","v":""},{"$f":"PHONETIC(女子部員名簿!G80)","v":""},{"$f":"PHONETIC(女子部員名簿!H80)","v":""},null,null,null,null,null,{"$f":"IF(H80<>\"\",学校情報入力!$B$1,\"\")","v":""},{"$f":"IF(女子部員名簿!C80=\"\",\"\",N(女子部員名簿!C80))","v":""}]
[{"$f":"IF(E81=\"\",\"\",INDEX(昨年度登録データ!$A$2:$A$1000,MATCH(E81,昨年度登録データ!$E$2:$E$1000,0)))","v":""},{"$f":"IF(H81<>\"\",VLOOKUP(学校情報入力!$B$1,青森県高等学校住所一覧!$A$2:$G$79,7,0),\"\")","v":""},"","",{"$f":"IF(女子部員名簿!B81=\"\",\"\",N(女子部員名簿!B81))","v":""},{"$f":"IF(H81<>\"\",女子部員名簿!I81,\"\")","v":""},"",{"$f":"T(女子部員名簿!E81)","v":""},{"$f":"T(女子部員名簿!F81)","v":""},{"$f":"PHONETIC(女子部員名簿!G81)","v":""},{"$f":"PHONETIC(女子部員名簿!H81)","v":""},null,null,null,null,null,{"$f":"IF(H81<>\"\",学校情報入力!$B$1,\"\")","v":""},{"$f":"IF(女子部員名簿!C81=\"\",\"\",N(女子部員名簿!C81))","v":""}]
[{"$f":"IF(E82=\"\",\"\",INDEX(昨年度登録データ!$A$2:$A$1000,MATCH(E82,昨年度登録データ!$E$2:$E$1000,0)))","v":""},{"$f":"IF(H82<>\"\",VLOOKUP(学校情報入力!$B$1,青森県高等学校住所一覧!$A$2:$G$79,7,0),\"\")","v":""},"","",{"$f":"IF(女子部員名簿!B82=\"\",\"\",N(女子部員名簿!B82))","v":""},{"$f":"IF(H82<>\"\",女子部員名簿!I82,\"\")","v":""},"",{"$f":"T(女子部員名簿!E82)","v":""},{"$f":"T(女子部員名簿!F82)","v":""},{"$f":"PHONETIC(女子部員名簿!G82)","v":""},{"$f":"PHONETIC(女子部員名簿!H82)","v":""},null,null,null,null,null,{"$f":"IF(H82<>\"\",学校情報入力!$B$1,\"\")","v":""},{"$f":"IF(女子部員名簿!C82=\"\",\"\",N(女子部員名簿!C82))","v":""}]
[{"$f":"IF(E83=\"\",\"\",INDEX(昨年度登録データ!$A$2:$A$1000,MATCH(E83,昨年度登録データ!$E$2:$E$1000,0)))","v":""},{"$f":"IF(H83<>\"\",VLOOKUP(学校情報入力!$B$1,青森県高等学校住所一覧!$A$2:$G$79,7,0),\"\")","v":""},"","",{"$f":"IF(女子部員名簿!B83=\"\",\"\",N(女子部員名簿!B83))","v":""},{"$f":"IF(H83<>\"\",女子部員名簿!I83,\"\")","v":""},"",{"$f":"T(女子部員名簿!E83)","v":""},{"$f":"T(女子部員名簿!F83)","v":""},{"$f":"PHONETIC(女子部員名簿!G83)","v":""},{"$f":"PHONETIC(女子部員名簿!H83)","v":""},null,null,null,null,null,{"$f":"IF(H83<>\"\",学校情報入力!$B$1,\"\")","v":""},{"$f":"IF(女子部員名簿!C83=\"\",\"\",N(女子部員名簿!C83))","v":""}]
[{"$f":"IF(E84=\"\",\"\",INDEX(昨年度登録データ!$A$2:$A$1000,MATCH(E84,昨年度登録データ!$E$2:$E$1000,0)))","v":""},{"$f":"IF(H84<>\"\",VLOOKUP(学校情報入力!$B$1,青森県高等学校住所一覧!$A$2:$G$79,7,0),\"\")","v":""},"","",{"$f":"IF(女子部員名簿!B84=\"\",\"\",N(女子部員名簿!B84))","v":""},{"$f":"IF(H84<>\"\",女子部員名簿!I84,\"\")","v":""},"",{"$f":"T(女子部員名簿!E84)","v":""},{"$f":"T(女子部員名簿!F84)","v":""},{"$f":"PHONETIC(女子部員名簿!G84)","v":""},{"$f":"PHONETIC(女子部員名簿!H84)","v":""},null,null,null,null,null,{"$f":"IF(H84<>\"\",学校情報入力!$B$1,\"\")","v":""},{"$f":"IF(女子部員名簿!C84=\"\",\"\",N(女子部員名簿!C84))","v":""}]
[{"$f":"IF(E85=\"\",\"\",INDEX(昨年度登録データ!$A$2:$A$1000,MATCH(E85,昨年度登録データ!$E$2:$E$1000,0)))","v":""},{"$f":"IF(H85<>\"\",VLOOKUP(学校情報入力!$B$1,青森県高等学校住所一覧!$A$2:$G$79,7,0),\"\")","v":""},"","",{"$f":"IF(女子部員名簿!B85=\"\",\"\",N(女子部員名簿!B85))","v":""},{"$f":"IF(H85<>\"\",女子部員名簿!I85,\"\")","v":""},"",{"$f":"T(女子部員名簿!E85)","v":""},{"$f":"T(女子部員名簿!F85)","v":""},{"$f":"PHONETIC(女子部員名簿!G85)","v":""},{"$f":"PHONETIC(女子部員名簿!H85)","v":""},null,null,null,null,null,{"$f":"IF(H85<>\"\",学校情報入力!$B$1,\"\")","v":""},{"$f":"IF(女子部員名簿!C85=\"\",\"\",N(女子部員名簿!C85))","v":""}]
[{"$f":"IF(E86=\"\",\"\",INDEX(昨年度登録データ!$A$2:$A$1000,MATCH(E86,昨年度登録データ!$E$2:$E$1000,0)))","v":""},{"$f":"IF(H86<>\"\",VLOOKUP(学校情報入力!$B$1,青森県高等学校住所一覧!$A$2:$G$79,7,0),\"\")","v":""},"","",{"$f":"IF(女子部員名簿!B86=\"\",\"\",N(女子部員名簿!B86))","v":""},{"$f":"IF(H86<>\"\",女子部員名簿!I86,\"\")","v":""},"",{"$f":"T(女子部員名簿!E86)","v":""},{"$f":"T(女子部員名簿!F86)","v":""},{"$f":"PHONETIC(女子部員名簿!G86)","v":""},{"$f":"PHONETIC(女子部員名簿!H86)","v":""},null,null,null,null,null,{"$f":"IF(H86<>\"\",学校情報入力!$B$1,\"\")","v":""},{"$f":"IF(女子部員名簿!C86=\"\",\"\",N(女子部員名簿!C86))","v":""}]
[{"$f":"IF(E87=\"\",\"\",INDEX(昨年度登録データ!$A$2:$A$1000,MATCH(E87,昨年度登録データ!$E$2:$E$1000,0)))","v":""},{"$f":"IF(H87<>\"\",VLOOKUP(学校情報入力!$B$1,青森県高等学校住所一覧!$A$2:$G$79,7,0),\"\")","v":""},"","",{"$f":"IF(女子部員名簿!B87=\"\",\"\",N(女子部員名簿!B87))","v":""},{"$f":"IF(H87<>\"\",女子部員名簿!I87,\"\")","v":""},"",{"$f":"T(女子部員名簿!E87)","v":""},{"$f":"T(女子部員名簿!F87)","v":""},{"$f":"PHONETIC(女子部員名簿!G87)","v":""},{"$f":"PHONETIC(女子部員名簿!H87)","v":""},null,null,null,null,null,{"$f":"IF(H87<>\"\",学校情報入力!$B$1,\"\")","v":""},{"$f":"IF(女子部員名簿!C87=\"\",\"\",N(女子部員名簿!C87))","v":""}]
[{"$f":"IF(E88=\"\",\"\",INDEX(昨年度登録データ!$A$2:$A$1000,MATCH(E88,昨年度登録データ!$E$2:$E$1000,0)))","v":""},{"$f":"IF(H88<>\"\",VLOOKUP(学校情報入力!$B$1,青森県高等学校住所一覧!$A$2:$G$79,7,0),\"\")","v":""},"","",{"$f":"IF(女子部員名簿!B88=\"\",\"\",N(女子部員名簿!B88))","v":""},{"$f":"IF(H88<>\"\",女子部員名簿!I88,\"\")","v":""},"",{"$f":"T(女子部員名簿!E88)","v":""},{"$f":"T(女子部員名簿!F88)","v":""},{"$f":"PHONETIC(女子部員名簿!G88)","v":""},{"$f":"PHONETIC(女子部員名簿!H88)","v":""},null,null,null,null,null,{"$f":"IF(H88<>\"\",学校情報入力!$B$1,\"\")","v":""},{"$f":"IF(女子部員名簿!C88=\"\",\"\",N(女子部員名簿!C88))","v":""}]
[{"$f":"IF(E89=\"\",\"\",INDEX(昨年度登録データ!$A$2:$A$1000,MATCH(E89,昨年度登録データ!$E$2:$E$1000,0)))","v":""},{"$f":"IF(H89<>\"\",VLOOKUP(学校情報入力!$B$1,青森県高等学校住所一覧!$A$2:$G$79,7,0),\"\")","v":""},"","",{"$f":"IF(女子部員名簿!B89=\"\",\"\",N(女子部員名簿!B89))","v":""},{"$f":"IF(H89<>\"\",女子部員名簿!I89,\"\")","v":""},"",{"$f":"T(女子部員名簿!E89)","v":""},{"$f":"T(女子部員名簿!F89)","v":""},{"$f":"PHONETIC(女子部員名簿!G89)","v":""},{"$f":"PHONETIC(女子部員名簿!H89)","v":""},null,null,null,null,null,{"$f":"IF(H89<>\"\",学校情報入力!$B$1,\"\")","v":""},{"$f":"IF(女子部員名簿!C89=\"\",\"\",N(女子部員名簿!C89))","v":""}]
[{"$f":"IF(E90=\"\",\"\",INDEX(昨年度登録データ!$A$2:$A$1000,MATCH(E90,昨年度登録データ!$E$2:$E$1000,0)))","v":""},{"$f":"IF(H90<>\"\",VLOOKUP(学校情報入力!$B$1,青森県高等学校住所一覧!$A$2:$G$79,7,0),\"\")","v":""},"","",{"$f":"IF(女子部員名簿!B90=\"\",\"\",N(女子部員名簿!B90))","v":""},{"$f":"IF(H90<>\"\",女子部員名簿!I90,\"\")","v":""},"",{"$f":"T(女子部員名簿!E90)","v":""},{"$f":"T(女子部員名簿!F90)","v":""},{"$f":"PHONETIC(女子部員名簿!G90)","v":""},{"$f":"PHONETIC(女子部員名簿!H90)","v":""},null,null,null,null,null,{"$f":"IF(H90<>\"\",学校情報入力!$B$1,\"\")","v":""},{"$f":"IF(女子部員名簿!C90=\"\",\"\",N(女子部員名簿!C90))","v":""}]
[{"$f":"IF(E91=\"\",\"\",INDEX(昨年度登録データ!$A$2:$A$1000,MATCH(E91,昨年度登録データ!$E$2:$E$1000,0)))","v":""},{"$f":"IF(H91<>\"\",VLOOKUP(学校情報入力!$B$1,青森県高等学校住所一覧!$A$2:$G$79,7,0),\"\")","v":""},"","",{"$f":"IF(女子部員名簿!B91=\"\",\"\",N(女子部員名簿!B91))","v":""},{"$f":"IF(H91<>\"\",女子部員名簿!I91,\"\")","v":""},"",{"$f":"T(女子部員名簿!E91)","v":""},{"$f":"T(女子部員名簿!F91)","v":""},{"$f":"PHONETIC(女子部員名簿!G91)","v":""},{"$f":"PHONETIC(女子部員名簿!H91)","v":""},null,null,null,null,null,{"$f":"IF(H91<>\"\",学校情報入力!$B$1,\"\")","v":""},{"$f":"IF(女子部員名簿!C91=\"\",\"\",N(女子部員名簿!C91))","v":""}]
[{"$f":"IF(E92=\"\",\"\",INDEX(昨年度登録データ!$A$2:$A$1000,MATCH(E92,昨年度登録データ!$E$2:$E$1000,0)))","v":""},{"$f":"IF(H92<>\"\",VLOOKUP(学校情報入力!$B$1,青森県高等学校住所一覧!$A$2:$G$79,7,0),\"\")","v":""},"","",{"$f":"IF(女子部員名簿!B92=\"\",\"\",N(女子部員名簿!B92))","v":""},{"$f":"IF(H92<>\"\",女子部員名簿!I92,\"\")","v":""},"",{"$f":"T(女子部員名簿!E92)","v":""},{"$f":"T(女子部員名簿!F92)","v":""},{"$f":"PHONETIC(女子部員名簿!G92)","v":""},{"$f":"PHONETIC(女子部員名簿!H92)","v":""},null,null,null,null,null,{"$f":"IF(H92<>\"\",学校情報入力!$B$1,\"\")","v":""},{"$f":"IF(女子部員名簿!C92=\"\",\"\",N(女子部員名簿!C92))","v":""}]
[{"$f":"IF(E93=\"\",\"\",INDEX(昨年度登録データ!$A$2:$A$1000,MATCH(E93,昨年度登録データ!$E$2:$E$1000,0)))","v":""},{"$f":"IF(H93<>\"\",VLOOKUP(学校情報入力!$B$1,青森県高等学校住所一覧!$A$2:$G$79,7,0),\"\")","v":""},"","",{"$f":"IF(女子部員名簿!B93=\"\",\"\",N(女子部員名簿!B93))","v":""},{"$f":"IF(H93<>\"\",女子部員名簿!I93,\"\")","v":""},"",{"$f":"T(女子部員名簿!E93)","v":""},{"$f":"T(女子部員名簿!F93)","v":""},{"$f":"PHONETIC(女子部員名簿!G93)","v":""},{"$f":"PHONETIC(女子部員名簿!H93)","v":""},null,null,null,null,null,{"$f":"IF(H93<>\"\",学校情報入力!$B$1,\"\")","v":""},{"$f":"IF(女子部員名簿!C93=\"\",\"\",N(女子部員名簿!C93))","v":""}]
[{"$f":"IF(E94=\"\",\"\",INDEX(昨年度登録データ!$A$2:$A$1000,MATCH(E94,昨年度登録データ!$E$2:$E$1000,0)))","v":""},{"$f":"IF(H94<>\"\",VLOOKUP(学校情報入力!$B$1,青森県高等学校住所一覧!$A$2:$G$79,7,0),\"\")","v":""},"","",{"$f":"IF(女子部員名簿!B94=\"\",\"\",N(女子部員名簿!B94))","v":""},{"$f":"IF(H94<>\"\",女子部員名簿!I94,\"\")","v":""},"",{"$f":"T(女子部員名簿!E94)","v":""},{"$f":"T(女子部員名簿!F94)","v":""},{"$f":"PHONETIC(女子部員名簿!G94)","v":""},{"$f":"PHONETIC(女子部員名簿!H94)","v":""},null,null,null,null,null,{"$f":"IF(H94<>\"\",学校情報入力!$B$1,\"\")","v":""},{"$f":"IF(女子部員名簿!C94=\"\",\"\",N(女子部員名簿!C94))","v":""}]
[{"$f":"IF(E95=\"\",\"\",INDEX(昨年度登録データ!$A$2:$A$1000,MATCH(E95,昨年度登録データ!$E$2:$E$1000,0)))","v":""},{"$f":"IF(H95<>\"\",VLOOKUP(学校情報入力!$B$1,青森県高等学校住所一覧!$A$2:$G$79,7,0),\"\")","v":""},"","",{"$f":"IF(女子部員名簿!B95=\"\",\"\",N(女子部員名簿!B95))","v":""},{"$f":"IF(H95<>\"\",女子部員名簿!I95,\"\")","v":""},"",{"$f":"T(女子部員名簿!E95)","v":""},{"$f":"T(女子部員名簿!F95)","v":""},{"$f":"PHONETIC(女子部員名簿!G95)","v":""},{"$f":"PHONETIC(女子部員名簿!H95)","v":""},null,null,null,null,null,{"$f":"IF(H95<>\"\",学校情報入力!$B$1,\"\")","v":""},{"$f":"IF(女子部員名簿!C95=\"\",\"\",N(女子部員名簿!C95))","v":""}]
[{"$f":"IF(E96=\"\",\"\",INDEX(昨年度登録データ!$A$2:$A$1000,MATCH(E96,昨年度登録データ!$E$2:$E$1000,0)))","v":""},{"$f":"IF(H96<>\"\",VLOOKUP(学校情報入力!$B$1,青森県高等学校住所一覧!$A$2:$G$79,7,0),\"\")","v":""},"","",{"$f":"IF(女子部員名簿!B96=\"\",\"\",N(女子部員名簿!B96))","v":""},{"$f":"IF(H96<>\"\",女子部員名簿!I96,\"\")","v":""},"",{"$f":"T(女子部員名簿!E96)","v":""},{"$f":"T(女子部員名簿!F96)","v":""},{"$f":"PHONETIC(女子部員名簿!G96)","v":""},{"$f":"PHONETIC(女子部員名簿!H96)","v":""},null,null,null,null,null,{"$f":"IF(H96<>\"\",学校情報入力!$B$1,\"\")","v":""},{"$f":"IF(女子部員名簿!C96=\"\",\"\",N(女子部員名簿!C96))","v":""}]
[{"$f":"IF(E97=\"\",\"\",INDEX(昨年度登録データ!$A$2:$A$1000,MATCH(E97,昨年度登録データ!$E$2:$E$1000,0)))","v":""},{"$f":"IF(H97<>\"\",VLOOKUP(学校情報入力!$B$1,青森県高等学校住所一覧!$A$2:$G$79,7,0),\"\")","v":""},"","",{"$f":"IF(女子部員名簿!B97=\"\",\"\",N(女子部員名簿!B97))","v":""},{"$f":"IF(H97<>\"\",女子部員名簿!I97,\"\")","v":""},"",{"$f":"T(女子部員名簿!E97)","v":""},{"$f":"T(女子部員名簿!F97)","v":""},{"$f":"PHONETIC(女子部員名簿!G97)","v":""},{"$f":"PHONETIC(女子部員名簿!H97)","v":""},null,null,null,null,null,{"$f":"IF(H97<>\"\",学校情報入力!$B$1,\"\")","v":""},{"$f":"IF(女子部員名簿!C97=\"\",\"\",N(女子部員名簿!C97))","v":""}]
[{"$f":"IF(E98=\"\",\"\",INDEX(昨年度登録データ!$A$2:$A$1000,MATCH(E98,昨年度登録データ!$E$2:$E$1000,0)))","v":""},{"$f":"IF(H98<>\"\",VLOOKUP(学校情報入力!$B$1,青森県高等学校住所一覧!$A$2:$G$79,7,0),\"\")","v":""},"","",{"$f":"IF(女子部員名簿!B98=\"\",\"\",N(女子部員名簿!B98))","v":""},{"$f":"IF(H98<>\"\",女子部員名簿!I98,\"\")","v":""},{"$f":"IF(H98<>\"\",\"F\",\"\")","v":""},{"$f":"T(女子部員名簿!E98)","v":""},{"$f":"T(女子部員名簿!F98)","v":""},{"$f":"PHONETIC(女子部員名簿!G98)","v":""},{"$f":"PHONETIC(女子部員名簿!H98)","v":""},null,null,null,null,null,{"$f":"IF(H98<>\"\",学校情報入力!$B$1,\"\")","v":""},{"$f":"IF(女子部員名簿!C98=\"\",\"\",N(女子部員名簿!C98))","v":""}]
[{"$f":"IF(E99=\"\",\"\",INDEX(昨年度登録データ!$A$2:$A$1000,MATCH(E99,昨年度登録データ!$E$2:$E$1000,0)))","v":""},{"$f":"IF(H99<>\"\",VLOOKUP(学校情報入力!$B$1,青森県高等学校住所一覧!$A$2:$G$79,7,0),\"\")","v":""},"","",{"$f":"IF(女子部員名簿!B99=\"\",\"\",N(女子部員名簿!B99))","v":""},{"$f":"IF(H99<>\"\",女子部員名簿!I99,\"\")","v":""},{"$f":"IF(H99<>\"\",\"F\",\"\")","v":""},{"$f":"T(女子部員名簿!E99)","v":""},{"$f":"T(女子部員名簿!F99)","v":""},{"$f":"PHONETIC(女子部員名簿!G99)","v":""},{"$f":"PHONETIC(女子部員名簿!H99)","v":""},null,null,null,null,null,{"$f":"IF(H99<>\"\",学校情報入力!$B$1,\"\")","v":""},{"$f":"IF(女子部員名簿!C99=\"\",\"\",N(女子部員名簿!C99))","v":""}]
[{"$f":"IF(E100=\"\",\"\",INDEX(昨年度登録データ!$A$2:$A$1000,MATCH(E100,昨年度登録データ!$E$2:$E$1000,0)))","v":""},{"$f":"IF(H100<>\"\",VLOOKUP(学校情報入力!$B$1,青森県高等学校住所一覧!$A$2:$G$79,7,0),\"\")","v":""},"","",{"$f":"IF(女子部員名簿!B100=\"\",\"\",N(女子部員名簿!B100))","v":""},{"$f":"IF(H100<>\"\",女子部員名簿!I100,\"\")","v":""},"",{"$f":"T(女子部員名簿!E100)","v":""},{"$f":"T(女子部員名簿!F100)","v":""},{"$f":"PHONETIC(女子部員名簿!G100)","v":""},{"$f":"PHONETIC(女子部員名簿!H100)","v":""},null,null,null,null,null,{"$f":"IF(H100<>\"\",学校情報入力!$B$1,\"\")","v":""},{"$f":"IF(女子部員名簿!C100=\"\",\"\",N(女子部員名簿!C100))","v":""}]
[{"$f":"IF(E101=\"\",\"\",INDEX(昨年度登録データ!$A$2:$A$19,MATCH(E101,昨年度登録データ!$E$2:$E$19,0)))","v":""},{"$f":"IF(H101<>\"\",VLOOKUP(学校情報入力!$B$1,青森県高等学校住所一覧!$A$2:$G$79,7,0),\"\")","v":""},"","",{"$f":"IF(女子部員名簿!B101=\"\",\"\",N(女子部員名簿!B101))","v":""},{"$f":"IF(H101<>\"\",女子部員名簿!I101,\"\")","v":""},"",{"$f":"T(女子部員名簿!E101)","v":""},{"$f":"T(女子部員名簿!F101)","v":""},{"$f":"PHONETIC(女子部員名簿!G101)","v":""},{"$f":"PHONETIC(女子部員名簿!H101)","v":""},null,null,null,null,null,{"$f":"IF(H101<>\"\",学校情報入力!$B$1,\"\")","v":""},{"$f":"IF(女子部員名簿!C101=\"\",\"\",N(女子部員名簿!C101))","v":""}]
[]
[]
[]
[]
[]
[]
[]
[]
[]
[]
[]
[]
[]
[]
[]
[]
[]
[]
[]
[]
[]
[]
[]
[]
[]
[]
[]
[]
[]
[]
[]
[]
[]
[]
[]
[]
[]
[]
[]
[]
[]
[]
[]
[]
[]
[]
[]
[]
[]
[]
[]
[]
[]
[]
[]
[]
[]
[]
[]
[]
[]
[]
[]
[]
[]
[]
[]
[]
[]
[]
[]
[]
[]
[]
[]
[]
[]
[]
[]
[]
[]
[]
[]
[]
[]
[]
[]
[]
[]
[]
[]
[]
[]
[]
[]
[]
[]
[]
[]
[]
[]
[]
[]
[]
[]
[]
[]
[]
[]
[]
[]
[]
[]
[]
[]
[]
[]
[]
[]
[]
[]
[]
[]
[null,null,null,null,null,null,null,null,null,{"$f":"PHONETIC(男子部員名簿!G225)","v":""},{"$f":"PHONETIC(男子部員名簿!H225)","v":""}]
[null,null,null,null,null,null,null,null,null,{"$f":"PHONETIC(男子部員名簿!G226)","v":""},{"$f":"PHONETIC(男子部員名簿!H226)","v":""}]
[null,null,null,null,null,null,null,null,null,{"$f":"PHONETIC(男子部員名簿!G227)","v":""},{"$f":"PHONETIC(男子部員名簿!H227)","v":""}]
[null,null,null,null,null,null,null,null,null,{"$f":"PHONETIC(男子部員名簿!G228)","v":""},{"$f":"PHONETIC(男子部員名簿!H228)","v":""}]

{"sheet":"春季地区予選男子エントリー用紙","index":10,"n_rows":113,"n_cols":7,"rows_kept":113,"cut":false,"hidden":false,"merged":[[0,0,0,5],[26,0,26,5],[58,0,58,5],[4,1,4,4],[30,1,30,4],[24,0,25,0],[22,0,23,0],[14,0,15,0],[16,0,17,0],[20,0,21,0],[6,0,7,0],[8,0,9,0],[10,0,11,0],[12,0,13,0],[18,0,19,0],[5,1,5,2],[31,1,31,2],[63,1,63,2],[92,1,92,2],[62,1,62,4],[91,1,91,4],[87,0,87,5],[64,0,65,0],[66,0,67,0],[68,0,69,0],[70,0,71,0],[72,0,73,0],[74,0,75,0],[76,0,77,0],[78,0,79,0],[80,0,81,0],[82,0,83,0]]}
[{"$f":"設定情報!$B$1","v":"2022-04-01"}]
[]
["*個人戦ダブルス(各地区の申込期限を厳守のこと)"]
[]
["学校名",{"$f":"男子登録用紙!C5","v":""},null,null,null,"男子","部員名簿のNo欄の番号を入力してください。"]
["校内順位","選手氏名",null,"学年","生年月日","主な大会成績","↓"]
[1,{"$f":"IF($G7=\"\",\"\",INDIRECT(\"男子部員名簿!$E\"&$G7+1))","v":""},{"$f":"IF($G7=\"\",\"\",INDIRECT(\"男子部員名簿!$F\"&$G7+1))","v":""},{"$f":"IF($G7=\"\",\"\",INDIRECT(\"男子部員名簿!$C\"&$G7+1))","v":""},{"$f":"IF($G7=\"\",\"\",INDIRECT(\"男子部員名簿!$I\"&$G7+1))","v":""}]
[null,{"$f":"IF($G8=\"\",\"\",INDIRECT(\"男子部員名簿!$E\"&$G8+1))","v":""},{"$f":"IF($G8=\"\",\"\",INDIRECT(\"男子部員名簿!$F\"&$G8+1))","v":""},{"$f":"IF($G8=\"\",\"\",INDIRECT(\"男子部員名簿!$C\"&$G8+1))","v":""},{"$f":"IF($G8=\"\",\"\",INDIRECT(\"男子部員名簿!$I\"&$G8+1))","v":""}]
[2,"","","",""]
[null,"","","",""]
[3,"","","",""]
[null,"","","",""]
[4,"","","",""]
[null,"","","",""]
[5,"","","",""]
[null,"","","",""]
[6,"","","",""]
[null,"","","",""]
[7,"","","",""]
[null,"","","",""]
[8,"","","",""]
[null,"","","",""]
[9,"","","",""]
[null,"","","",""]
[10,"","","",""]
[null,"","","",""]
[{"$f":"設定情報!$B$1","v":"2022-04-01"}]
[]
["*個人戦シングルス(各地区の申込期限を厳守のこと)"]
[]
["学校名",{"$f":"男子登録用紙!C5","v":""},null,null,null,"男子"]
["校内順位","選手氏名",null,"学年","生年月日","主な大会成績"]
[1,{"$f":"IF($G33=\"\",\"\",INDIRECT(\"男子部員名簿!$E\"&$G33+1))","v":""},{"$f":"IF($G33=\"\",\"\",INDIRECT(\"男子部員名簿!$F\"&$G33+1))","v":""},{"$f":"IF($G33=\"\",\"\",INDIRECT(\"男子部員名簿!$C\"&$G33+1))","v":""},{"$f":"IF($G33=\"\",\"\",INDIRECT(\"男子部員名簿!$I\"&$G33+1))","v":""}]
[2,"","","",""]
[3,"","","",""]
[4,"","","",""]
[5,"","","",""]
[6,"","","",""]
[7,"","","",""]
[8,"","","",""]
[9,"","","",""]
[10,"","","",""]
[11,"","","",""]
[12,"","","",""]
[13,"","","",""]
[14,"","","",""]
[15,"","","",""]
[16,"","","",""]
[17,"","","",""]
[18,"","","",""]
[19,"","","",""]
[20,"","","",""]
[21,"","","",""]
[22,"","","",""]
[23,"","","",""]
[24,"","","",""]
[null,null,null,null,null,null,"　"]
[]
[{"$f":"設定情報!$B$1","v":"2022-04-01"}]
[]
["*個人戦ダブルス(各地区の申込期限を厳守のこと)",null,null,null,null,"NO.2"]
[]
["学校名",{"$f":"男子登録用紙!C5","v":""},null,null,null,"男子","部員名簿のNo欄の番号を入力してください。"]
["校内順位","選手氏名",null,"学年","生年月日","主な大会成績","↓"]
[11,{"$f":"IF($G65=\"\",\"\",INDIRECT(\"男子部員名簿!$D\"&$G65+1))","v":""},{"$f":"IF($G65=\"\",\"\",INDIRECT(\"男子部員名簿!$E\"&$G65+1))","v":""},{"$f":"IF($G65=\"\",\"\",INDIRECT(\"男子部員名簿!$B\"&$G65+1))","v":""},{"$f":"IF($G65=\"\",\"\",INDIRECT(\"男子部員名簿!$H\"&$G65+1))","v":""}]
[null,{"$f":"IF($G66=\"\",\"\",INDIRECT(\"男子部員名簿!$D\"&$G66+1))","v":""},{"$f":"IF($G66=\"\",\"\",INDIRECT(\"男子部員名簿!$E\"&$G66+1))","v":""},{"$f":"IF($G66=\"\",\"\",INDIRECT(\"男子部員名簿!$B\"&$G66+1))","v":""},{"$f":"IF($G66=\"\",\"\",INDIRECT(\"男子部員名簿!$H\"&$G66+1))","v":""}]
[12,"","","",""]
[null,"","","",""]
[13,"","","",""]
[null,"","","",""]
[14,"","","",""]
[null,"","","",""]
[15,"","","",""]
[null,"","","",""]
[16,"","","",""]
[null,"","","",""]
[17,"","","",""]
[null,"","","",""]
[18,"","","",""]
[null,"","","",""]
[19,"","","",""]
[null,"","","",""]
[20,"","","",""]
[null,"","","",""]
[null,null,null,null,null,null,"　"]
[]
[]
[{"$f":"設定情報!$B$1","v":"2022-04-01"}]
[]
["*個人戦シングルス(各地区の申込期限を厳守のこと)",null,null,null,null,"NO.2"]
[]
["学校名",{"$f":"男子登録用紙!C5","v":""},null,null,null,"男子"]
["校内順位","選手氏名",null,"学年","生年月日","主な大会成績"]
[25,{"$f":"IF($G94=\"\",\"\",INDIRECT(\"男子部員名簿!$D\"&$G94+1))","v":""},{"$f":"IF($G94=\"\",\"\",INDIRECT(\"男子部員名簿!$E\"&$G94+1))","v":""},{"$f":"IF($G94=\"\",\"\",INDIRECT(\"男子部員名簿!$B\"&$G94+1))","v":""},{"$f":"IF($G94=\"\",\"\",INDIRECT(\"男子部員名簿!$H\"&$G94+1))","v":""}]
[26,{"$f":"IF($G95=\"\",\"\",INDIRECT(\"男子部員名簿!$D\"&$G95+1))","v":""},{"$f":"IF($G95=\"\",\"\",INDIRECT(\"男子部員名簿!$E\"&$G95+1))","v":""},"",{"$f":"IF($G95=\"\",\"\",INDIRECT(\"男子部員名簿!$H\"&$G95+1))","v":""}]
[27,"","","",""]
[28,"","","",""]
[29,"","","",""]
[30,"","","",""]
[31,"","","",""]
[32,"","","",""]
[33,"","","",""]
[34,"","","",""]
[35,"","","",""]
[36,"","","",""]
[37,"","","",""]
[38,"","","",""]
[39,"","","",""]
[40,"","","",""]
[41,"","","",""]
[42,"","","",""]
[43,"","","",""]
[44,"","","",""]

{"sheet":"春季地区予選女子エントリー用紙","index":11,"n_rows":113,"n_cols":7,"rows_kept":113,"cut":false,"hidden":false,"merged":[[30,1,30,4],[26,0,26,5],[24,0,25,0],[22,0,23,0],[14,0,15,0],[16,0,17,0],[18,0,19,0],[20,0,21,0],[10,0,11,0],[12,0,13,0],[6,0,7,0],[8,0,9,0],[0,0,0,5],[4,1,4,4],[5,1,5,2],[31,1,31,2],[58,0,58,5],[62,1,62,4],[63,1,63,2],[64,0,65,0],[66,0,67,0],[68,0,69,0],[70,0,71,0],[72,0,73,0],[74,0,75,0],[92,1,92,2],[87,0,87,5],[76,0,77,0],[78,0,79,0],[80,0,81,0],[82,0,83,0],[91,1,91,4]]}
[{"$f":"設定情報!$B$1","v":"2022-04-01"}]
[]
["*個人戦ダブルス(各地区の申込期限を厳守のこと)"]
[]
["学校名",{"$f":"女子登録用紙!C5","v":""},null,null,null,"女子","部員名簿のNo欄の番号を入力してください。"]
["校内順位","選手氏名",null,"学年","生年月日","主な大会成績","↓"]
[1,{"$f":"IF($G7=\"\",\"\",INDIRECT(\"女子部員名簿!$E\"&$G7+1))","v":""},{"$f":"IF($G7=\"\",\"\",INDIRECT(\"女子部員名簿!$F\"&$G7+1))","v":""},{"$f":"IF($G7=\"\",\"\",INDIRECT(\"女子部員名簿!$C\"&$G7+1))","v":""},{"$f":"IF($G7=\"\",\"\",INDIRECT(\"女子部員名簿!$I\"&$G7+1))","v":""}]
[null,{"$f":"IF($G8=\"\",\"\",INDIRECT(\"女子部員名簿!$E\"&$G8+1))","v":""},{"$f":"IF($G8=\"\",\"\",INDIRECT(\"女子部員名簿!$F\"&$G8+1))","v":""},{"$f":"IF($G8=\"\",\"\",INDIRECT(\"女子部員名簿!$C\"&$G8+1))","v":""},{"$f":"IF($G8=\"\",\"\",INDIRECT(\"女子部員名簿!$I\"&$G8+1))","v":""}]
[2,"","","",""]
[null,"","","",""]
[3,"","","",""]
[null,"","","",""]
[4,"","","",""]
[null,"","","",""]
[5,"","","",""]
[null,"","","",""]
[6,"","","",""]
[null,"","","",""]
[7,"","","",""]
[null,"","","",""]
[8,"","","",""]
[null,"","","",""]
[9,"","","",""]
[null,"","","",""]
[10,"","","",""]
[null,"","","",""]
[{"$f":"設定情報!$B$1","v":"2022-04-01"}]
[]
["*個人戦シングルス(各地区の申込期限を厳守のこと)"]
[]
["学校名",{"$f":"女子登録用紙!C5","v":""},null,null,null,"女子"]
["校内順位","選手氏名",null,"学年","生年月日","主な大会成績"]
[1,{"$f":"IF($G33=\"\",\"\",INDIRECT(\"女子部員名簿!$E\"&$G33+1))","v":""},{"$f":"IF($G33=\"\",\"\",INDIRECT(\"女子部員名簿!$F\"&$G33+1))","v":""},{"$f":"IF($G33=\"\",\"\",INDIRECT(\"女子部員名簿!$C\"&$G33+1))","v":""},{"$f":"IF($G33=\"\",\"\",INDIRECT(\"女子部員名簿!$I\"&$G33+1))","v":""}]
[2,"","","",""]
[3,"","","",""]
[4,"","","",""]
[5,"","","",""]
[6,"","","",""]
[7,"","","",""]
[8,"","","",""]
[9,"","","",""]
[10,"","","",""]
[11,"","","",""]
[12,"","","",""]
[13,"","","",""]
[14,"","","",""]
[15,"","","",""]
[16,"","","",""]
[17,"","","",""]
[18,"","","",""]
[19,"","","",""]
[20,"","","",""]
[21,"","","",""]
[22,"","","",""]
[23,"","","",""]
[24,"","","",""]
[null,null,null,null,null,null,"　"]
[]
[{"$f":"設定情報!$B$1","v":"2022-04-01"}]
[]
["*個人戦ダブルス(各地区の申込期限を厳守のこと)",null,null,null,null,"NO.2"]
[]
["学校名",{"$f":"女子登録用紙!C5","v":""},null,null,null,"女子","部員名簿のNo欄の番号を入力してください。"]
["校内順位","選手氏名",null,"学年","生年月日","主な大会成績","↓"]
[11,{"$f":"IF($G65=\"\",\"\",INDIRECT(\"女子部員名簿!$E\"&$G65+1))","v":""},{"$f":"IF($G65=\"\",\"\",INDIRECT(\"女子部員名簿!$F\"&$G65+1))","v":""},{"$f":"IF($G65=\"\",\"\",INDIRECT(\"女子部員名簿!$C\"&$G65+1))","v":""},{"$f":"IF($G65=\"\",\"\",INDIRECT(\"女子部員名簿!$I\"&$G65+1))","v":""}]
[null,"","","",""]
[12,"","","",""]
[null,"","","",""]
[13,"","","",""]
[null,"","","",""]
[14,"","","",""]
[null,"","","",""]
[15,"","","",""]
[null,"","","",""]
[16,"","","",""]
[null,"","","",""]
[17,"","","",""]
[null,"","","",""]
[18,"","","",""]
[null,"","","",""]
[19,"","","",""]
[null,"","","",""]
[20,"","","",""]
[null,"","","",""]
[null,null,null,null,null,null,"　"]
[]
[]
[{"$f":"設定情報!$B$1","v":"2022-04-01"}]
[]
["*個人戦シングルス(各地区の申込期限を厳守のこと)",null,null,null,null,"NO.2"]
[]
["学校名",{"$f":"女子登録用紙!C5","v":""},null,null,null,"女子"]
["校内順位","選手氏名",null,"学年","生年月日","主な大会成績"]
[25,{"$f":"IF($G94=\"\",\"\",INDIRECT(\"男子部員名簿!$D\"&$G94+1))","v":""},{"$f":"IF($G94=\"\",\"\",INDIRECT(\"男子部員名簿!$E\"&$G94+1))","v":""},{"$f":"IF($G94=\"\",\"\",INDIRECT(\"男子部員名簿!$B\"&$G94+1))","v":""},{"$f":"IF($G94=\"\",\"\",INDIRECT(\"男子部員名簿!$H\"&$G94+1))","v":""}]
[26,{"$f":"IF($G95=\"\",\"\",INDIRECT(\"男子部員名簿!$D\"&$G95+1))","v":""},{"$f":"IF($G95=\"\",\"\",INDIRECT(\"男子部員名簿!$E\"&$G95+1))","v":""},"",{"$f":"IF($G95=\"\",\"\",INDIRECT(\"男子部員名簿!$H\"&$G95+1))","v":""}]
[27,"","","",""]
[28,"","","",""]
[29,"","","",""]
[30,"","","",""]
[31,"","","",""]
[32,"","","",""]
[33,"","","",""]
[34,"","","",""]
[35,"","","",""]
[36,"","","",""]
[37,"","","",""]
[38,"","","",""]
[39,"","","",""]
[40,"","","",""]
[41,"","","",""]
[42,"","","",""]
[43,"","","",""]
[44,"","","",""]

{"sheet":"県春季男子エントリー用紙","index":12,"n_rows":58,"n_cols":13,"rows_kept":58,"cut":false,"hidden":false,"merged":[[9,0,10,0],[11,0,12,0],[3,0,3,11],[23,11,24,11],[21,11,22,11],[13,0,14,0],[15,0,16,0],[23,0,24,0],[21,10,22,10],[23,10,24,10],[13,10,14,10],[17,0,18,0],[19,0,20,0],[9,11,10,11],[9,10,10,10],[15,10,16,10],[0,0,0,11],[5,8,5,11],[6,5,6,11],[7,11,8,11],[6,0,8,0],[7,10,8,10],[6,3,8,3],[6,4,8,4],[7,5,7,9],[5,1,5,7],[6,1,8,2],[15,11,16,11],[27,10,28,10],[27,11,28,11],[25,10,26,10],[13,11,14,11],[25,11,26,11],[17,10,18,10],[17,11,18,11],[19,10,20,10],[19,11,20,11],[11,10,12,10],[11,11,12,11],[34,8,34,11],[34,1,34,7],[57,10,57,11],[53,10,53,11],[54,10,54,11],[55,10,55,11],[56,10,56,11],[43,10,43,11],[36,10,37,11],[38,10,38,11],[39,10,39,11],[35,5,35,11],[40,10,40,11],[41,10,41,11],[29,0,29,11],[27,0,28,0],[21,0,22,0],[25,0,26,0],[32,0,32,11],[52,10,52,11],[44,10,44,11],[45,10,45,11],[46,10,46,11],[47,10,47,11],[48,10,48,11],[49,10,49,11],[50,10,50,11],[51,10,51,11],[42,10,42,11],[36,5,36,9],[35,0,37,0],[35,3,37,3],[35,1,37,2],[35,4,37,4]]}
[{"$f":"設定情報!$B$1","v":"2022-04-01"}]
[]
["*個人戦ダブルス"]
[{"$f":"設定情報!$B$2","v":"2022-05-05"}]
[]
["学校名",{"$f":"男子登録用紙!C5","v":""},null,null,null,null,null,null,"男子"]
["校内順位","選手氏名",null,"学年","生年月日","出場資格(○をつけてください)"]
[null,null,null,null,null,"新人戦成績",null,null,null,null,"地区代表","学校代表","部員名簿のNo欄の番号を入力してください。"]
[null,null,null,null,null,1,2,4,8,16,null,null,"↓"]
[1,{"$f":"IF($M10=\"\",\"\",INDIRECT(\"男子部員名簿!$E\"&$M10+1))","v":""},{"$f":"IF($M10=\"\",\"\",INDIRECT(\"男子部員名簿!$F\"&$M10+1))","v":""},{"$f":"IF($M10=\"\",\"\",INDIRECT(\"男子部員名簿!$C\"&$M10+1))","v":""},{"$f":"IF($M10=\"\",\"\",INDIRECT(\"男子部員名簿!$I\"&$M10+1))","v":""}]
[null,{"$f":"IF($M11=\"\",\"\",INDIRECT(\"男子部員名簿!$E\"&$M11+1))","v":""},{"$f":"IF($M11=\"\",\"\",INDIRECT(\"男子部員名簿!$F\"&$M11+1))","v":""},{"$f":"IF($M11=\"\",\"\",INDIRECT(\"男子部員名簿!$C\"&$M11+1))","v":""},{"$f":"IF($M11=\"\",\"\",INDIRECT(\"男子部員名簿!$I\"&$M11+1))","v":""}]
[2,"","","",""]
[null,"","","",""]
[3,"","","",""]
[null,"","","",""]
[4,"","","",""]
[null,"","","",""]
[5,"","","",""]
[null,"","","",""]
[6,"","","",""]
[null,"","","",""]
[7,"","","",""]
[null,"","","",""]
[8,"","","",""]
[null,"","","",""]
[9,"","","",""]
[null,"","","",""]
[10,"","","",""]
[null,"","","",""]
[{"$f":"設定情報!$B$1","v":"2022-04-01"}]
[]
["*個人戦シングルス"]
[{"$f":"設定情報!$B$2","v":"2022-05-05"}]
[]
["学校名",{"$f":"男子登録用紙!C5","v":""},null,null,null,null,null,null,"男子"]
["校内順位","選手氏名",null,"学年","生年月日","出場資格(○をつけてください)"]
[null,null,null,null,null,"新人戦成績",null,null,null,null,"地区代表",null,"部員名簿のNo欄の番号を入力してください。"]
[null,null,null,null,null,1,2,4,8,16,null,null,"↓"]
[1,{"$f":"IF($M39=\"\",\"\",INDIRECT(\"男子部員名簿!$E\"&$M39+1))","v":""},{"$f":"IF($M39=\"\",\"\",INDIRECT(\"男子部員名簿!$F\"&$M39+1))","v":""},{"$f":"IF($M39=\"\",\"\",INDIRECT(\"男子部員名簿!$C\"&$M39+1))","v":""},{"$f":"IF($M39=\"\",\"\",INDIRECT(\"男子部員名簿!$I\"&$M39+1))","v":""}]
[2,"","","",""]
[3,"","","",""]
[4,"","","",""]
[5,"","","",""]
[6,"","","",""]
[7,"","","",""]
[8,"","","",""]
[9,"","","",""]
[10,"","","",""]
[11,"","","",""]
[12,"","","",""]
[13,"","","",""]
[14,"","","",""]
[15,"","","",""]
[16,"","","",""]
[17,"","","",""]
[18,"","","",""]
[19,"","","",""]
[20,"","","",""]

{"sheet":"県春季女子エントリー用紙","index":13,"n_rows":58,"n_cols":13,"rows_kept":58,"cut":false,"hidden":false,"merged":[[17,0,18,0],[19,0,20,0],[9,0,10,0],[11,0,12,0],[3,0,3,11],[13,0,14,0],[15,0,16,0],[13,10,14,10],[9,11,10,11],[9,10,10,10],[15,10,16,10],[15,11,16,11],[11,10,12,10],[11,11,12,11],[13,11,14,11],[17,10,18,10],[0,0,0,11],[5,8,5,11],[6,5,6,11],[7,11,8,11],[6,0,8,0],[7,10,8,10],[6,3,8,3],[6,4,8,4],[7,5,7,9],[5,1,5,7],[6,1,8,2],[25,11,26,11],[21,10,22,10],[23,10,24,10],[23,11,24,11],[21,11,22,11],[17,11,18,11],[19,10,20,10],[19,11,20,11],[42,10,42,11],[29,0,29,11],[27,0,28,0],[32,0,32,11],[21,0,22,0],[35,0,37,0],[35,3,37,3],[35,1,37,2],[35,4,37,4],[25,0,26,0],[34,8,34,11],[34,1,34,7],[23,0,24,0],[35,5,35,11],[40,10,40,11],[41,10,41,11],[36,5,36,9],[57,10,57,11],[53,10,53,11],[54,10,54,11],[55,10,55,11],[56,10,56,11],[27,10,28,10],[27,11,28,11],[25,10,26,10],[52,10,52,11],[44,10,44,11],[45,10,45,11],[46,10,46,11],[47,10,47,11],[48,10,48,11],[49,10,49,11],[50,10,50,11],[51,10,51,11],[43,10,43,11],[36,10,37,11],[38,10,38,11],[39,10,39,11]]}
[{"$f":"設定情報!$B$1","v":"2022-04-01"}]
[]
["*個人戦ダブルス"]
[{"$f":"設定情報!$B$2","v":"2022-05-05"}]
[]
["学校名",{"$f":"女子登録用紙!C5","v":""},null,null,null,null,null,null,"女子"]
["校内順位","選手氏名",null,"学年","生年月日","出場資格(○をつけてください)"]
[null,null,null,null,null,"新人戦成績",null,null,null,null,"地区代表","学校代表","部員名簿のNo欄の番号を入力してください。"]
[null,null,null,null,null,1,2,4,8,16,null,null,"↓"]
[1,{"$f":"IF($M10=\"\",\"\",INDIRECT(\"女子部員名簿!$E\"&$M10+1))","v":""},{"$f":"IF($M10=\"\",\"\",INDIRECT(\"女子部員名簿!$F\"&$M10+1))","v":""},{"$f":"IF($M10=\"\",\"\",INDIRECT(\"女子部員名簿!$C\"&$M10+1))","v":""},{"$f":"IF($M10=\"\",\"\",INDIRECT(\"女子部員名簿!$I\"&$M10+1))","v":""}]
[null,{"$f":"IF($M11=\"\",\"\",INDIRECT(\"女子部員名簿!$E\"&$M11+1))","v":""},{"$f":"IF($M11=\"\",\"\",INDIRECT(\"女子部員名簿!$F\"&$M11+1))","v":""},{"$f":"IF($M11=\"\",\"\",INDIRECT(\"女子部員名簿!$C\"&$M11+1))","v":""},{"$f":"IF($M11=\"\",\"\",INDIRECT(\"女子部員名簿!$I\"&$M11+1))","v":""}]
[2,"","","",""]
[null,"","","",""]
[3,"","","",""]
[null,"","","",""]
[4,"","","",""]
[null,"","","",""]
[5,"","","",""]
[null,"","","",""]
[6,"","","",""]
[null,"","","",""]
[7,"","","",""]
[null,"","","",""]
[8,"","","",""]
[null,"","","",""]
[9,"","","",""]
[null,"","","",""]
[10,"","","",""]
[null,"","","",""]
[{"$f":"設定情報!$B$1","v":"2022-04-01"}]
[]
["*個人戦シングルス"]
[{"$f":"設定情報!$B$2","v":"2022-05-05"}]
[]
["学校名",{"$f":"女子登録用紙!C5","v":""},null,null,null,null,null,null,"女子"]
["校内順位","選手氏名",null,"学年","生年月日","出場資格(○をつけてください)"]
[null,null,null,null,null,"新人戦成績",null,null,null,null,"地区代表",null,"部員名簿のNo欄の番号を入力してください。"]
[null,null,null,null,null,1,2,4,8,16,null,null,"↓"]
[1,{"$f":"IF($M39=\"\",\"\",INDIRECT(\"女子部員名簿!$E\"&$M39+1))","v":""},{"$f":"IF($M39=\"\",\"\",INDIRECT(\"女子部員名簿!$F\"&$M39+1))","v":""},{"$f":"IF($M39=\"\",\"\",INDIRECT(\"女子部員名簿!$C\"&$M39+1))","v":""},{"$f":"IF($M39=\"\",\"\",INDIRECT(\"女子部員名簿!$I\"&$M39+1))","v":""}]
[2,"","","",""]
[3,"","","",""]
[4,"","","",""]
[5,"","","",""]
[6,"","","",""]
[7,"","","",""]
[8,"","","",""]
[9,"","","",""]
[10,"","","",""]
[11,"","","",""]
[12,"","","",""]
[13,"","","",""]
[14,"","","",""]
[15,"","","",""]
[16,"","","",""]
[17,"","","",""]
[18,"","","",""]
[19,"","","",""]
[20,"","","",""]

{"sheet":"総体男子団体エントリー用紙","index":14,"n_rows":16,"n_cols":11,"rows_kept":16,"cut":false,"hidden":false,"merged":[[5,1,5,7],[6,1,6,9],[15,1,15,6],[0,0,0,9],[5,8,5,9],[8,5,8,9],[7,5,7,9],[7,0,9,0],[7,3,9,3],[7,4,9,4],[7,1,9,2],[3,0,3,9]]}
[{"$f":"設定情報!$B$1","v":"2022-04-01"}]
[]
["　　*　実施要項の \"７　競技方法\" および \"１０　エントリー方法\" を熟読の上、記入すること。"]
[{"$f":"設定情報!$B$3","v":"2022-05-24"}]
[]
["学校名",{"$f":"男子登録用紙!C5","v":""},null,null,null,null,null,null,"男"]
["監督名",{"$f":"男子登録用紙!K4& \"・\"&男子登録用紙!K5","v":"・"}]
["選手番号(順位)","選手氏名",null,"学年","生年月日"," 個人戦シングルス出場資格 　　(あてはまる欄には必ず○をつけてください)"]
[null,null,null,null,null,"春季大会成績",null,null,null,null,"部員名簿のNo欄の番号を入力してください。"]
[null,null,null,null,null,1,2,4,8,16,"〇"]
[1,{"$f":"IF($K11=\"\",\"\",INDIRECT(\"男子部員名簿!$E\"&$K11+1))","v":""},{"$f":"IF($K11=\"\",\"\",INDIRECT(\"男子部員名簿!$F\"&$K11+1))","v":""},{"$f":"IF($K11=\"\",\"\",INDIRECT(\"男子部員名簿!$C\"&$K11+1))","v":""},{"$f":"IF($K11=\"\",\"\",INDIRECT(\"男子部員名簿!$I\"&$K11+1))","v":""}]
[2,{"$f":"IF($K12=\"\",\"\",INDIRECT(\"男子部員名簿!$E\"&$K12+1))","v":""},{"$f":"IF($K12=\"\",\"\",INDIRECT(\"男子部員名簿!$F\"&$K12+1))","v":""},{"$f":"IF($K12=\"\",\"\",INDIRECT(\"男子部員名簿!$C\"&$K12+1))","v":""},{"$f":"IF($K12=\"\",\"\",INDIRECT(\"男子部員名簿!$I\"&$K12+1))","v":""}]
[3,"","","",""]
[4,"","","",""]
[5,"","","",""]
["申込み責任者",{"$f":"男子登録用紙!K5","v":""},null,null,null,null,null,"印"]

{"sheet":"総体女子団体エントリー用紙","index":15,"n_rows":16,"n_cols":11,"rows_kept":16,"cut":false,"hidden":false,"merged":[[7,4,9,4],[5,1,5,7],[6,1,6,9],[15,1,15,6],[0,0,0,9],[5,8,5,9],[8,5,8,9],[7,5,7,9],[7,0,9,0],[7,3,9,3],[7,1,9,2],[3,0,3,9]]}
[{"$f":"設定情報!$B$1","v":"2022-04-01"}]
[]
["　　*　実施要項の \"７　競技方法\" および \"１０　エントリー方法\" を熟読の上、記入すること。"]
[{"$f":"設定情報!$B$3","v":"2022-05-24"}]
[]
["学校名",{"$f":"女子登録用紙!C5","v":""},null,null,null,null,null,null,"女"]
["監督名",{"$f":"女子登録用紙!K4 & \"・\"&女子登録用紙!K6","v":"・"}]
["選手番号(順位)","選手氏名",null,"学年","生年月日"," 個人戦シングルス出場資格 　　(あてはまる欄には必ず○をつけてください)"]
[null,null,null,null,null,"春季大会成績",null,null,null,null,"部員名簿のNo欄の番号を入力してください。"]
[null,null,null,null,null,1,2,4,8,16,"↓"]
[1,{"$f":"IF($K11=\"\",\"\",INDIRECT(\"女子部員名簿!$E\"&$K11+1))","v":""},{"$f":"IF($K11=\"\",\"\",INDIRECT(\"女子部員名簿!$F\"&$K11+1))","v":""},{"$f":"IF($K11=\"\",\"\",INDIRECT(\"女子部員名簿!$C\"&$K11+1))","v":""},{"$f":"IF($K11=\"\",\"\",INDIRECT(\"女子部員名簿!$I\"&$K11+1))","v":""}]
[2,{"$f":"IF($K12=\"\",\"\",INDIRECT(\"女子部員名簿!$E\"&$K12+1))","v":""},{"$f":"IF($K12=\"\",\"\",INDIRECT(\"女子部員名簿!$F\"&$K12+1))","v":""},{"$f":"IF($K12=\"\",\"\",INDIRECT(\"女子部員名簿!$C\"&$K12+1))","v":""},{"$f":"IF($K12=\"\",\"\",INDIRECT(\"女子部員名簿!$I\"&$K12+1))","v":""}]
[3,"","","",""]
[4,"","","",""]
[5,"","","",""]
["申込み責任者",{"$f":"女子登録用紙!K4","v":""},null,null,null,null,null,"印"]

{"sheet":"総体男子個人戦エントリー用紙","index":16,"n_rows":58,"n_cols":12,"rows_kept":58,"cut":false,"hidden":false,"merged":[[23,10,24,10],[13,10,14,10],[15,10,16,10],[17,10,18,10],[19,10,20,10],[21,10,22,10],[35,0,37,0],[35,3,37,3],[35,4,37,4],[34,1,34,7],[25,10,26,10],[27,10,28,10],[32,0,32,10],[35,1,37,2],[29,0,29,10],[34,8,34,10],[35,5,35,10],[36,5,36,9],[36,10,37,10],[0,0,0,10],[5,8,5,10],[9,0,10,0],[11,0,12,0],[7,10,8,10],[7,5,7,9],[6,5,6,10],[5,1,5,7],[9,10,10,10],[11,10,12,10],[6,3,8,3],[6,4,8,4],[6,0,8,0],[3,0,3,10],[6,1,8,2],[15,0,16,0],[13,0,14,0],[27,0,28,0],[25,0,26,0],[17,0,18,0],[19,0,20,0],[21,0,22,0],[23,0,24,0]]}
[{"$f":"設定情報!$B$1","v":"2022-04-01"}]
[]
["*個人戦ダブルス"]
[{"$f":"設定情報!$B$3","v":"2022-05-24"}]
[]
["学校名",{"$f":"男子登録用紙!C5","v":""},null,null,null,null,null,null,"男子"]
["校内順位","選手氏名",null,"学年","生年月日","出場資格(○をつけてください)"]
[null,null,null,null,null,"ダブルス県春季大会成績",null,null,null,null,"学校\n代表","部員名簿のNo欄の番号を入力してください。"]
[null,null,null,null,null,1,2,4,8,16,null,"↓"]
[1,{"$f":"IF($L10=\"\",\"\",INDIRECT(\"男子部員名簿!$E\"&$L10+1))","v":""},{"$f":"IF($L10=\"\",\"\",INDIRECT(\"男子部員名簿!$F\"&$L10+1))","v":""},{"$f":"IF($L10=\"\",\"\",INDIRECT(\"男子部員名簿!$C\"&$L10+1))","v":""},{"$f":"IF($L10=\"\",\"\",INDIRECT(\"男子部員名簿!$I\"&$L10+1))","v":""}]
[null,{"$f":"IF($L11=\"\",\"\",INDIRECT(\"男子部員名簿!$E\"&$L11+1))","v":""},{"$f":"IF($L11=\"\",\"\",INDIRECT(\"男子部員名簿!$F\"&$L11+1))","v":""},{"$f":"IF($L11=\"\",\"\",INDIRECT(\"男子部員名簿!$C\"&$L11+1))","v":""},{"$f":"IF($L11=\"\",\"\",INDIRECT(\"男子部員名簿!$I\"&$L11+1))","v":""}]
[2,"","","",""]
[null,"","","",""]
[3,"","","",""]
[null,"","","",""]
[4,"","","",""]
[null,"","","",""]
[5,"","","",""]
[null,"","","",""]
[6,"","","",""]
[null,"","","",""]
[7,"","","",""]
[null,"","","",""]
[8,"","","",""]
[null,"","","",""]
[9,"","","",""]
[null,"","","",""]
[10,"","","",""]
[null,"","","",""]
[{"$f":"設定情報!$B$1","v":"2022-04-01"}]
[]
["*個人戦シングルス"]
[{"$f":"設定情報!$B$3","v":"2022-05-24"}]
[]
["学校名",{"$f":"男子登録用紙!C5","v":""},null,null,null,null,null,null,"男子"]
["校内順位","選手氏名",null,"学年","生年月日","出場資格(○をつけてください)"]
[null,null,null,null,null,"シングルス県春季大会成績",null,null,null,null,"学校\n代表","部員名簿のNo欄の番号を入力してください。"]
[null,null,null,null,null,1,2,4,8,16,null,"↓"]
[1,{"$f":"IF($L39=\"\",\"\",INDIRECT(\"男子部員名簿!$E\"&$L39+1))","v":""},{"$f":"IF($L39=\"\",\"\",INDIRECT(\"男子部員名簿!$F\"&$L39+1))","v":""},{"$f":"IF($L39=\"\",\"\",INDIRECT(\"男子部員名簿!$C\"&$L39+1))","v":""},{"$f":"IF($L39=\"\",\"\",INDIRECT(\"男子部員名簿!$I\"&$L39+1))","v":""}]
[2,"","","",""]
[3,"","","",""]
[4,"","","",""]
[5,"","","",""]
[6,"","","",""]
[7,"","","",""]
[8,"","","",""]
[9,"","","",""]
[10,"","","",""]
[11,"","","",""]
[12,"","","",""]
[13,"","","",""]
[14,"","","",""]
[15,"","","",""]
[16,"","","",""]
[17,"","","",""]
[18,"","","",""]
[19,"","","",""]
[20,"","","",""]

{"sheet":"総体女子個人戦エントリー用紙","index":17,"n_rows":58,"n_cols":12,"rows_kept":58,"cut":false,"hidden":false,"merged":[[0,0,0,10],[5,8,5,10],[9,0,10,0],[11,0,12,0],[7,10,8,10],[11,10,12,10],[6,3,8,3],[6,4,8,4],[6,0,8,0],[3,0,3,10],[15,0,16,0],[7,5,7,9],[6,5,6,10],[5,1,5,7],[9,10,10,10],[13,0,14,0],[6,1,8,2],[27,0,28,0],[25,0,26,0],[17,0,18,0],[19,0,20,0],[21,0,22,0],[23,0,24,0],[29,0,29,10],[34,8,34,10],[35,5,35,10],[36,5,36,9],[36,10,37,10],[35,0,37,0],[35,3,37,3],[35,4,37,4],[34,1,34,7],[35,1,37,2],[32,0,32,10],[21,10,22,10],[23,10,24,10],[25,10,26,10],[27,10,28,10],[13,10,14,10],[15,10,16,10],[17,10,18,10],[19,10,20,10]]}
[{"$f":"設定情報!$B$1","v":"2022-04-01"}]
[]
["*個人戦ダブルス"]
[{"$f":"設定情報!$B$3","v":"2022-05-24"}]
[]
["学校名",{"$f":"女子登録用紙!C5","v":""},null,null,null,null,null,null,"女子"]
["校内順位","選手氏名",null,"学年","生年月日","出場資格(○をつけてください)"]
[null,null,null,null,null,"ダブルス県春季大会成績",null,null,null,null,"学校\n代表","部員名簿のNo欄の番号を入力してください。"]
[null,null,null,null,null,1,2,4,8,16,null,"↓"]
[1,{"$f":"IF($L10=\"\",\"\",INDIRECT(\"女子部員名簿!$E\"&$L10+1))","v":""},{"$f":"IF($L10=\"\",\"\",INDIRECT(\"女子部員名簿!$F\"&$L10+1))","v":""},{"$f":"IF($L10=\"\",\"\",INDIRECT(\"女子部員名簿!$C\"&$L10+1))","v":""},{"$f":"IF($L10=\"\",\"\",INDIRECT(\"女子部員名簿!$I\"&$L10+1))","v":""}]
[null,{"$f":"IF($L11=\"\",\"\",INDIRECT(\"女子部員名簿!$E\"&$L11+1))","v":""},{"$f":"IF($L11=\"\",\"\",INDIRECT(\"女子部員名簿!$F\"&$L11+1))","v":""},{"$f":"IF($L11=\"\",\"\",INDIRECT(\"女子部員名簿!$C\"&$L11+1))","v":""},{"$f":"IF($L11=\"\",\"\",INDIRECT(\"女子部員名簿!$I\"&$L11+1))","v":""}]
[2,"","","",""]
[null,"","","",""]
[3,"","","",""]
[null,"","","",""]
[4,"","","",""]
[null,"","","",""]
[5,"","","",""]
[null,"","","",""]
[6,"","","",""]
[null,"","","",""]
[7,"","","",""]
[null,"","","",""]
[8,"","","",""]
[null,"","","",""]
[9,"","","",""]
[null,"","","",""]
[10,"","","",""]
[null,"","","",""]
[{"$f":"設定情報!$B$1","v":"2022-04-01"}]
[]
["*個人戦シングルス"]
[{"$f":"設定情報!$B$3","v":"2022-05-24"}]
[]
["学校名",{"$f":"女子登録用紙!C5","v":""},null,null,null,null,null,null,"女子"]
["校内順位","選手氏名",null,"学年","生年月日","出場資格(○をつけてください)"]
[null,null,null,null,null,"シングルス県春季大会成績",null,null,null,null,"学校\n代表","部員名簿のNo欄の番号を入力してください。"]
[null,null,null,null,null,1,2,4,8,16,null,"↓"]
[1,{"$f":"IF($L39=\"\",\"\",INDIRECT(\"女子部員名簿!$E\"&$L39+1))","v":""},{"$f":"IF($L39=\"\",\"\",INDIRECT(\"女子部員名簿!$F\"&$L39+1))","v":""},{"$f":"IF($L39=\"\",\"\",INDIRECT(\"女子部員名簿!$C\"&$L39+1))","v":""},{"$f":"IF($L39=\"\",\"\",INDIRECT(\"女子部員名簿!$I\"&$L39+1))","v":""}]
[2,"","","",""]
[3,"","","",""]
[4,"","","",""]
[5,"","","",""]
[6,"","","",""]
[7,"","","",""]
[8,"","","",""]
[9,"","","",""]
[10,"","","",""]
[11,"","","",""]
[12,"","","",""]
[13,"","","",""]
[14,"","","",""]
[15,"","","",""]
[16,"","","",""]
[17,"","","",""]
[18,"","","",""]
[19,"","","",""]
[20,"","","",""]

{"sheet":"新人戦地区予選男子エントリー用紙","index":18,"n_rows":52,"n_cols":8,"rows_kept":52,"cut":false,"hidden":false,"merged":[[31,1,31,2],[0,0,0,5],[26,0,26,5],[4,1,4,4],[30,1,30,4],[6,0,7,0],[8,0,9,0],[10,0,11,0],[12,0,13,0],[24,0,25,0],[22,0,23,0],[14,0,15,0],[16,0,17,0],[18,0,19,0],[20,0,21,0],[5,1,5,2]]}
[{"$f":"設定情報!$B$1","v":"2022-04-01"}]
[]
["*個人戦ダブルス(各地区の申込期限を厳守のこと)"]
[]
["学校名",{"$f":"春季地区予選男子エントリー用紙!$B$5","v":""},null,null,null,"男",null,"部員名簿のNo欄の番号を入力してください。"]
["校内順位","選手氏名",null,"学年","生年月日","主な大会成績",null,"↓"]
[1,{"$f":"IF($H7=\"\",\"\",INDIRECT(\"男子部員名簿!$E\"&$H7+1))","v":""},{"$f":"IF($H7=\"\",\"\",INDIRECT(\"男子部員名簿!$F\"&$H7+1))","v":""},{"$f":"IF($H7=\"\",\"\",INDIRECT(\"男子部員名簿!$C\"&$H7+1))","v":""},{"$f":"IF($H7=\"\",\"\",INDIRECT(\"男子部員名簿!$I\"&$H7+1))","v":""}]
[null,{"$f":"IF($H8=\"\",\"\",INDIRECT(\"男子部員名簿!$E\"&$H8+1))","v":""},{"$f":"IF($H8=\"\",\"\",INDIRECT(\"男子部員名簿!$F\"&$H8+1))","v":""},{"$f":"IF($H8=\"\",\"\",INDIRECT(\"男子部員名簿!$C\"&$H8+1))","v":""},{"$f":"IF($H8=\"\",\"\",INDIRECT(\"男子部員名簿!$I\"&$H8+1))","v":""}]
[2,"","","",""]
[null,"","","",""]
[3,"","","",""]
[null,"","","",""]
[4,"","","",""]
[null,"","","",""]
[5,"","","",""]
[null,"","","",""]
[6,"","","",""]
[null,"","","",""]
[7,"","","",""]
[null,"","","",""]
[8,"","","",""]
[null,"","","",""]
[9,"","","",""]
[null,"","","",""]
[10,"","","",""]
[null,"","","",""]
[{"$f":"設定情報!$B$1","v":"2022-04-01"}]
[]
["*個人戦シングルス(各地区の申込期限を厳守のこと)"]
[]
["学校名",{"$f":"男子登録用紙!C5","v":""},null,null,null,"男",null,"部員名簿のNo欄の番号を入力してください。"]
["校内順位","選手氏名",null,"学年","生年月日","主な大会成績",null,"↓"]
[1,{"$f":"IF($H33=\"\",\"\",INDIRECT(\"男子部員名簿!$E\"&$H33+1))","v":""},{"$f":"IF($H33=\"\",\"\",INDIRECT(\"男子部員名簿!$F\"&$H33+1))","v":""},{"$f":"IF($H33=\"\",\"\",INDIRECT(\"男子部員名簿!$C\"&$H33+1))","v":""},{"$f":"IF($H33=\"\",\"\",INDIRECT(\"男子部員名簿!$I\"&$H33+1))","v":""}]
[2,"","","",""]
[3,"","","",""]
[4,"","","",""]
[5,"","","",""]
[6,"","","",""]
[7,"","","",""]
[8,"","","",""]
[9,"","","",""]
[10,"","","",""]
[11,"","","",""]
[12,"","","",""]
[13,"","","",""]
[14,"","","",""]
[15,"","","",""]
[16,"","","",""]
[17,"","","",""]
[18,"","","",""]
[19,"","","",""]
[20,"","","",""]

{"sheet":"新人戦地区予選女子エントリー用紙","index":19,"n_rows":52,"n_cols":8,"rows_kept":52,"cut":false,"hidden":false,"merged":[[31,1,31,2],[0,0,0,5],[26,0,26,5],[4,1,4,4],[30,1,30,4],[24,0,25,0],[22,0,23,0],[14,0,15,0],[16,0,17,0],[18,0,19,0],[20,0,21,0],[6,0,7,0],[8,0,9,0],[10,0,11,0],[12,0,13,0],[5,1,5,2]]}
[{"$f":"設定情報!$B$1","v":"2022-04-01"}]
[]
["*個人戦ダブルス(各地区の申込期限を厳守のこと)"]
[]
["学校名",{"$f":"女子登録用紙!C5","v":""},null,null,null,"女",null,"部員名簿のNo欄の番号を入力してください。"]
["校内順位","選手氏名",null,"学年","生年月日","主な大会成績",null,"↓"]
[1,{"$f":"IF($H7=\"\",\"\",INDIRECT(\"女子部員名簿!$E\"&$H7+1))","v":""},{"$f":"IF($H7=\"\",\"\",INDIRECT(\"女子部員名簿!$F\"&$H7+1))","v":""},{"$f":"IF($H7=\"\",\"\",INDIRECT(\"女子部員名簿!$C\"&$H7+1))","v":""},{"$f":"IF($H7=\"\",\"\",INDIRECT(\"女子部員名簿!$I\"&$H7+1))","v":""}]
[null,{"$f":"IF($H8=\"\",\"\",INDIRECT(\"女子部員名簿!$E\"&$H8+1))","v":""},{"$f":"IF($H8=\"\",\"\",INDIRECT(\"女子部員名簿!$F\"&$H8+1))","v":""},{"$f":"IF($H8=\"\",\"\",INDIRECT(\"女子部員名簿!$C\"&$H8+1))","v":""},{"$f":"IF($H8=\"\",\"\",INDIRECT(\"女子部員名簿!$I\"&$H8+1))","v":""}]
[2,"","","",""]
[null,"","","",""]
[3,"","","",""]
[null,"","","",""]
[4,"","","",""]
[null,"","","",""]
[5,"","","",""]
[null,"","","",""]
[6,"","","",""]
[null,"","","",""]
[7,"","","",""]
[null,"","","",""]
[8,"","","",""]
[null,"","","",""]
[9,"","","",""]
[null,"","","",""]
[10,"","","",""]
[null,"","","",""]
[{"$f":"設定情報!$B$1","v":"2022-04-01"}]
[]
["*個人戦シングルス(各地区の申込期限を厳守のこと)"]
[]
["学校名",{"$f":"女子登録用紙!C5","v":""},null,null,null,"女",null,"部員名簿のNo欄の番号を入力してください。"]
["校内順位","選手氏名",null,"学年","生年月日","主な大会成績",null,"↓"]
[1,{"$f":"IF($H33=\"\",\"\",INDIRECT(\"女子部員名簿!$E\"&$H33+1))","v":0},{"$f":"IF($H33=\"\",\"\",INDIRECT(\"女子部員名簿!$F\"&$H33+1))","v":0},{"$f":"IF($H33=\"\",\"\",INDIRECT(\"女子部員名簿!$C\"&$H33+1))","v":0},{"$f":"IF($H33=\"\",\"\",INDIRECT(\"女子部員名簿!$I\"&$H33+1))","v":"00:00:00"},null,null,1]
[2,0,0,0,"00:00:00",null,null,2]
[3,"","","",""]
[4,"","","",""]
[5,"","","",""]
[6,"","","",""]
[7,"","","",""]
[8,"","","",""]
[9,"","","",""]
[10,"","","",""]
[11,"","","",""]
[12,"","","",""]
[13,"","","",""]
[14,"","","",""]
[15,"","","",""]
[16,"","","",""]
[17,"","","",""]
[18,"","","",""]
[19,"","","",""]
[20,"","","",""]

{"sheet":"新人戦男子エントリー用紙","index":20,"n_rows":78,"n_cols":13,"rows_kept":78,"cut":false,"hidden":false,"merged":[[32,0,32,10],[62,0,62,10],[58,0,58,10],[63,1,63,7],[65,0,67,0],[65,1,67,2],[65,4,67,4],[65,3,67,3],[64,1,64,10],[35,5,35,10],[36,5,36,9],[36,10,37,10],[6,1,8,2],[21,10,22,10],[15,0,16,0],[15,10,16,10],[17,10,18,10],[19,10,20,10],[77,1,77,7],[63,8,63,10],[66,5,66,9],[66,10,67,10],[23,0,24,0],[34,1,34,7],[25,10,26,10],[27,10,28,10],[34,8,34,10],[35,0,37,0],[35,3,37,3],[35,4,37,4],[23,10,24,10],[29,0,29,10],[35,1,37,2],[65,5,65,10],[0,0,0,10],[5,8,5,10],[9,10,10,10],[11,10,12,10],[13,10,14,10],[6,4,8,4],[7,5,7,9],[9,0,10,0],[11,0,12,0],[5,1,5,7],[6,0,8,0],[6,3,8,3],[3,0,3,10],[6,5,6,10],[7,10,8,10],[13,0,14,0],[27,0,28,0],[25,0,26,0],[17,0,18,0],[19,0,20,0],[21,0,22,0]]}
[{"$f":"設定情報!$B$1","v":"2022-04-01"}]
[]
["*個人戦ダブルス"]
[{"$f":"設定情報!$B$4","v":"2022-09-06"}]
[]
["学校名",{"$f":"男子登録用紙!C5","v":""},null,null,null,null,null,null,"男"]
["校内順位","選手氏名",null,"学年","生年月日","出場資格(○をつけてください)"]
[null,null,null,null,null,"総体成績",null,null,null,null,"地区代表",null,"部員名簿のNo欄の番号を入力してください。"]
[null,null,null,null,null,1,2,4,8,16,null,null,"↓"]
[1,{"$f":"IF($M10=\"\",\"\",INDIRECT(\"男子部員名簿!$E\"&$M10+1))","v":""},{"$f":"IF($M10=\"\",\"\",INDIRECT(\"男子部員名簿!$F\"&$M10+1))","v":""},{"$f":"IF($M10=\"\",\"\",INDIRECT(\"男子部員名簿!$C\"&$M10+1))","v":""},{"$f":"IF($M10=\"\",\"\",INDIRECT(\"男子部員名簿!$I\"&$M10+1))","v":""},null,null,null,null,null,"〇"]
[null,{"$f":"IF($M11=\"\",\"\",INDIRECT(\"男子部員名簿!$E\"&$M11+1))","v":""},{"$f":"IF($M11=\"\",\"\",INDIRECT(\"男子部員名簿!$F\"&$M11+1))","v":""},{"$f":"IF($M11=\"\",\"\",INDIRECT(\"男子部員名簿!$C\"&$M11+1))","v":""},{"$f":"IF($M11=\"\",\"\",INDIRECT(\"男子部員名簿!$I\"&$M11+1))","v":""}]
[2,"","","","",null,null,null,null,null,"〇"]
[null,"","","",""]
[3,"","","","",null,null,null,null,null,"〇"]
[null,"","","",""]
[4,"","","",""]
[null,"","","",""]
[5,"","","",""]
[null,"","","",""]
[6,"","","",""]
[null,"","","",""]
[7,"","","",""]
[null,"","","",""]
[8,"","","",""]
[null,"","","",""]
[9,"","","",""]
[null,"","","",""]
[10,"","","",""]
[null,"","","",""]
[{"$f":"設定情報!$B$1","v":"2022-04-01"}]
[]
["*個人戦シングルス"]
[{"$f":"設定情報!$B$4","v":"2022-09-06"}]
[]
["学校名",{"$f":"男子登録用紙!C5","v":""},null,null,null,null,null,null,"男"]
["校内順位","選手氏名",null,"学年","生年月日","出場資格(○をつけてください)"]
[null,null,null,null,null,"総体成績",null,null,null,null,"地区代表",null,"部員名簿のNo欄の番号を入力してください。"]
[null,null,null,null,null,1,2,4,8,16,null,null,"↓"]
[1,{"$f":"IF($M39=\"\",\"\",INDIRECT(\"男子部員名簿!$E\"&$M39+1))","v":""},{"$f":"IF($M39=\"\",\"\",INDIRECT(\"男子部員名簿!$F\"&$M39+1))","v":""},{"$f":"IF($M39=\"\",\"\",INDIRECT(\"男子部員名簿!$C\"&$M39+1))","v":""},{"$f":"IF($M39=\"\",\"\",INDIRECT(\"男子部員名簿!$I\"&$M39+1))","v":""},null,null,null,null,null,"〇"]
[2,"","","","",null,null,null,null,null,"〇"]
[3,"","","","",null,null,null,null,null,"〇"]
[4,"","","",""]
[5,"","","",""]
[6,"","","",""]
[7,"","","",""]
[8,"","","",""]
[9,"","","",""]
[10,"","","",""]
[11,"","","",""]
[12,"","","",""]
[13,"","","",""]
[14,"","","",""]
[15,"","","",""]
[16,"","","",""]
[17,"","","",""]
[18,"","","",""]
[19,"","","",""]
[20,"","","",""]
[{"$f":"男子登録用紙!D1","v":2022}]
[]
["注　意"]
["　　*　実施要項の \"６　競技方法\" および \"９　エントリー方法\" を熟読の上、記入すること。"]
[{"$f":"設定情報!$B$4","v":"2022-09-06"}]
["学校名",{"$f":"男子登録用紙!C5","v":""},null,null,null,null,null,null,"男"]
["監督名",{"$f":"男子登録用紙!K4&\"・\"&男子登録用紙!K5","v":"・"}]
["選手番号   (順位)","選手氏名",null,"学年","生年月日","シングルス個人出場資格　　　(あてはまる欄には必ず○をつけてください)"]
[null,null,null,null,null,"総体成績",null,null,null,null,"地区代表"]
[null,null,null,null,null,1,2,4,8,16]
[1,{"$f":"IF($M69=\"\",\"\",INDIRECT(\"男子部員名簿!$E\"&$M69+1))","v":""},{"$f":"IF($M69=\"\",\"\",INDIRECT(\"男子部員名簿!$F\"&$M69+1))","v":""},{"$f":"IF($M69=\"\",\"\",INDIRECT(\"男子部員名簿!$C\"&$M69+1))","v":""},{"$f":"IF($M69=\"\",\"\",INDIRECT(\"男子部員名簿!$I\"&$M69+1))","v":""}]
[2,"","","",""]
[3,"","","",""]
[4,"","","",""]
[5,"","","",""]
[6,"","","",""]
[7,"","","",""]
[8,"","","",""]
[9,"","","",""]
["申込み責任者",{"$f":"男子登録用紙!K5","v":""},null,null,null,null,null,null,"印"]

{"sheet":"新人戦女子エントリー用紙","index":21,"n_rows":78,"n_cols":13,"rows_kept":78,"cut":false,"hidden":false,"merged":[[29,0,29,10],[34,8,34,10],[35,0,37,0],[34,1,34,7],[25,0,26,0],[36,5,36,9],[27,0,28,0],[25,10,26,10],[27,10,28,10],[35,5,35,10],[35,3,37,3],[36,10,37,10],[35,4,37,4],[35,1,37,2],[32,0,32,10],[23,0,24,0],[6,5,6,10],[13,0,14,0],[23,10,24,10],[6,0,8,0],[7,5,7,9],[17,10,18,10],[19,10,20,10],[21,10,22,10],[17,0,18,0],[15,10,16,10],[19,0,20,0],[9,0,10,0],[15,0,16,0],[21,0,22,0],[0,0,0,10],[5,8,5,10],[9,10,10,10],[11,10,12,10],[13,10,14,10],[5,1,5,7],[11,0,12,0],[7,10,8,10],[6,3,8,3],[6,4,8,4],[6,1,8,2],[3,0,3,10],[77,1,77,7],[63,8,63,10],[66,5,66,9],[66,10,67,10],[58,0,58,10],[65,0,67,0],[65,5,65,10],[65,1,67,2],[65,4,67,4],[65,3,67,3],[63,1,63,7],[64,1,64,10],[62,0,62,10]]}
[{"$f":"設定情報!$B$1","v":"2022-04-01"}]
[]
["*個人戦ダブルス"]
[{"$f":"設定情報!$B$4","v":"2022-09-06"}]
[]
["学校名",{"$f":"女子登録用紙!C5","v":""},null,null,null,null,null,null,"女"]
["校内順位","選手氏名",null,"学年","生年月日","出場資格(○をつけてください)"]
[null,null,null,null,null,"総体成績",null,null,null,null,"地区代表",null,"部員名簿のNo欄の番号を入力してください。"]
[null,null,null,null,null,1,2,4,8,16,null,null,"↓"]
[1,{"$f":"IF($M10=\"\",\"\",INDIRECT(\"女子部員名簿!$E\"&$M10+1))","v":""},{"$f":"IF($M10=\"\",\"\",INDIRECT(\"女子部員名簿!$F\"&$M10+1))","v":""},{"$f":"IF($M10=\"\",\"\",INDIRECT(\"女子部員名簿!$C\"&$M10+1))","v":""},{"$f":"IF($M10=\"\",\"\",INDIRECT(\"女子部員名簿!$I\"&$M10+1))","v":""}]
[null,{"$f":"IF($M11=\"\",\"\",INDIRECT(\"女子部員名簿!$E\"&$M11+1))","v":""},{"$f":"IF($M11=\"\",\"\",INDIRECT(\"女子部員名簿!$F\"&$M11+1))","v":""},{"$f":"IF($M11=\"\",\"\",INDIRECT(\"女子部員名簿!$C\"&$M11+1))","v":""},{"$f":"IF($M11=\"\",\"\",INDIRECT(\"女子部員名簿!$I\"&$M11+1))","v":""}]
[2,"","","",""]
[null,"","","",""]
[3,"","","",""]
[null,"","","",""]
[4,"","","",""]
[null,"","","",""]
[5,"","","",""]
[null,"","","",""]
[6,"","","",""]
[null,"","","",""]
[7,"","","",""]
[null,"","","",""]
[8,"","","",""]
[null,"","","",""]
[9,"","","",""]
[null,"","","",""]
[10,"","","",""]
[null,"","","",""]
[{"$f":"設定情報!$B$1","v":"2022-04-01"}]
[]
["*個人戦シングルス"]
[{"$f":"設定情報!$B$4","v":"2022-09-06"}]
[]
["学校名",{"$f":"女子登録用紙!C5","v":""},null,null,null,null,null,null,"女"]
["校内順位","選手氏名",null,"学年","生年月日","出場資格(○をつけてください)"]
[null,null,null,null,null,"総体成績",null,null,null,null,"地区代表",null,"部員名簿のNo欄の番号を入力してください。"]
[null,null,null,null,null,1,2,4,8,16,null,null,"↓"]
[1,{"$f":"IF($M39=\"\",\"\",INDIRECT(\"女子部員名簿!$E\"&$M39+1))","v":""},{"$f":"IF($M39=\"\",\"\",INDIRECT(\"女子部員名簿!$F\"&$M39+1))","v":""},{"$f":"IF($M39=\"\",\"\",INDIRECT(\"女子部員名簿!$C\"&$M39+1))","v":""},{"$f":"IF($M39=\"\",\"\",INDIRECT(\"女子部員名簿!$I\"&$M39+1))","v":""}]
[2,"","","",""]
[3,"","","",""]
[4,"","","",""]
[5,"","","",""]
[6,"","","",""]
[7,"","","",""]
[8,"","","",""]
[9,"","","",""]
[10,"","","",""]
[11,"","","",""]
[12,"","","",""]
[13,"","","",""]
[14,"","","",""]
[15,"","","",""]
[16,"","","",""]
[17,"","","",""]
[18,"","","",""]
[19,"","","",""]
[20,"","","",""]
[{"$f":"女子登録用紙!E1","v":0}]
[]
["注　意"]
["　　*　実施要項の \"６　競技方法\" および \"９　エントリー方法\" を熟読の上、記入すること。"]
[{"$f":"設定情報!$B$4","v":"2022-09-06"}]
["学校名",{"$f":"女子登録用紙!C5","v":""},null,null,null,null,null,null,"女"]
["監督名",{"$f":"女子登録用紙!K4&女子登録用紙!K6","v":""}]
["選手番号   (順位)","選手氏名",null,"学年","生年月日","シングルス個人出場資格　　　(あてはまる欄には必ず○をつけてください)"]
[null,null,null,null,null,"総体成績",null,null,null,null,"地区代表"]
[null,null,null,null,null,1,2,4,8,16]
[1,{"$f":"IF($M69=\"\",\"\",INDIRECT(\"女子部員名簿!$E\"&$M69+1))","v":""},{"$f":"IF($M69=\"\",\"\",INDIRECT(\"女子部員名簿!$F\"&$M69+1))","v":""},{"$f":"IF($M69=\"\",\"\",INDIRECT(\"女子部員名簿!$C\"&$M69+1))","v":""},{"$f":"IF($M69=\"\",\"\",INDIRECT(\"女子部員名簿!$I\"&$M69+1))","v":""}]
[2,"","","",""]
[3,"","","",""]
[4,"","","",""]
[5,"","","",""]
[6,"","","",""]
[7,"","","",""]
[8,"","","",""]
[9,"","","",""]
["申込み責任者",{"$f":"女子登録用紙!K4","v":""},null,null,null,null,null,null,"印"]

{"sheet":"室内男子エントリー用紙","index":22,"n_rows":56,"n_cols":12,"rows_kept":56,"cut":false,"hidden":false,"merged":[[8,0,9,0],[10,0,11,0],[26,0,27,0],[24,0,25,0],[16,0,17,0],[34,3,35,3],[34,4,35,4],[12,0,13,0],[14,0,15,0],[33,1,33,7],[34,1,35,2],[18,0,19,0],[20,0,21,0],[22,0,23,0],[34,5,34,9],[28,0,28,9],[33,8,33,9],[34,0,35,0],[31,0,31,9],[0,0,0,9],[5,8,5,9],[6,0,7,0],[6,3,7,3],[6,4,7,4],[5,1,5,7],[6,1,7,2],[6,5,6,9],[3,0,3,9]]}
[{"$f":"設定情報!$B$1","v":"2022-04-01"}]
[]
["*個人戦ダブルス"]
[{"$f":"設定情報!$B$5","v":"2022-12-13"}]
[]
["学校名",{"$f":"男子登録用紙!C5","v":""},null,null,null,null,null,null,"男"]
["校内順位","選手氏名",null,"学年","生年月日","新人戦成績",null,null,null,null,null,"部員名簿のNo欄の番号を入力してください。"]
[null,null,null,null,null,1,2,4,8,16,null,"↓"]
[1,{"$f":"IF($L9=\"\",\"\",INDIRECT(\"男子部員名簿!$E\"&$L9+1))","v":""},{"$f":"IF($L9=\"\",\"\",INDIRECT(\"男子部員名簿!$F\"&$L9+1))","v":""},{"$f":"IF($L9=\"\",\"\",INDIRECT(\"男子部員名簿!$C\"&$L9+1))","v":""},{"$f":"IF($L9=\"\",\"\",INDIRECT(\"男子部員名簿!$I\"&$L9+1))","v":""},null,null,null,null,"〇"]
[null,{"$f":"IF($L10=\"\",\"\",INDIRECT(\"男子部員名簿!$E\"&$L10+1))","v":""},{"$f":"IF($L10=\"\",\"\",INDIRECT(\"男子部員名簿!$F\"&$L10+1))","v":""},{"$f":"IF($L10=\"\",\"\",INDIRECT(\"男子部員名簿!$C\"&$L10+1))","v":""},{"$f":"IF($L10=\"\",\"\",INDIRECT(\"男子部員名簿!$I\"&$L10+1))","v":""}]
[2,"","","",""]
[null,"","","",""]
[3,"","","",""]
[null,"","","",""]
[4,"","","",""]
[null,"","","",""]
[5,"","","",""]
[null,"","","",""]
[6,"","","",""]
[null,"","","",""]
[7,"","","",""]
[null,"","","",""]
[8,"","","",""]
[null,"","","",""]
[9,"","","",""]
[null,"","","",""]
[10,"","","",""]
[null,"","","",""]
[{"$f":"設定情報!$B$1","v":"2022-04-01"}]
[]
["*個人戦シングルス"]
[{"$f":"設定情報!$B$5","v":"2022-12-13"}]
[]
["学校名",{"$f":"男子登録用紙!C5","v":""},null,null,null,null,null,null,"男"]
["校内順位","選手氏名",null,"学年","生年月日","新人戦成績",null,null,null,null,null,"部員名簿のNo欄の番号を入力してください。"]
[null,null,null,null,null,1,2,4,8,16,null,"↓"]
[1,{"$f":"IF($L37=\"\",\"\",INDIRECT(\"男子部員名簿!$E\"&$L37+1))","v":""},{"$f":"IF($L37=\"\",\"\",INDIRECT(\"男子部員名簿!$F\"&$L37+1))","v":""},{"$f":"IF($L37=\"\",\"\",INDIRECT(\"男子部員名簿!$C\"&$L37+1))","v":""},{"$f":"IF($L37=\"\",\"\",INDIRECT(\"男子部員名簿!$I\"&$L37+1))","v":""}]
[2,"","","",""]
[3,"","","",""]
[4,"","","",""]
[5,"","","",""]
[6,"","","",""]
[7,"","","",""]
[8,"","","",""]
[9,"","","",""]
[10,"","","",""]
[11,"","","",""]
[12,"","","",""]
[13,"","","",""]
[14,"","","",""]
[15,"","","",""]
[16,"","","",""]
[17,"","","",""]
[18,"","","",""]
[19,"","","",""]
[20,{"$f":"IF($L56=\"\",\"\",INDIRECT(\"男子部員名簿!$E\"&$L56+1))","v":""},{"$f":"IF($L56=\"\",\"\",INDIRECT(\"男子部員名簿!$F\"&$L56+1))","v":""},{"$f":"IF($L56=\"\",\"\",INDIRECT(\"男子部員名簿!$C\"&$L56+1))","v":""},{"$f":"IF($L56=\"\",\"\",INDIRECT(\"男子部員名簿!$I\"&$L56+1))","v":""}]

{"sheet":"室内女子エントリー用紙","index":23,"n_rows":56,"n_cols":12,"rows_kept":56,"cut":false,"hidden":false,"merged":[[0,0,0,9],[5,8,5,9],[5,1,5,7],[34,5,34,9],[6,5,6,9],[28,0,28,9],[33,8,33,9],[34,0,35,0],[6,3,7,3],[6,4,7,4],[34,3,35,3],[6,0,7,0],[16,0,17,0],[18,0,19,0],[12,0,13,0],[14,0,15,0],[34,1,35,2],[33,1,33,7],[34,4,35,4],[20,0,21,0],[22,0,23,0],[3,0,3,9],[31,0,31,9],[26,0,27,0],[24,0,25,0],[6,1,7,2],[8,0,9,0],[10,0,11,0]]}
[{"$f":"設定情報!$B$1","v":"2022-04-01"}]
[]
["*個人戦ダブルス"]
[{"$f":"設定情報!$B$5","v":"2022-12-13"}]
[]
["学校名",{"$f":"男子登録用紙!C5","v":""},null,null,null,null,null,null,"女"]
["校内順位","選手氏名",null,"学年","生年月日","新人戦成績",null,null,null,null,null,"部員名簿のNo欄の番号を入力してください。"]
[null,null,null,null,null,1,2,4,8,16,null,"↓"]
[1,{"$f":"IF($L9=\"\",\"\",INDIRECT(\"女子部員名簿!$E\"&$L9+1))","v":""},{"$f":"IF($L9=\"\",\"\",INDIRECT(\"女子部員名簿!$F\"&$L9+1))","v":""},{"$f":"IF($L9=\"\",\"\",INDIRECT(\"女子部員名簿!$C\"&$L9+1))","v":""},{"$f":"IF($L9=\"\",\"\",INDIRECT(\"女子部員名簿!$I\"&$L9+1))","v":""}]
[null,{"$f":"IF($L10=\"\",\"\",INDIRECT(\"女子部員名簿!$E\"&$L10+1))","v":""},{"$f":"IF($L10=\"\",\"\",INDIRECT(\"女子部員名簿!$F\"&$L10+1))","v":""},{"$f":"IF($L10=\"\",\"\",INDIRECT(\"女子部員名簿!$C\"&$L10+1))","v":""},{"$f":"IF($L10=\"\",\"\",INDIRECT(\"女子部員名簿!$I\"&$L10+1))","v":""}]
[2,"","","",""]
[null,"","","",""]
[3,"","","",""]
[null,"","","",""]
[4,"","","",""]
[null,"","","",""]
[5,"","","",""]
[null,"","","",""]
[6,"","","",""]
[null,"","","",""]
[7,"","","",""]
[null,"","","",""]
[8,"","","",""]
[null,"","","",""]
[9,"","","",""]
[null,"","","",""]
[10,"","","",""]
[null,"","","",""]
[{"$f":"設定情報!$B$1","v":"2022-04-01"}]
[]
["*個人戦シングルス"]
[{"$f":"設定情報!$B$5","v":"2022-12-13"}]
[]
["学校名",{"$f":"女子登録用紙!C5","v":""},null,null,null,null,null,null,"女"]
["校内順位","選手氏名",null,"学年","生年月日","新人戦成績",null,null,null,null,null,"部員名簿のNo欄の番号を入力してください。"]
[null,null,null,null,null,1,2,4,8,16,null,"↓"]
[1,{"$f":"IF($L37=\"\",\"\",INDIRECT(\"女子部員名簿!$E\"&$L37+1))","v":""},{"$f":"IF($L37=\"\",\"\",INDIRECT(\"女子部員名簿!$F\"&$L37+1))","v":""},{"$f":"IF($L37=\"\",\"\",INDIRECT(\"女子部員名簿!$C\"&$L37+1))","v":""},{"$f":"IF($L37=\"\",\"\",INDIRECT(\"女子部員名簿!$I\"&$L37+1))","v":""}]
[2,"","","",""]
[3,"","","",""]
[4,"","","",""]
[5,"","","",""]
[6,"","","",""]
[7,"","","",""]
[8,"","","",""]
[9,"","","",""]
[10,"","","",""]
[11,"","","",""]
[12,"","","",""]
[13,"","","",""]
[14,"","","",""]
[15,"","","",""]
[16,"","","",""]
[17,"","","",""]
[18,"","","",""]
[19,"","","",""]
[20,"","","",""]